BEGIN:VCALENDAR
VERSION:2.0
PRODID:-//Christian Worship Center Church - ECPv6.15.20//NONSGML v1.0//EN
CALSCALE:GREGORIAN
METHOD:PUBLISH
X-ORIGINAL-URL:https://www.cwclife.com
X-WR-CALDESC:Events for Christian Worship Center Church
REFRESH-INTERVAL;VALUE=DURATION:PT1H
X-Robots-Tag:noindex
X-PUBLISHED-TTL:PT1H
BEGIN:VTIMEZONE
TZID:America/Chicago
BEGIN:DAYLIGHT
TZOFFSETFROM:-0600
TZOFFSETTO:-0500
TZNAME:CDT
DTSTART:20240310T080000
END:DAYLIGHT
BEGIN:STANDARD
TZOFFSETFROM:-0500
TZOFFSETTO:-0600
TZNAME:CST
DTSTART:20241103T070000
END:STANDARD
BEGIN:DAYLIGHT
TZOFFSETFROM:-0600
TZOFFSETTO:-0500
TZNAME:CDT
DTSTART:20250309T080000
END:DAYLIGHT
BEGIN:STANDARD
TZOFFSETFROM:-0500
TZOFFSETTO:-0600
TZNAME:CST
DTSTART:20251102T070000
END:STANDARD
BEGIN:DAYLIGHT
TZOFFSETFROM:-0600
TZOFFSETTO:-0500
TZNAME:CDT
DTSTART:20260308T080000
END:DAYLIGHT
BEGIN:STANDARD
TZOFFSETFROM:-0500
TZOFFSETTO:-0600
TZNAME:CST
DTSTART:20261101T070000
END:STANDARD
BEGIN:DAYLIGHT
TZOFFSETFROM:-0600
TZOFFSETTO:-0500
TZNAME:CDT
DTSTART:20270314T080000
END:DAYLIGHT
BEGIN:STANDARD
TZOFFSETFROM:-0500
TZOFFSETTO:-0600
TZNAME:CST
DTSTART:20271107T070000
END:STANDARD
END:VTIMEZONE
BEGIN:VEVENT
DTSTART;TZID=America/Chicago:20260417T190000
DTEND;TZID=America/Chicago:20260417T200000
DTSTAMP:20260420T061942
CREATED:20250522T202905Z
LAST-MODIFIED:20260106T020459Z
UID:10001707-1776452400-1776456000@www.cwclife.com
SUMMARY:Youth Group
DESCRIPTION:
URL:https://www.cwclife.com/event/youth-group/2026-04-17/
LOCATION:Christian Worship Center\, 201 W 22nd St.\, Lombard\, IL\, IL\, 60148\, United States
ATTACH;FMTTYPE=image/png:https://www.cwclife.com/wp-content/uploads/2025/05/YTH-Slide-V2.png
END:VEVENT
BEGIN:VEVENT
DTSTART;TZID=America/Chicago:20260410T190000
DTEND;TZID=America/Chicago:20260410T200000
DTSTAMP:20260420T061942
CREATED:20250522T202905Z
LAST-MODIFIED:20260106T020459Z
UID:10001706-1775847600-1775851200@www.cwclife.com
SUMMARY:Youth Group
DESCRIPTION:
URL:https://www.cwclife.com/event/youth-group/2026-04-10/
LOCATION:Christian Worship Center\, 201 W 22nd St.\, Lombard\, IL\, IL\, 60148\, United States
ATTACH;FMTTYPE=image/png:https://www.cwclife.com/wp-content/uploads/2025/05/YTH-Slide-V2.png
END:VEVENT
BEGIN:VEVENT
DTSTART;TZID=America/Chicago:20260403T190000
DTEND;TZID=America/Chicago:20260403T200000
DTSTAMP:20260420T061942
CREATED:20250522T202905Z
LAST-MODIFIED:20260106T020459Z
UID:10001705-1775242800-1775246400@www.cwclife.com
SUMMARY:Youth Group
DESCRIPTION:
URL:https://www.cwclife.com/event/youth-group/2026-04-03/
LOCATION:Christian Worship Center\, 201 W 22nd St.\, Lombard\, IL\, IL\, 60148\, United States
ATTACH;FMTTYPE=image/png:https://www.cwclife.com/wp-content/uploads/2025/05/YTH-Slide-V2.png
END:VEVENT
BEGIN:VEVENT
DTSTART;TZID=America/Chicago:20260327T190000
DTEND;TZID=America/Chicago:20260327T200000
DTSTAMP:20260420T061942
CREATED:20250522T202905Z
LAST-MODIFIED:20260106T020459Z
UID:10001704-1774638000-1774641600@www.cwclife.com
SUMMARY:Youth Group
DESCRIPTION:
URL:https://www.cwclife.com/event/youth-group/2026-03-27/
LOCATION:Christian Worship Center\, 201 W 22nd St.\, Lombard\, IL\, IL\, 60148\, United States
ATTACH;FMTTYPE=image/png:https://www.cwclife.com/wp-content/uploads/2025/05/YTH-Slide-V2.png
END:VEVENT
BEGIN:VEVENT
DTSTART;TZID=America/Chicago:20260320T190000
DTEND;TZID=America/Chicago:20260320T200000
DTSTAMP:20260420T061942
CREATED:20250522T202905Z
LAST-MODIFIED:20260106T020459Z
UID:10001703-1774033200-1774036800@www.cwclife.com
SUMMARY:Youth Group
DESCRIPTION:
URL:https://www.cwclife.com/event/youth-group/2026-03-20/
LOCATION:Christian Worship Center\, 201 W 22nd St.\, Lombard\, IL\, IL\, 60148\, United States
ATTACH;FMTTYPE=image/png:https://www.cwclife.com/wp-content/uploads/2025/05/YTH-Slide-V2.png
END:VEVENT
BEGIN:VEVENT
DTSTART;TZID=America/Chicago:20260313T190000
DTEND;TZID=America/Chicago:20260313T200000
DTSTAMP:20260420T061942
CREATED:20250522T202905Z
LAST-MODIFIED:20260106T020459Z
UID:10001702-1773428400-1773432000@www.cwclife.com
SUMMARY:Youth Group
DESCRIPTION:
URL:https://www.cwclife.com/event/youth-group/2026-03-13/
LOCATION:Christian Worship Center\, 201 W 22nd St.\, Lombard\, IL\, IL\, 60148\, United States
ATTACH;FMTTYPE=image/png:https://www.cwclife.com/wp-content/uploads/2025/05/YTH-Slide-V2.png
END:VEVENT
BEGIN:VEVENT
DTSTART;TZID=America/Chicago:20260306T190000
DTEND;TZID=America/Chicago:20260306T200000
DTSTAMP:20260420T061942
CREATED:20250522T202905Z
LAST-MODIFIED:20260106T020459Z
UID:10001701-1772823600-1772827200@www.cwclife.com
SUMMARY:Youth Group
DESCRIPTION:
URL:https://www.cwclife.com/event/youth-group/2026-03-06/
LOCATION:Christian Worship Center\, 201 W 22nd St.\, Lombard\, IL\, IL\, 60148\, United States
ATTACH;FMTTYPE=image/png:https://www.cwclife.com/wp-content/uploads/2025/05/YTH-Slide-V2.png
END:VEVENT
BEGIN:VEVENT
DTSTART;TZID=America/Chicago:20260227T190000
DTEND;TZID=America/Chicago:20260227T200000
DTSTAMP:20260420T061942
CREATED:20250522T202905Z
LAST-MODIFIED:20260106T020459Z
UID:10001700-1772218800-1772222400@www.cwclife.com
SUMMARY:Youth Group
DESCRIPTION:
URL:https://www.cwclife.com/event/youth-group/2026-02-27/
LOCATION:Christian Worship Center\, 201 W 22nd St.\, Lombard\, IL\, IL\, 60148\, United States
ATTACH;FMTTYPE=image/png:https://www.cwclife.com/wp-content/uploads/2025/05/YTH-Slide-V2.png
END:VEVENT
BEGIN:VEVENT
DTSTART;TZID=America/Chicago:20260220T190000
DTEND;TZID=America/Chicago:20260220T200000
DTSTAMP:20260420T061942
CREATED:20250522T202905Z
LAST-MODIFIED:20260106T020459Z
UID:10001699-1771614000-1771617600@www.cwclife.com
SUMMARY:Youth Group
DESCRIPTION:
URL:https://www.cwclife.com/event/youth-group/2026-02-20/
LOCATION:Christian Worship Center\, 201 W 22nd St.\, Lombard\, IL\, IL\, 60148\, United States
ATTACH;FMTTYPE=image/png:https://www.cwclife.com/wp-content/uploads/2025/05/YTH-Slide-V2.png
END:VEVENT
BEGIN:VEVENT
DTSTART;TZID=America/Chicago:20260213T190000
DTEND;TZID=America/Chicago:20260213T200000
DTSTAMP:20260420T061942
CREATED:20250522T202905Z
LAST-MODIFIED:20260106T020459Z
UID:10001698-1771009200-1771012800@www.cwclife.com
SUMMARY:Youth Group
DESCRIPTION:
URL:https://www.cwclife.com/event/youth-group/2026-02-13/
LOCATION:Christian Worship Center\, 201 W 22nd St.\, Lombard\, IL\, IL\, 60148\, United States
ATTACH;FMTTYPE=image/png:https://www.cwclife.com/wp-content/uploads/2025/05/YTH-Slide-V2.png
END:VEVENT
BEGIN:VEVENT
DTSTART;TZID=America/Chicago:20260206T190000
DTEND;TZID=America/Chicago:20260206T200000
DTSTAMP:20260420T061942
CREATED:20250522T202905Z
LAST-MODIFIED:20260106T020459Z
UID:10001697-1770404400-1770408000@www.cwclife.com
SUMMARY:Youth Group
DESCRIPTION:
URL:https://www.cwclife.com/event/youth-group/2026-02-06/
LOCATION:Christian Worship Center\, 201 W 22nd St.\, Lombard\, IL\, IL\, 60148\, United States
ATTACH;FMTTYPE=image/png:https://www.cwclife.com/wp-content/uploads/2025/05/YTH-Slide-V2.png
END:VEVENT
BEGIN:VEVENT
DTSTART;TZID=America/Chicago:20260130T190000
DTEND;TZID=America/Chicago:20260130T200000
DTSTAMP:20260420T061942
CREATED:20250522T202905Z
LAST-MODIFIED:20260106T020459Z
UID:10001696-1769799600-1769803200@www.cwclife.com
SUMMARY:Youth Group
DESCRIPTION:
URL:https://www.cwclife.com/event/youth-group/2026-01-30/
LOCATION:Christian Worship Center\, 201 W 22nd St.\, Lombard\, IL\, IL\, 60148\, United States
ATTACH;FMTTYPE=image/png:https://www.cwclife.com/wp-content/uploads/2025/05/YTH-Slide-V2.png
END:VEVENT
BEGIN:VEVENT
DTSTART;TZID=America/Chicago:20260123T190000
DTEND;TZID=America/Chicago:20260123T200000
DTSTAMP:20260420T061942
CREATED:20250522T202905Z
LAST-MODIFIED:20260106T020459Z
UID:10001695-1769194800-1769198400@www.cwclife.com
SUMMARY:Youth Group
DESCRIPTION:
URL:https://www.cwclife.com/event/youth-group/2026-01-23/
LOCATION:Christian Worship Center\, 201 W 22nd St.\, Lombard\, IL\, IL\, 60148\, United States
ATTACH;FMTTYPE=image/png:https://www.cwclife.com/wp-content/uploads/2025/05/YTH-Slide-V2.png
END:VEVENT
BEGIN:VEVENT
DTSTART;TZID=America/Chicago:20260116T190000
DTEND;TZID=America/Chicago:20260116T200000
DTSTAMP:20260420T061942
CREATED:20250522T202905Z
LAST-MODIFIED:20260106T020459Z
UID:10001694-1768590000-1768593600@www.cwclife.com
SUMMARY:Youth Group
DESCRIPTION:
URL:https://www.cwclife.com/event/youth-group/2026-01-16/
LOCATION:Christian Worship Center\, 201 W 22nd St.\, Lombard\, IL\, IL\, 60148\, United States
ATTACH;FMTTYPE=image/png:https://www.cwclife.com/wp-content/uploads/2025/05/YTH-Slide-V2.png
END:VEVENT
BEGIN:VEVENT
DTSTART;TZID=America/Chicago:20260102T190000
DTEND;TZID=America/Chicago:20260102T200000
DTSTAMP:20260420T061942
CREATED:20250522T202905Z
LAST-MODIFIED:20260106T020459Z
UID:10001693-1767380400-1767384000@www.cwclife.com
SUMMARY:Youth Group
DESCRIPTION:
URL:https://www.cwclife.com/event/youth-group/2026-01-02/
LOCATION:Christian Worship Center\, 201 W 22nd St.\, Lombard\, IL\, IL\, 60148\, United States
ATTACH;FMTTYPE=image/png:https://www.cwclife.com/wp-content/uploads/2025/05/YTH-Slide-V2.png
END:VEVENT
BEGIN:VEVENT
DTSTART;TZID=America/Chicago:20251226T190000
DTEND;TZID=America/Chicago:20251226T200000
DTSTAMP:20260420T061942
CREATED:20250522T202905Z
LAST-MODIFIED:20260106T020459Z
UID:10001692-1766775600-1766779200@www.cwclife.com
SUMMARY:Youth Group
DESCRIPTION:
URL:https://www.cwclife.com/event/youth-group/2025-12-26/
LOCATION:Christian Worship Center\, 201 W 22nd St.\, Lombard\, IL\, IL\, 60148\, United States
ATTACH;FMTTYPE=image/png:https://www.cwclife.com/wp-content/uploads/2025/05/YTH-Slide-V2.png
END:VEVENT
BEGIN:VEVENT
DTSTART;TZID=America/Chicago:20251219T190000
DTEND;TZID=America/Chicago:20251219T200000
DTSTAMP:20260420T061942
CREATED:20250522T202905Z
LAST-MODIFIED:20260106T020459Z
UID:10001691-1766170800-1766174400@www.cwclife.com
SUMMARY:Youth Group
DESCRIPTION:
URL:https://www.cwclife.com/event/youth-group/2025-12-19/
LOCATION:Christian Worship Center\, 201 W 22nd St.\, Lombard\, IL\, IL\, 60148\, United States
ATTACH;FMTTYPE=image/png:https://www.cwclife.com/wp-content/uploads/2025/05/YTH-Slide-V2.png
END:VEVENT
BEGIN:VEVENT
DTSTART;TZID=America/Chicago:20251212T190000
DTEND;TZID=America/Chicago:20251212T200000
DTSTAMP:20260420T061942
CREATED:20250522T202905Z
LAST-MODIFIED:20260106T020459Z
UID:10000570-1765566000-1765569600@www.cwclife.com
SUMMARY:Youth Group
DESCRIPTION:
URL:https://www.cwclife.com/event/youth-group/2025-12-12/
LOCATION:Christian Worship Center\, 201 W 22nd St.\, Lombard\, IL\, IL\, 60148\, United States
ATTACH;FMTTYPE=image/png:https://www.cwclife.com/wp-content/uploads/2025/05/YTH-Slide-V2.png
END:VEVENT
BEGIN:VEVENT
DTSTART;TZID=America/Chicago:20251205T190000
DTEND;TZID=America/Chicago:20251205T200000
DTSTAMP:20260420T061942
CREATED:20250522T202905Z
LAST-MODIFIED:20260106T020459Z
UID:10000569-1764961200-1764964800@www.cwclife.com
SUMMARY:Youth Group
DESCRIPTION:
URL:https://www.cwclife.com/event/youth-group/2025-12-05/
LOCATION:Christian Worship Center\, 201 W 22nd St.\, Lombard\, IL\, IL\, 60148\, United States
ATTACH;FMTTYPE=image/png:https://www.cwclife.com/wp-content/uploads/2025/05/YTH-Slide-V2.png
END:VEVENT
BEGIN:VEVENT
DTSTART;TZID=America/Chicago:20251128T190000
DTEND;TZID=America/Chicago:20251128T200000
DTSTAMP:20260420T061942
CREATED:20250522T202905Z
LAST-MODIFIED:20260106T020459Z
UID:10000568-1764356400-1764360000@www.cwclife.com
SUMMARY:Youth Group
DESCRIPTION:
URL:https://www.cwclife.com/event/youth-group/2025-11-28/
LOCATION:Christian Worship Center\, 201 W 22nd St.\, Lombard\, IL\, IL\, 60148\, United States
ATTACH;FMTTYPE=image/png:https://www.cwclife.com/wp-content/uploads/2025/05/YTH-Slide-V2.png
END:VEVENT
BEGIN:VEVENT
DTSTART;TZID=America/Chicago:20251121T190000
DTEND;TZID=America/Chicago:20251121T200000
DTSTAMP:20260420T061942
CREATED:20250522T202905Z
LAST-MODIFIED:20260106T020459Z
UID:10000567-1763751600-1763755200@www.cwclife.com
SUMMARY:Youth Group
DESCRIPTION:
URL:https://www.cwclife.com/event/youth-group/2025-11-21/
LOCATION:Christian Worship Center\, 201 W 22nd St.\, Lombard\, IL\, IL\, 60148\, United States
ATTACH;FMTTYPE=image/png:https://www.cwclife.com/wp-content/uploads/2025/05/YTH-Slide-V2.png
END:VEVENT
BEGIN:VEVENT
DTSTART;TZID=America/Chicago:20251114T190000
DTEND;TZID=America/Chicago:20251114T200000
DTSTAMP:20260420T061942
CREATED:20250522T202905Z
LAST-MODIFIED:20260106T020459Z
UID:10000566-1763146800-1763150400@www.cwclife.com
SUMMARY:Youth Group
DESCRIPTION:
URL:https://www.cwclife.com/event/youth-group/2025-11-14/
LOCATION:Christian Worship Center\, 201 W 22nd St.\, Lombard\, IL\, IL\, 60148\, United States
ATTACH;FMTTYPE=image/png:https://www.cwclife.com/wp-content/uploads/2025/05/YTH-Slide-V2.png
END:VEVENT
BEGIN:VEVENT
DTSTART;TZID=America/Chicago:20251107T190000
DTEND;TZID=America/Chicago:20251107T200000
DTSTAMP:20260420T061942
CREATED:20250522T202905Z
LAST-MODIFIED:20260106T020459Z
UID:10000565-1762542000-1762545600@www.cwclife.com
SUMMARY:Youth Group
DESCRIPTION:
URL:https://www.cwclife.com/event/youth-group/2025-11-07/
LOCATION:Christian Worship Center\, 201 W 22nd St.\, Lombard\, IL\, IL\, 60148\, United States
ATTACH;FMTTYPE=image/png:https://www.cwclife.com/wp-content/uploads/2025/05/YTH-Slide-V2.png
END:VEVENT
BEGIN:VEVENT
DTSTART;TZID=America/Chicago:20251031T190000
DTEND;TZID=America/Chicago:20251031T200000
DTSTAMP:20260420T061942
CREATED:20250522T202905Z
LAST-MODIFIED:20260106T020459Z
UID:10000564-1761937200-1761940800@www.cwclife.com
SUMMARY:Youth Group
DESCRIPTION:
URL:https://www.cwclife.com/event/youth-group/2025-10-31/
LOCATION:Christian Worship Center\, 201 W 22nd St.\, Lombard\, IL\, IL\, 60148\, United States
ATTACH;FMTTYPE=image/png:https://www.cwclife.com/wp-content/uploads/2025/05/YTH-Slide-V2.png
END:VEVENT
BEGIN:VEVENT
DTSTART;TZID=America/Chicago:20251024T190000
DTEND;TZID=America/Chicago:20251024T200000
DTSTAMP:20260420T061942
CREATED:20250522T202905Z
LAST-MODIFIED:20260106T020459Z
UID:10000563-1761332400-1761336000@www.cwclife.com
SUMMARY:Youth Group
DESCRIPTION:
URL:https://www.cwclife.com/event/youth-group/2025-10-24/
LOCATION:Christian Worship Center\, 201 W 22nd St.\, Lombard\, IL\, IL\, 60148\, United States
ATTACH;FMTTYPE=image/png:https://www.cwclife.com/wp-content/uploads/2025/05/YTH-Slide-V2.png
END:VEVENT
BEGIN:VEVENT
DTSTART;TZID=America/Chicago:20251017T190000
DTEND;TZID=America/Chicago:20251017T200000
DTSTAMP:20260420T061942
CREATED:20250522T202905Z
LAST-MODIFIED:20260106T020459Z
UID:10000562-1760727600-1760731200@www.cwclife.com
SUMMARY:Youth Group
DESCRIPTION:
URL:https://www.cwclife.com/event/youth-group/2025-10-17/
LOCATION:Christian Worship Center\, 201 W 22nd St.\, Lombard\, IL\, IL\, 60148\, United States
ATTACH;FMTTYPE=image/png:https://www.cwclife.com/wp-content/uploads/2025/05/YTH-Slide-V2.png
END:VEVENT
BEGIN:VEVENT
DTSTART;TZID=America/Chicago:20251010T190000
DTEND;TZID=America/Chicago:20251010T200000
DTSTAMP:20260420T061942
CREATED:20250522T202905Z
LAST-MODIFIED:20260106T020459Z
UID:10000561-1760122800-1760126400@www.cwclife.com
SUMMARY:Youth Group
DESCRIPTION:
URL:https://www.cwclife.com/event/youth-group/2025-10-10/
LOCATION:Christian Worship Center\, 201 W 22nd St.\, Lombard\, IL\, IL\, 60148\, United States
ATTACH;FMTTYPE=image/png:https://www.cwclife.com/wp-content/uploads/2025/05/YTH-Slide-V2.png
END:VEVENT
BEGIN:VEVENT
DTSTART;TZID=America/Chicago:20251003T190000
DTEND;TZID=America/Chicago:20251003T200000
DTSTAMP:20260420T061942
CREATED:20250522T202905Z
LAST-MODIFIED:20260106T020459Z
UID:10000560-1759518000-1759521600@www.cwclife.com
SUMMARY:Youth Group
DESCRIPTION:
URL:https://www.cwclife.com/event/youth-group/2025-10-03/
LOCATION:Christian Worship Center\, 201 W 22nd St.\, Lombard\, IL\, IL\, 60148\, United States
ATTACH;FMTTYPE=image/png:https://www.cwclife.com/wp-content/uploads/2025/05/YTH-Slide-V2.png
END:VEVENT
BEGIN:VEVENT
DTSTART;TZID=America/Chicago:20250926T190000
DTEND;TZID=America/Chicago:20250926T200000
DTSTAMP:20260420T061942
CREATED:20250522T202905Z
LAST-MODIFIED:20260106T020459Z
UID:10000559-1758913200-1758916800@www.cwclife.com
SUMMARY:Youth Group
DESCRIPTION:
URL:https://www.cwclife.com/event/youth-group/2025-09-26/
LOCATION:Christian Worship Center\, 201 W 22nd St.\, Lombard\, IL\, IL\, 60148\, United States
ATTACH;FMTTYPE=image/png:https://www.cwclife.com/wp-content/uploads/2025/05/YTH-Slide-V2.png
END:VEVENT
BEGIN:VEVENT
DTSTART;TZID=America/Chicago:20250919T190000
DTEND;TZID=America/Chicago:20250919T200000
DTSTAMP:20260420T061942
CREATED:20250522T202905Z
LAST-MODIFIED:20260106T020459Z
UID:10000558-1758308400-1758312000@www.cwclife.com
SUMMARY:Youth Group
DESCRIPTION:
URL:https://www.cwclife.com/event/youth-group/2025-09-19/
LOCATION:Christian Worship Center\, 201 W 22nd St.\, Lombard\, IL\, IL\, 60148\, United States
ATTACH;FMTTYPE=image/png:https://www.cwclife.com/wp-content/uploads/2025/05/YTH-Slide-V2.png
END:VEVENT
END:VCALENDAR