BEGIN:VCALENDAR
VERSION:2.0
PRODID:-//Christian Worship Center Church - ECPv6.15.20//NONSGML v1.0//EN
CALSCALE:GREGORIAN
METHOD:PUBLISH
X-ORIGINAL-URL:https://www.cwclife.com
X-WR-CALDESC:Events for Christian Worship Center Church
REFRESH-INTERVAL;VALUE=DURATION:PT1H
X-Robots-Tag:noindex
X-PUBLISHED-TTL:PT1H
BEGIN:VTIMEZONE
TZID:America/Chicago
BEGIN:DAYLIGHT
TZOFFSETFROM:-0600
TZOFFSETTO:-0500
TZNAME:CDT
DTSTART:20280312T080000
END:DAYLIGHT
BEGIN:STANDARD
TZOFFSETFROM:-0500
TZOFFSETTO:-0600
TZNAME:CST
DTSTART:20281105T070000
END:STANDARD
BEGIN:DAYLIGHT
TZOFFSETFROM:-0600
TZOFFSETTO:-0500
TZNAME:CDT
DTSTART:20290311T080000
END:DAYLIGHT
BEGIN:STANDARD
TZOFFSETFROM:-0500
TZOFFSETTO:-0600
TZNAME:CST
DTSTART:20291104T070000
END:STANDARD
BEGIN:DAYLIGHT
TZOFFSETFROM:-0600
TZOFFSETTO:-0500
TZNAME:CDT
DTSTART:20300310T080000
END:DAYLIGHT
BEGIN:STANDARD
TZOFFSETFROM:-0500
TZOFFSETTO:-0600
TZNAME:CST
DTSTART:20301103T070000
END:STANDARD
END:VTIMEZONE
BEGIN:VEVENT
DTSTART;TZID=America/Chicago:20290126T190000
DTEND;TZID=America/Chicago:20290126T200000
DTSTAMP:20260421T003806
CREATED:20250522T202905Z
LAST-MODIFIED:20260106T020459Z
UID:10001852-1864148400-1864152000@www.cwclife.com
SUMMARY:Youth Group
DESCRIPTION:
URL:https://www.cwclife.com/event/youth-group/2029-01-26/
LOCATION:Christian Worship Center\, 201 W 22nd St.\, Lombard\, IL\, IL\, 60148\, United States
ATTACH;FMTTYPE=image/png:https://www.cwclife.com/wp-content/uploads/2025/05/YTH-Slide-V2.png
END:VEVENT
BEGIN:VEVENT
DTSTART;TZID=America/Chicago:20290202T190000
DTEND;TZID=America/Chicago:20290202T200000
DTSTAMP:20260421T003806
CREATED:20250522T202905Z
LAST-MODIFIED:20260106T020459Z
UID:10001853-1864753200-1864756800@www.cwclife.com
SUMMARY:Youth Group
DESCRIPTION:
URL:https://www.cwclife.com/event/youth-group/2029-02-02/
LOCATION:Christian Worship Center\, 201 W 22nd St.\, Lombard\, IL\, IL\, 60148\, United States
ATTACH;FMTTYPE=image/png:https://www.cwclife.com/wp-content/uploads/2025/05/YTH-Slide-V2.png
END:VEVENT
BEGIN:VEVENT
DTSTART;TZID=America/Chicago:20290209T190000
DTEND;TZID=America/Chicago:20290209T200000
DTSTAMP:20260421T003806
CREATED:20250522T202905Z
LAST-MODIFIED:20260106T020459Z
UID:10001854-1865358000-1865361600@www.cwclife.com
SUMMARY:Youth Group
DESCRIPTION:
URL:https://www.cwclife.com/event/youth-group/2029-02-09/
LOCATION:Christian Worship Center\, 201 W 22nd St.\, Lombard\, IL\, IL\, 60148\, United States
ATTACH;FMTTYPE=image/png:https://www.cwclife.com/wp-content/uploads/2025/05/YTH-Slide-V2.png
END:VEVENT
BEGIN:VEVENT
DTSTART;TZID=America/Chicago:20290216T190000
DTEND;TZID=America/Chicago:20290216T200000
DTSTAMP:20260421T003806
CREATED:20250522T202905Z
LAST-MODIFIED:20260106T020459Z
UID:10001855-1865962800-1865966400@www.cwclife.com
SUMMARY:Youth Group
DESCRIPTION:
URL:https://www.cwclife.com/event/youth-group/2029-02-16/
LOCATION:Christian Worship Center\, 201 W 22nd St.\, Lombard\, IL\, IL\, 60148\, United States
ATTACH;FMTTYPE=image/png:https://www.cwclife.com/wp-content/uploads/2025/05/YTH-Slide-V2.png
END:VEVENT
BEGIN:VEVENT
DTSTART;TZID=America/Chicago:20290223T190000
DTEND;TZID=America/Chicago:20290223T200000
DTSTAMP:20260421T003806
CREATED:20250522T202905Z
LAST-MODIFIED:20260106T020459Z
UID:10001856-1866567600-1866571200@www.cwclife.com
SUMMARY:Youth Group
DESCRIPTION:
URL:https://www.cwclife.com/event/youth-group/2029-02-23/
LOCATION:Christian Worship Center\, 201 W 22nd St.\, Lombard\, IL\, IL\, 60148\, United States
ATTACH;FMTTYPE=image/png:https://www.cwclife.com/wp-content/uploads/2025/05/YTH-Slide-V2.png
END:VEVENT
BEGIN:VEVENT
DTSTART;TZID=America/Chicago:20290302T190000
DTEND;TZID=America/Chicago:20290302T200000
DTSTAMP:20260421T003806
CREATED:20250522T202905Z
LAST-MODIFIED:20260106T020459Z
UID:10001857-1867172400-1867176000@www.cwclife.com
SUMMARY:Youth Group
DESCRIPTION:
URL:https://www.cwclife.com/event/youth-group/2029-03-02/
LOCATION:Christian Worship Center\, 201 W 22nd St.\, Lombard\, IL\, IL\, 60148\, United States
ATTACH;FMTTYPE=image/png:https://www.cwclife.com/wp-content/uploads/2025/05/YTH-Slide-V2.png
END:VEVENT
BEGIN:VEVENT
DTSTART;TZID=America/Chicago:20290309T190000
DTEND;TZID=America/Chicago:20290309T200000
DTSTAMP:20260421T003806
CREATED:20250522T202905Z
LAST-MODIFIED:20260106T020459Z
UID:10001858-1867777200-1867780800@www.cwclife.com
SUMMARY:Youth Group
DESCRIPTION:
URL:https://www.cwclife.com/event/youth-group/2029-03-09/
LOCATION:Christian Worship Center\, 201 W 22nd St.\, Lombard\, IL\, IL\, 60148\, United States
ATTACH;FMTTYPE=image/png:https://www.cwclife.com/wp-content/uploads/2025/05/YTH-Slide-V2.png
END:VEVENT
BEGIN:VEVENT
DTSTART;TZID=America/Chicago:20290316T190000
DTEND;TZID=America/Chicago:20290316T200000
DTSTAMP:20260421T003806
CREATED:20250522T202905Z
LAST-MODIFIED:20260106T020459Z
UID:10001859-1868382000-1868385600@www.cwclife.com
SUMMARY:Youth Group
DESCRIPTION:
URL:https://www.cwclife.com/event/youth-group/2029-03-16/
LOCATION:Christian Worship Center\, 201 W 22nd St.\, Lombard\, IL\, IL\, 60148\, United States
ATTACH;FMTTYPE=image/png:https://www.cwclife.com/wp-content/uploads/2025/05/YTH-Slide-V2.png
END:VEVENT
BEGIN:VEVENT
DTSTART;TZID=America/Chicago:20290323T190000
DTEND;TZID=America/Chicago:20290323T200000
DTSTAMP:20260421T003806
CREATED:20250522T202905Z
LAST-MODIFIED:20260106T020459Z
UID:10001860-1868986800-1868990400@www.cwclife.com
SUMMARY:Youth Group
DESCRIPTION:
URL:https://www.cwclife.com/event/youth-group/2029-03-23/
LOCATION:Christian Worship Center\, 201 W 22nd St.\, Lombard\, IL\, IL\, 60148\, United States
ATTACH;FMTTYPE=image/png:https://www.cwclife.com/wp-content/uploads/2025/05/YTH-Slide-V2.png
END:VEVENT
BEGIN:VEVENT
DTSTART;TZID=America/Chicago:20290330T190000
DTEND;TZID=America/Chicago:20290330T200000
DTSTAMP:20260421T003806
CREATED:20250522T202905Z
LAST-MODIFIED:20260106T020459Z
UID:10001861-1869591600-1869595200@www.cwclife.com
SUMMARY:Youth Group
DESCRIPTION:
URL:https://www.cwclife.com/event/youth-group/2029-03-30/
LOCATION:Christian Worship Center\, 201 W 22nd St.\, Lombard\, IL\, IL\, 60148\, United States
ATTACH;FMTTYPE=image/png:https://www.cwclife.com/wp-content/uploads/2025/05/YTH-Slide-V2.png
END:VEVENT
BEGIN:VEVENT
DTSTART;TZID=America/Chicago:20290406T190000
DTEND;TZID=America/Chicago:20290406T200000
DTSTAMP:20260421T003806
CREATED:20250522T202905Z
LAST-MODIFIED:20260106T020459Z
UID:10001862-1870196400-1870200000@www.cwclife.com
SUMMARY:Youth Group
DESCRIPTION:
URL:https://www.cwclife.com/event/youth-group/2029-04-06/
LOCATION:Christian Worship Center\, 201 W 22nd St.\, Lombard\, IL\, IL\, 60148\, United States
ATTACH;FMTTYPE=image/png:https://www.cwclife.com/wp-content/uploads/2025/05/YTH-Slide-V2.png
END:VEVENT
BEGIN:VEVENT
DTSTART;TZID=America/Chicago:20290413T190000
DTEND;TZID=America/Chicago:20290413T200000
DTSTAMP:20260421T003806
CREATED:20250522T202905Z
LAST-MODIFIED:20260106T020459Z
UID:10001863-1870801200-1870804800@www.cwclife.com
SUMMARY:Youth Group
DESCRIPTION:
URL:https://www.cwclife.com/event/youth-group/2029-04-13/
LOCATION:Christian Worship Center\, 201 W 22nd St.\, Lombard\, IL\, IL\, 60148\, United States
ATTACH;FMTTYPE=image/png:https://www.cwclife.com/wp-content/uploads/2025/05/YTH-Slide-V2.png
END:VEVENT
BEGIN:VEVENT
DTSTART;TZID=America/Chicago:20290420T190000
DTEND;TZID=America/Chicago:20290420T200000
DTSTAMP:20260421T003806
CREATED:20250522T202905Z
LAST-MODIFIED:20260106T020459Z
UID:10001864-1871406000-1871409600@www.cwclife.com
SUMMARY:Youth Group
DESCRIPTION:
URL:https://www.cwclife.com/event/youth-group/2029-04-20/
LOCATION:Christian Worship Center\, 201 W 22nd St.\, Lombard\, IL\, IL\, 60148\, United States
ATTACH;FMTTYPE=image/png:https://www.cwclife.com/wp-content/uploads/2025/05/YTH-Slide-V2.png
END:VEVENT
BEGIN:VEVENT
DTSTART;TZID=America/Chicago:20290427T190000
DTEND;TZID=America/Chicago:20290427T200000
DTSTAMP:20260421T003806
CREATED:20250522T202905Z
LAST-MODIFIED:20260106T020459Z
UID:10001865-1872010800-1872014400@www.cwclife.com
SUMMARY:Youth Group
DESCRIPTION:
URL:https://www.cwclife.com/event/youth-group/2029-04-27/
LOCATION:Christian Worship Center\, 201 W 22nd St.\, Lombard\, IL\, IL\, 60148\, United States
ATTACH;FMTTYPE=image/png:https://www.cwclife.com/wp-content/uploads/2025/05/YTH-Slide-V2.png
END:VEVENT
BEGIN:VEVENT
DTSTART;TZID=America/Chicago:20290504T190000
DTEND;TZID=America/Chicago:20290504T200000
DTSTAMP:20260421T003806
CREATED:20250522T202905Z
LAST-MODIFIED:20260106T020459Z
UID:10001866-1872615600-1872619200@www.cwclife.com
SUMMARY:Youth Group
DESCRIPTION:
URL:https://www.cwclife.com/event/youth-group/2029-05-04/
LOCATION:Christian Worship Center\, 201 W 22nd St.\, Lombard\, IL\, IL\, 60148\, United States
ATTACH;FMTTYPE=image/png:https://www.cwclife.com/wp-content/uploads/2025/05/YTH-Slide-V2.png
END:VEVENT
BEGIN:VEVENT
DTSTART;TZID=America/Chicago:20290511T190000
DTEND;TZID=America/Chicago:20290511T200000
DTSTAMP:20260421T003806
CREATED:20250522T202905Z
LAST-MODIFIED:20260106T020459Z
UID:10001867-1873220400-1873224000@www.cwclife.com
SUMMARY:Youth Group
DESCRIPTION:
URL:https://www.cwclife.com/event/youth-group/2029-05-11/
LOCATION:Christian Worship Center\, 201 W 22nd St.\, Lombard\, IL\, IL\, 60148\, United States
ATTACH;FMTTYPE=image/png:https://www.cwclife.com/wp-content/uploads/2025/05/YTH-Slide-V2.png
END:VEVENT
BEGIN:VEVENT
DTSTART;TZID=America/Chicago:20290518T190000
DTEND;TZID=America/Chicago:20290518T200000
DTSTAMP:20260421T003806
CREATED:20250522T202905Z
LAST-MODIFIED:20260106T020459Z
UID:10001868-1873825200-1873828800@www.cwclife.com
SUMMARY:Youth Group
DESCRIPTION:
URL:https://www.cwclife.com/event/youth-group/2029-05-18/
LOCATION:Christian Worship Center\, 201 W 22nd St.\, Lombard\, IL\, IL\, 60148\, United States
ATTACH;FMTTYPE=image/png:https://www.cwclife.com/wp-content/uploads/2025/05/YTH-Slide-V2.png
END:VEVENT
BEGIN:VEVENT
DTSTART;TZID=America/Chicago:20290525T190000
DTEND;TZID=America/Chicago:20290525T200000
DTSTAMP:20260421T003806
CREATED:20250522T202905Z
LAST-MODIFIED:20260106T020459Z
UID:10001869-1874430000-1874433600@www.cwclife.com
SUMMARY:Youth Group
DESCRIPTION:
URL:https://www.cwclife.com/event/youth-group/2029-05-25/
LOCATION:Christian Worship Center\, 201 W 22nd St.\, Lombard\, IL\, IL\, 60148\, United States
ATTACH;FMTTYPE=image/png:https://www.cwclife.com/wp-content/uploads/2025/05/YTH-Slide-V2.png
END:VEVENT
BEGIN:VEVENT
DTSTART;TZID=America/Chicago:20290601T190000
DTEND;TZID=America/Chicago:20290601T200000
DTSTAMP:20260421T003806
CREATED:20250522T202905Z
LAST-MODIFIED:20260106T020459Z
UID:10001870-1875034800-1875038400@www.cwclife.com
SUMMARY:Youth Group
DESCRIPTION:
URL:https://www.cwclife.com/event/youth-group/2029-06-01/
LOCATION:Christian Worship Center\, 201 W 22nd St.\, Lombard\, IL\, IL\, 60148\, United States
ATTACH;FMTTYPE=image/png:https://www.cwclife.com/wp-content/uploads/2025/05/YTH-Slide-V2.png
END:VEVENT
BEGIN:VEVENT
DTSTART;TZID=America/Chicago:20290608T190000
DTEND;TZID=America/Chicago:20290608T200000
DTSTAMP:20260421T003806
CREATED:20250522T202905Z
LAST-MODIFIED:20260106T020459Z
UID:10001871-1875639600-1875643200@www.cwclife.com
SUMMARY:Youth Group
DESCRIPTION:
URL:https://www.cwclife.com/event/youth-group/2029-06-08/
LOCATION:Christian Worship Center\, 201 W 22nd St.\, Lombard\, IL\, IL\, 60148\, United States
ATTACH;FMTTYPE=image/png:https://www.cwclife.com/wp-content/uploads/2025/05/YTH-Slide-V2.png
END:VEVENT
BEGIN:VEVENT
DTSTART;TZID=America/Chicago:20290615T190000
DTEND;TZID=America/Chicago:20290615T200000
DTSTAMP:20260421T003806
CREATED:20250522T202905Z
LAST-MODIFIED:20260106T020459Z
UID:10001872-1876244400-1876248000@www.cwclife.com
SUMMARY:Youth Group
DESCRIPTION:
URL:https://www.cwclife.com/event/youth-group/2029-06-15/
LOCATION:Christian Worship Center\, 201 W 22nd St.\, Lombard\, IL\, IL\, 60148\, United States
ATTACH;FMTTYPE=image/png:https://www.cwclife.com/wp-content/uploads/2025/05/YTH-Slide-V2.png
END:VEVENT
BEGIN:VEVENT
DTSTART;TZID=America/Chicago:20290622T190000
DTEND;TZID=America/Chicago:20290622T200000
DTSTAMP:20260421T003806
CREATED:20250522T202905Z
LAST-MODIFIED:20260106T020459Z
UID:10001873-1876849200-1876852800@www.cwclife.com
SUMMARY:Youth Group
DESCRIPTION:
URL:https://www.cwclife.com/event/youth-group/2029-06-22/
LOCATION:Christian Worship Center\, 201 W 22nd St.\, Lombard\, IL\, IL\, 60148\, United States
ATTACH;FMTTYPE=image/png:https://www.cwclife.com/wp-content/uploads/2025/05/YTH-Slide-V2.png
END:VEVENT
BEGIN:VEVENT
DTSTART;TZID=America/Chicago:20290629T190000
DTEND;TZID=America/Chicago:20290629T200000
DTSTAMP:20260421T003806
CREATED:20250522T202905Z
LAST-MODIFIED:20260106T020459Z
UID:10001874-1877454000-1877457600@www.cwclife.com
SUMMARY:Youth Group
DESCRIPTION:
URL:https://www.cwclife.com/event/youth-group/2029-06-29/
LOCATION:Christian Worship Center\, 201 W 22nd St.\, Lombard\, IL\, IL\, 60148\, United States
ATTACH;FMTTYPE=image/png:https://www.cwclife.com/wp-content/uploads/2025/05/YTH-Slide-V2.png
END:VEVENT
BEGIN:VEVENT
DTSTART;TZID=America/Chicago:20290706T190000
DTEND;TZID=America/Chicago:20290706T200000
DTSTAMP:20260421T003806
CREATED:20250522T202905Z
LAST-MODIFIED:20260106T020459Z
UID:10001875-1878058800-1878062400@www.cwclife.com
SUMMARY:Youth Group
DESCRIPTION:
URL:https://www.cwclife.com/event/youth-group/2029-07-06/
LOCATION:Christian Worship Center\, 201 W 22nd St.\, Lombard\, IL\, IL\, 60148\, United States
ATTACH;FMTTYPE=image/png:https://www.cwclife.com/wp-content/uploads/2025/05/YTH-Slide-V2.png
END:VEVENT
BEGIN:VEVENT
DTSTART;TZID=America/Chicago:20290713T190000
DTEND;TZID=America/Chicago:20290713T200000
DTSTAMP:20260421T003806
CREATED:20250522T202905Z
LAST-MODIFIED:20260106T020459Z
UID:10001876-1878663600-1878667200@www.cwclife.com
SUMMARY:Youth Group
DESCRIPTION:
URL:https://www.cwclife.com/event/youth-group/2029-07-13/
LOCATION:Christian Worship Center\, 201 W 22nd St.\, Lombard\, IL\, IL\, 60148\, United States
ATTACH;FMTTYPE=image/png:https://www.cwclife.com/wp-content/uploads/2025/05/YTH-Slide-V2.png
END:VEVENT
BEGIN:VEVENT
DTSTART;TZID=America/Chicago:20290720T190000
DTEND;TZID=America/Chicago:20290720T200000
DTSTAMP:20260421T003806
CREATED:20250522T202905Z
LAST-MODIFIED:20260106T020459Z
UID:10001877-1879268400-1879272000@www.cwclife.com
SUMMARY:Youth Group
DESCRIPTION:
URL:https://www.cwclife.com/event/youth-group/2029-07-20/
LOCATION:Christian Worship Center\, 201 W 22nd St.\, Lombard\, IL\, IL\, 60148\, United States
ATTACH;FMTTYPE=image/png:https://www.cwclife.com/wp-content/uploads/2025/05/YTH-Slide-V2.png
END:VEVENT
BEGIN:VEVENT
DTSTART;TZID=America/Chicago:20290727T190000
DTEND;TZID=America/Chicago:20290727T200000
DTSTAMP:20260421T003806
CREATED:20250522T202905Z
LAST-MODIFIED:20260106T020459Z
UID:10001878-1879873200-1879876800@www.cwclife.com
SUMMARY:Youth Group
DESCRIPTION:
URL:https://www.cwclife.com/event/youth-group/2029-07-27/
LOCATION:Christian Worship Center\, 201 W 22nd St.\, Lombard\, IL\, IL\, 60148\, United States
ATTACH;FMTTYPE=image/png:https://www.cwclife.com/wp-content/uploads/2025/05/YTH-Slide-V2.png
END:VEVENT
BEGIN:VEVENT
DTSTART;TZID=America/Chicago:20290803T190000
DTEND;TZID=America/Chicago:20290803T200000
DTSTAMP:20260421T003806
CREATED:20250522T202905Z
LAST-MODIFIED:20260106T020459Z
UID:10001879-1880478000-1880481600@www.cwclife.com
SUMMARY:Youth Group
DESCRIPTION:
URL:https://www.cwclife.com/event/youth-group/2029-08-03/
LOCATION:Christian Worship Center\, 201 W 22nd St.\, Lombard\, IL\, IL\, 60148\, United States
ATTACH;FMTTYPE=image/png:https://www.cwclife.com/wp-content/uploads/2025/05/YTH-Slide-V2.png
END:VEVENT
BEGIN:VEVENT
DTSTART;TZID=America/Chicago:20290810T190000
DTEND;TZID=America/Chicago:20290810T200000
DTSTAMP:20260421T003806
CREATED:20250522T202905Z
LAST-MODIFIED:20260106T020459Z
UID:10001880-1881082800-1881086400@www.cwclife.com
SUMMARY:Youth Group
DESCRIPTION:
URL:https://www.cwclife.com/event/youth-group/2029-08-10/
LOCATION:Christian Worship Center\, 201 W 22nd St.\, Lombard\, IL\, IL\, 60148\, United States
ATTACH;FMTTYPE=image/png:https://www.cwclife.com/wp-content/uploads/2025/05/YTH-Slide-V2.png
END:VEVENT
BEGIN:VEVENT
DTSTART;TZID=America/Chicago:20290817T190000
DTEND;TZID=America/Chicago:20290817T200000
DTSTAMP:20260421T003806
CREATED:20250522T202905Z
LAST-MODIFIED:20260106T020459Z
UID:10001881-1881687600-1881691200@www.cwclife.com
SUMMARY:Youth Group
DESCRIPTION:
URL:https://www.cwclife.com/event/youth-group/2029-08-17/
LOCATION:Christian Worship Center\, 201 W 22nd St.\, Lombard\, IL\, IL\, 60148\, United States
ATTACH;FMTTYPE=image/png:https://www.cwclife.com/wp-content/uploads/2025/05/YTH-Slide-V2.png
END:VEVENT
END:VCALENDAR