BEGIN:VCALENDAR
VERSION:2.0
PRODID:-//Christian Worship Center Church - ECPv6.15.20//NONSGML v1.0//EN
CALSCALE:GREGORIAN
METHOD:PUBLISH
X-WR-CALNAME:Christian Worship Center Church
X-ORIGINAL-URL:https://www.cwclife.com
X-WR-CALDESC:Events for Christian Worship Center Church
REFRESH-INTERVAL;VALUE=DURATION:PT1H
X-Robots-Tag:noindex
X-PUBLISHED-TTL:PT1H
BEGIN:VTIMEZONE
TZID:America/Chicago
BEGIN:DAYLIGHT
TZOFFSETFROM:-0600
TZOFFSETTO:-0500
TZNAME:CDT
DTSTART:20280312T080000
END:DAYLIGHT
BEGIN:STANDARD
TZOFFSETFROM:-0500
TZOFFSETTO:-0600
TZNAME:CST
DTSTART:20281105T070000
END:STANDARD
BEGIN:DAYLIGHT
TZOFFSETFROM:-0600
TZOFFSETTO:-0500
TZNAME:CDT
DTSTART:20290311T080000
END:DAYLIGHT
BEGIN:STANDARD
TZOFFSETFROM:-0500
TZOFFSETTO:-0600
TZNAME:CST
DTSTART:20291104T070000
END:STANDARD
BEGIN:DAYLIGHT
TZOFFSETFROM:-0600
TZOFFSETTO:-0500
TZNAME:CDT
DTSTART:20300310T080000
END:DAYLIGHT
BEGIN:STANDARD
TZOFFSETFROM:-0500
TZOFFSETTO:-0600
TZNAME:CST
DTSTART:20301103T070000
END:STANDARD
BEGIN:DAYLIGHT
TZOFFSETFROM:-0600
TZOFFSETTO:-0500
TZNAME:CDT
DTSTART:20310309T080000
END:DAYLIGHT
BEGIN:STANDARD
TZOFFSETFROM:-0500
TZOFFSETTO:-0600
TZNAME:CST
DTSTART:20311102T070000
END:STANDARD
END:VTIMEZONE
BEGIN:VEVENT
DTSTART;TZID=America/Chicago:20291228T190000
DTEND;TZID=America/Chicago:20291228T200000
DTSTAMP:20260421T065749
CREATED:20250522T202905Z
LAST-MODIFIED:20260106T020459Z
UID:10001900-1893178800-1893182400@www.cwclife.com
SUMMARY:Youth Group
DESCRIPTION:
URL:https://www.cwclife.com/event/youth-group/2029-12-28/
LOCATION:Christian Worship Center\, 201 W 22nd St.\, Lombard\, IL\, IL\, 60148\, United States
ATTACH;FMTTYPE=image/png:https://www.cwclife.com/wp-content/uploads/2025/05/YTH-Slide-V2.png
END:VEVENT
BEGIN:VEVENT
DTSTART;TZID=America/Chicago:20300104T190000
DTEND;TZID=America/Chicago:20300104T200000
DTSTAMP:20260421T065749
CREATED:20250522T202905Z
LAST-MODIFIED:20260106T020459Z
UID:10001901-1893783600-1893787200@www.cwclife.com
SUMMARY:Youth Group
DESCRIPTION:
URL:https://www.cwclife.com/event/youth-group/2030-01-04/
LOCATION:Christian Worship Center\, 201 W 22nd St.\, Lombard\, IL\, IL\, 60148\, United States
ATTACH;FMTTYPE=image/png:https://www.cwclife.com/wp-content/uploads/2025/05/YTH-Slide-V2.png
END:VEVENT
BEGIN:VEVENT
DTSTART;TZID=America/Chicago:20300111T190000
DTEND;TZID=America/Chicago:20300111T200000
DTSTAMP:20260421T065749
CREATED:20250522T202905Z
LAST-MODIFIED:20260106T020459Z
UID:10001902-1894388400-1894392000@www.cwclife.com
SUMMARY:Youth Group
DESCRIPTION:
URL:https://www.cwclife.com/event/youth-group/2030-01-11/
LOCATION:Christian Worship Center\, 201 W 22nd St.\, Lombard\, IL\, IL\, 60148\, United States
ATTACH;FMTTYPE=image/png:https://www.cwclife.com/wp-content/uploads/2025/05/YTH-Slide-V2.png
END:VEVENT
BEGIN:VEVENT
DTSTART;TZID=America/Chicago:20300118T190000
DTEND;TZID=America/Chicago:20300118T200000
DTSTAMP:20260421T065749
CREATED:20250522T202905Z
LAST-MODIFIED:20260106T020459Z
UID:10001903-1894993200-1894996800@www.cwclife.com
SUMMARY:Youth Group
DESCRIPTION:
URL:https://www.cwclife.com/event/youth-group/2030-01-18/
LOCATION:Christian Worship Center\, 201 W 22nd St.\, Lombard\, IL\, IL\, 60148\, United States
ATTACH;FMTTYPE=image/png:https://www.cwclife.com/wp-content/uploads/2025/05/YTH-Slide-V2.png
END:VEVENT
BEGIN:VEVENT
DTSTART;TZID=America/Chicago:20300125T190000
DTEND;TZID=America/Chicago:20300125T200000
DTSTAMP:20260421T065749
CREATED:20250522T202905Z
LAST-MODIFIED:20260106T020459Z
UID:10001904-1895598000-1895601600@www.cwclife.com
SUMMARY:Youth Group
DESCRIPTION:
URL:https://www.cwclife.com/event/youth-group/2030-01-25/
LOCATION:Christian Worship Center\, 201 W 22nd St.\, Lombard\, IL\, IL\, 60148\, United States
ATTACH;FMTTYPE=image/png:https://www.cwclife.com/wp-content/uploads/2025/05/YTH-Slide-V2.png
END:VEVENT
BEGIN:VEVENT
DTSTART;TZID=America/Chicago:20300201T190000
DTEND;TZID=America/Chicago:20300201T200000
DTSTAMP:20260421T065749
CREATED:20250522T202905Z
LAST-MODIFIED:20260106T020459Z
UID:10001905-1896202800-1896206400@www.cwclife.com
SUMMARY:Youth Group
DESCRIPTION:
URL:https://www.cwclife.com/event/youth-group/2030-02-01/
LOCATION:Christian Worship Center\, 201 W 22nd St.\, Lombard\, IL\, IL\, 60148\, United States
ATTACH;FMTTYPE=image/png:https://www.cwclife.com/wp-content/uploads/2025/05/YTH-Slide-V2.png
END:VEVENT
BEGIN:VEVENT
DTSTART;TZID=America/Chicago:20300208T190000
DTEND;TZID=America/Chicago:20300208T200000
DTSTAMP:20260421T065749
CREATED:20250522T202905Z
LAST-MODIFIED:20260106T020459Z
UID:10001906-1896807600-1896811200@www.cwclife.com
SUMMARY:Youth Group
DESCRIPTION:
URL:https://www.cwclife.com/event/youth-group/2030-02-08/
LOCATION:Christian Worship Center\, 201 W 22nd St.\, Lombard\, IL\, IL\, 60148\, United States
ATTACH;FMTTYPE=image/png:https://www.cwclife.com/wp-content/uploads/2025/05/YTH-Slide-V2.png
END:VEVENT
BEGIN:VEVENT
DTSTART;TZID=America/Chicago:20300215T190000
DTEND;TZID=America/Chicago:20300215T200000
DTSTAMP:20260421T065749
CREATED:20250522T202905Z
LAST-MODIFIED:20260106T020459Z
UID:10001907-1897412400-1897416000@www.cwclife.com
SUMMARY:Youth Group
DESCRIPTION:
URL:https://www.cwclife.com/event/youth-group/2030-02-15/
LOCATION:Christian Worship Center\, 201 W 22nd St.\, Lombard\, IL\, IL\, 60148\, United States
ATTACH;FMTTYPE=image/png:https://www.cwclife.com/wp-content/uploads/2025/05/YTH-Slide-V2.png
END:VEVENT
BEGIN:VEVENT
DTSTART;TZID=America/Chicago:20300222T190000
DTEND;TZID=America/Chicago:20300222T200000
DTSTAMP:20260421T065749
CREATED:20250522T202905Z
LAST-MODIFIED:20260106T020459Z
UID:10001908-1898017200-1898020800@www.cwclife.com
SUMMARY:Youth Group
DESCRIPTION:
URL:https://www.cwclife.com/event/youth-group/2030-02-22/
LOCATION:Christian Worship Center\, 201 W 22nd St.\, Lombard\, IL\, IL\, 60148\, United States
ATTACH;FMTTYPE=image/png:https://www.cwclife.com/wp-content/uploads/2025/05/YTH-Slide-V2.png
END:VEVENT
BEGIN:VEVENT
DTSTART;TZID=America/Chicago:20300301T190000
DTEND;TZID=America/Chicago:20300301T200000
DTSTAMP:20260421T065749
CREATED:20250522T202905Z
LAST-MODIFIED:20260106T020459Z
UID:10001909-1898622000-1898625600@www.cwclife.com
SUMMARY:Youth Group
DESCRIPTION:
URL:https://www.cwclife.com/event/youth-group/2030-03-01/
LOCATION:Christian Worship Center\, 201 W 22nd St.\, Lombard\, IL\, IL\, 60148\, United States
ATTACH;FMTTYPE=image/png:https://www.cwclife.com/wp-content/uploads/2025/05/YTH-Slide-V2.png
END:VEVENT
BEGIN:VEVENT
DTSTART;TZID=America/Chicago:20300308T190000
DTEND;TZID=America/Chicago:20300308T200000
DTSTAMP:20260421T065749
CREATED:20250522T202905Z
LAST-MODIFIED:20260106T020459Z
UID:10001910-1899226800-1899230400@www.cwclife.com
SUMMARY:Youth Group
DESCRIPTION:
URL:https://www.cwclife.com/event/youth-group/2030-03-08/
LOCATION:Christian Worship Center\, 201 W 22nd St.\, Lombard\, IL\, IL\, 60148\, United States
ATTACH;FMTTYPE=image/png:https://www.cwclife.com/wp-content/uploads/2025/05/YTH-Slide-V2.png
END:VEVENT
BEGIN:VEVENT
DTSTART;TZID=America/Chicago:20300315T190000
DTEND;TZID=America/Chicago:20300315T200000
DTSTAMP:20260421T065749
CREATED:20250522T202905Z
LAST-MODIFIED:20260106T020459Z
UID:10001911-1899831600-1899835200@www.cwclife.com
SUMMARY:Youth Group
DESCRIPTION:
URL:https://www.cwclife.com/event/youth-group/2030-03-15/
LOCATION:Christian Worship Center\, 201 W 22nd St.\, Lombard\, IL\, IL\, 60148\, United States
ATTACH;FMTTYPE=image/png:https://www.cwclife.com/wp-content/uploads/2025/05/YTH-Slide-V2.png
END:VEVENT
BEGIN:VEVENT
DTSTART;TZID=America/Chicago:20300322T190000
DTEND;TZID=America/Chicago:20300322T200000
DTSTAMP:20260421T065749
CREATED:20250522T202905Z
LAST-MODIFIED:20260106T020459Z
UID:10001912-1900436400-1900440000@www.cwclife.com
SUMMARY:Youth Group
DESCRIPTION:
URL:https://www.cwclife.com/event/youth-group/2030-03-22/
LOCATION:Christian Worship Center\, 201 W 22nd St.\, Lombard\, IL\, IL\, 60148\, United States
ATTACH;FMTTYPE=image/png:https://www.cwclife.com/wp-content/uploads/2025/05/YTH-Slide-V2.png
END:VEVENT
BEGIN:VEVENT
DTSTART;TZID=America/Chicago:20300329T190000
DTEND;TZID=America/Chicago:20300329T200000
DTSTAMP:20260421T065749
CREATED:20250522T202905Z
LAST-MODIFIED:20260106T020459Z
UID:10001913-1901041200-1901044800@www.cwclife.com
SUMMARY:Youth Group
DESCRIPTION:
URL:https://www.cwclife.com/event/youth-group/2030-03-29/
LOCATION:Christian Worship Center\, 201 W 22nd St.\, Lombard\, IL\, IL\, 60148\, United States
ATTACH;FMTTYPE=image/png:https://www.cwclife.com/wp-content/uploads/2025/05/YTH-Slide-V2.png
END:VEVENT
BEGIN:VEVENT
DTSTART;TZID=America/Chicago:20300405T190000
DTEND;TZID=America/Chicago:20300405T200000
DTSTAMP:20260421T065749
CREATED:20250522T202905Z
LAST-MODIFIED:20260106T020459Z
UID:10001914-1901646000-1901649600@www.cwclife.com
SUMMARY:Youth Group
DESCRIPTION:
URL:https://www.cwclife.com/event/youth-group/2030-04-05/
LOCATION:Christian Worship Center\, 201 W 22nd St.\, Lombard\, IL\, IL\, 60148\, United States
ATTACH;FMTTYPE=image/png:https://www.cwclife.com/wp-content/uploads/2025/05/YTH-Slide-V2.png
END:VEVENT
BEGIN:VEVENT
DTSTART;TZID=America/Chicago:20300412T190000
DTEND;TZID=America/Chicago:20300412T200000
DTSTAMP:20260421T065749
CREATED:20250522T202905Z
LAST-MODIFIED:20260106T020459Z
UID:10001915-1902250800-1902254400@www.cwclife.com
SUMMARY:Youth Group
DESCRIPTION:
URL:https://www.cwclife.com/event/youth-group/2030-04-12/
LOCATION:Christian Worship Center\, 201 W 22nd St.\, Lombard\, IL\, IL\, 60148\, United States
ATTACH;FMTTYPE=image/png:https://www.cwclife.com/wp-content/uploads/2025/05/YTH-Slide-V2.png
END:VEVENT
BEGIN:VEVENT
DTSTART;TZID=America/Chicago:20300419T190000
DTEND;TZID=America/Chicago:20300419T200000
DTSTAMP:20260421T065749
CREATED:20250522T202905Z
LAST-MODIFIED:20260106T020459Z
UID:10001916-1902855600-1902859200@www.cwclife.com
SUMMARY:Youth Group
DESCRIPTION:
URL:https://www.cwclife.com/event/youth-group/2030-04-19/
LOCATION:Christian Worship Center\, 201 W 22nd St.\, Lombard\, IL\, IL\, 60148\, United States
ATTACH;FMTTYPE=image/png:https://www.cwclife.com/wp-content/uploads/2025/05/YTH-Slide-V2.png
END:VEVENT
BEGIN:VEVENT
DTSTART;TZID=America/Chicago:20300426T190000
DTEND;TZID=America/Chicago:20300426T200000
DTSTAMP:20260421T065749
CREATED:20250522T202905Z
LAST-MODIFIED:20260106T020459Z
UID:10001917-1903460400-1903464000@www.cwclife.com
SUMMARY:Youth Group
DESCRIPTION:
URL:https://www.cwclife.com/event/youth-group/2030-04-26/
LOCATION:Christian Worship Center\, 201 W 22nd St.\, Lombard\, IL\, IL\, 60148\, United States
ATTACH;FMTTYPE=image/png:https://www.cwclife.com/wp-content/uploads/2025/05/YTH-Slide-V2.png
END:VEVENT
BEGIN:VEVENT
DTSTART;TZID=America/Chicago:20300503T190000
DTEND;TZID=America/Chicago:20300503T200000
DTSTAMP:20260421T065749
CREATED:20250522T202905Z
LAST-MODIFIED:20260106T020459Z
UID:10001918-1904065200-1904068800@www.cwclife.com
SUMMARY:Youth Group
DESCRIPTION:
URL:https://www.cwclife.com/event/youth-group/2030-05-03/
LOCATION:Christian Worship Center\, 201 W 22nd St.\, Lombard\, IL\, IL\, 60148\, United States
ATTACH;FMTTYPE=image/png:https://www.cwclife.com/wp-content/uploads/2025/05/YTH-Slide-V2.png
END:VEVENT
BEGIN:VEVENT
DTSTART;TZID=America/Chicago:20300510T190000
DTEND;TZID=America/Chicago:20300510T200000
DTSTAMP:20260421T065749
CREATED:20250522T202905Z
LAST-MODIFIED:20260106T020459Z
UID:10001919-1904670000-1904673600@www.cwclife.com
SUMMARY:Youth Group
DESCRIPTION:
URL:https://www.cwclife.com/event/youth-group/2030-05-10/
LOCATION:Christian Worship Center\, 201 W 22nd St.\, Lombard\, IL\, IL\, 60148\, United States
ATTACH;FMTTYPE=image/png:https://www.cwclife.com/wp-content/uploads/2025/05/YTH-Slide-V2.png
END:VEVENT
BEGIN:VEVENT
DTSTART;TZID=America/Chicago:20300517T190000
DTEND;TZID=America/Chicago:20300517T200000
DTSTAMP:20260421T065749
CREATED:20250522T202905Z
LAST-MODIFIED:20260106T020459Z
UID:10001920-1905274800-1905278400@www.cwclife.com
SUMMARY:Youth Group
DESCRIPTION:
URL:https://www.cwclife.com/event/youth-group/2030-05-17/
LOCATION:Christian Worship Center\, 201 W 22nd St.\, Lombard\, IL\, IL\, 60148\, United States
ATTACH;FMTTYPE=image/png:https://www.cwclife.com/wp-content/uploads/2025/05/YTH-Slide-V2.png
END:VEVENT
BEGIN:VEVENT
DTSTART;TZID=America/Chicago:20300524T190000
DTEND;TZID=America/Chicago:20300524T200000
DTSTAMP:20260421T065749
CREATED:20250522T202905Z
LAST-MODIFIED:20260106T020459Z
UID:10001921-1905879600-1905883200@www.cwclife.com
SUMMARY:Youth Group
DESCRIPTION:
URL:https://www.cwclife.com/event/youth-group/2030-05-24/
LOCATION:Christian Worship Center\, 201 W 22nd St.\, Lombard\, IL\, IL\, 60148\, United States
ATTACH;FMTTYPE=image/png:https://www.cwclife.com/wp-content/uploads/2025/05/YTH-Slide-V2.png
END:VEVENT
BEGIN:VEVENT
DTSTART;TZID=America/Chicago:20300531T190000
DTEND;TZID=America/Chicago:20300531T200000
DTSTAMP:20260421T065749
CREATED:20250522T202905Z
LAST-MODIFIED:20260106T020459Z
UID:10001922-1906484400-1906488000@www.cwclife.com
SUMMARY:Youth Group
DESCRIPTION:
URL:https://www.cwclife.com/event/youth-group/2030-05-31/
LOCATION:Christian Worship Center\, 201 W 22nd St.\, Lombard\, IL\, IL\, 60148\, United States
ATTACH;FMTTYPE=image/png:https://www.cwclife.com/wp-content/uploads/2025/05/YTH-Slide-V2.png
END:VEVENT
BEGIN:VEVENT
DTSTART;TZID=America/Chicago:20300607T190000
DTEND;TZID=America/Chicago:20300607T200000
DTSTAMP:20260421T065749
CREATED:20250522T202905Z
LAST-MODIFIED:20260106T020459Z
UID:10001923-1907089200-1907092800@www.cwclife.com
SUMMARY:Youth Group
DESCRIPTION:
URL:https://www.cwclife.com/event/youth-group/2030-06-07/
LOCATION:Christian Worship Center\, 201 W 22nd St.\, Lombard\, IL\, IL\, 60148\, United States
ATTACH;FMTTYPE=image/png:https://www.cwclife.com/wp-content/uploads/2025/05/YTH-Slide-V2.png
END:VEVENT
BEGIN:VEVENT
DTSTART;TZID=America/Chicago:20300614T190000
DTEND;TZID=America/Chicago:20300614T200000
DTSTAMP:20260421T065749
CREATED:20250522T202905Z
LAST-MODIFIED:20260106T020459Z
UID:10001924-1907694000-1907697600@www.cwclife.com
SUMMARY:Youth Group
DESCRIPTION:
URL:https://www.cwclife.com/event/youth-group/2030-06-14/
LOCATION:Christian Worship Center\, 201 W 22nd St.\, Lombard\, IL\, IL\, 60148\, United States
ATTACH;FMTTYPE=image/png:https://www.cwclife.com/wp-content/uploads/2025/05/YTH-Slide-V2.png
END:VEVENT
BEGIN:VEVENT
DTSTART;TZID=America/Chicago:20300621T190000
DTEND;TZID=America/Chicago:20300621T200000
DTSTAMP:20260421T065749
CREATED:20250522T202905Z
LAST-MODIFIED:20260106T020459Z
UID:10001925-1908298800-1908302400@www.cwclife.com
SUMMARY:Youth Group
DESCRIPTION:
URL:https://www.cwclife.com/event/youth-group/2030-06-21/
LOCATION:Christian Worship Center\, 201 W 22nd St.\, Lombard\, IL\, IL\, 60148\, United States
ATTACH;FMTTYPE=image/png:https://www.cwclife.com/wp-content/uploads/2025/05/YTH-Slide-V2.png
END:VEVENT
BEGIN:VEVENT
DTSTART;TZID=America/Chicago:20300628T190000
DTEND;TZID=America/Chicago:20300628T200000
DTSTAMP:20260421T065749
CREATED:20250522T202905Z
LAST-MODIFIED:20260106T020459Z
UID:10001926-1908903600-1908907200@www.cwclife.com
SUMMARY:Youth Group
DESCRIPTION:
URL:https://www.cwclife.com/event/youth-group/2030-06-28/
LOCATION:Christian Worship Center\, 201 W 22nd St.\, Lombard\, IL\, IL\, 60148\, United States
ATTACH;FMTTYPE=image/png:https://www.cwclife.com/wp-content/uploads/2025/05/YTH-Slide-V2.png
END:VEVENT
BEGIN:VEVENT
DTSTART;TZID=America/Chicago:20300705T190000
DTEND;TZID=America/Chicago:20300705T200000
DTSTAMP:20260421T065749
CREATED:20250522T202905Z
LAST-MODIFIED:20260106T020459Z
UID:10001927-1909508400-1909512000@www.cwclife.com
SUMMARY:Youth Group
DESCRIPTION:
URL:https://www.cwclife.com/event/youth-group/2030-07-05/
LOCATION:Christian Worship Center\, 201 W 22nd St.\, Lombard\, IL\, IL\, 60148\, United States
ATTACH;FMTTYPE=image/png:https://www.cwclife.com/wp-content/uploads/2025/05/YTH-Slide-V2.png
END:VEVENT
BEGIN:VEVENT
DTSTART;TZID=America/Chicago:20300712T190000
DTEND;TZID=America/Chicago:20300712T200000
DTSTAMP:20260421T065749
CREATED:20250522T202905Z
LAST-MODIFIED:20260106T020459Z
UID:10001928-1910113200-1910116800@www.cwclife.com
SUMMARY:Youth Group
DESCRIPTION:
URL:https://www.cwclife.com/event/youth-group/2030-07-12/
LOCATION:Christian Worship Center\, 201 W 22nd St.\, Lombard\, IL\, IL\, 60148\, United States
ATTACH;FMTTYPE=image/png:https://www.cwclife.com/wp-content/uploads/2025/05/YTH-Slide-V2.png
END:VEVENT
BEGIN:VEVENT
DTSTART;TZID=America/Chicago:20300719T190000
DTEND;TZID=America/Chicago:20300719T200000
DTSTAMP:20260421T065749
CREATED:20250522T202905Z
LAST-MODIFIED:20260106T020459Z
UID:10001929-1910718000-1910721600@www.cwclife.com
SUMMARY:Youth Group
DESCRIPTION:
URL:https://www.cwclife.com/event/youth-group/2030-07-19/
LOCATION:Christian Worship Center\, 201 W 22nd St.\, Lombard\, IL\, IL\, 60148\, United States
ATTACH;FMTTYPE=image/png:https://www.cwclife.com/wp-content/uploads/2025/05/YTH-Slide-V2.png
END:VEVENT
END:VCALENDAR