BEGIN:VCALENDAR
VERSION:2.0
PRODID:-//Christian Worship Center Church - ECPv6.15.20//NONSGML v1.0//EN
CALSCALE:GREGORIAN
METHOD:PUBLISH
X-WR-CALNAME:Christian Worship Center Church
X-ORIGINAL-URL:https://www.cwclife.com
X-WR-CALDESC:Events for Christian Worship Center Church
REFRESH-INTERVAL;VALUE=DURATION:PT1H
X-Robots-Tag:noindex
X-PUBLISHED-TTL:PT1H
BEGIN:VTIMEZONE
TZID:America/Chicago
BEGIN:DAYLIGHT
TZOFFSETFROM:-0600
TZOFFSETTO:-0500
TZNAME:CDT
DTSTART:20260308T080000
END:DAYLIGHT
BEGIN:STANDARD
TZOFFSETFROM:-0500
TZOFFSETTO:-0600
TZNAME:CST
DTSTART:20261101T070000
END:STANDARD
BEGIN:DAYLIGHT
TZOFFSETFROM:-0600
TZOFFSETTO:-0500
TZNAME:CDT
DTSTART:20270314T080000
END:DAYLIGHT
BEGIN:STANDARD
TZOFFSETFROM:-0500
TZOFFSETTO:-0600
TZNAME:CST
DTSTART:20271107T070000
END:STANDARD
BEGIN:DAYLIGHT
TZOFFSETFROM:-0600
TZOFFSETTO:-0500
TZNAME:CDT
DTSTART:20280312T080000
END:DAYLIGHT
BEGIN:STANDARD
TZOFFSETFROM:-0500
TZOFFSETTO:-0600
TZNAME:CST
DTSTART:20281105T070000
END:STANDARD
BEGIN:DAYLIGHT
TZOFFSETFROM:-0600
TZOFFSETTO:-0500
TZNAME:CDT
DTSTART:20290311T080000
END:DAYLIGHT
BEGIN:STANDARD
TZOFFSETFROM:-0500
TZOFFSETTO:-0600
TZNAME:CST
DTSTART:20291104T070000
END:STANDARD
END:VTIMEZONE
BEGIN:VEVENT
DTSTART;TZID=America/Chicago:20270618T190000
DTEND;TZID=America/Chicago:20270618T200000
DTSTAMP:20260420T121336
CREATED:20250522T202905Z
LAST-MODIFIED:20260106T020459Z
UID:10001768-1813345200-1813348800@www.cwclife.com
SUMMARY:Youth Group
DESCRIPTION:
URL:https://www.cwclife.com/event/youth-group/2027-06-18/
LOCATION:Christian Worship Center\, 201 W 22nd St.\, Lombard\, IL\, IL\, 60148\, United States
ATTACH;FMTTYPE=image/png:https://www.cwclife.com/wp-content/uploads/2025/05/YTH-Slide-V2.png
END:VEVENT
BEGIN:VEVENT
DTSTART;TZID=America/Chicago:20270625T190000
DTEND;TZID=America/Chicago:20270625T200000
DTSTAMP:20260420T121336
CREATED:20250522T202905Z
LAST-MODIFIED:20260106T020459Z
UID:10001769-1813950000-1813953600@www.cwclife.com
SUMMARY:Youth Group
DESCRIPTION:
URL:https://www.cwclife.com/event/youth-group/2027-06-25/
LOCATION:Christian Worship Center\, 201 W 22nd St.\, Lombard\, IL\, IL\, 60148\, United States
ATTACH;FMTTYPE=image/png:https://www.cwclife.com/wp-content/uploads/2025/05/YTH-Slide-V2.png
END:VEVENT
BEGIN:VEVENT
DTSTART;TZID=America/Chicago:20270702T190000
DTEND;TZID=America/Chicago:20270702T200000
DTSTAMP:20260420T121336
CREATED:20250522T202905Z
LAST-MODIFIED:20260106T020459Z
UID:10001770-1814554800-1814558400@www.cwclife.com
SUMMARY:Youth Group
DESCRIPTION:
URL:https://www.cwclife.com/event/youth-group/2027-07-02/
LOCATION:Christian Worship Center\, 201 W 22nd St.\, Lombard\, IL\, IL\, 60148\, United States
ATTACH;FMTTYPE=image/png:https://www.cwclife.com/wp-content/uploads/2025/05/YTH-Slide-V2.png
END:VEVENT
BEGIN:VEVENT
DTSTART;TZID=America/Chicago:20270709T190000
DTEND;TZID=America/Chicago:20270709T200000
DTSTAMP:20260420T121336
CREATED:20250522T202905Z
LAST-MODIFIED:20260106T020459Z
UID:10001771-1815159600-1815163200@www.cwclife.com
SUMMARY:Youth Group
DESCRIPTION:
URL:https://www.cwclife.com/event/youth-group/2027-07-09/
LOCATION:Christian Worship Center\, 201 W 22nd St.\, Lombard\, IL\, IL\, 60148\, United States
ATTACH;FMTTYPE=image/png:https://www.cwclife.com/wp-content/uploads/2025/05/YTH-Slide-V2.png
END:VEVENT
BEGIN:VEVENT
DTSTART;TZID=America/Chicago:20270716T190000
DTEND;TZID=America/Chicago:20270716T200000
DTSTAMP:20260420T121336
CREATED:20250522T202905Z
LAST-MODIFIED:20260106T020459Z
UID:10001772-1815764400-1815768000@www.cwclife.com
SUMMARY:Youth Group
DESCRIPTION:
URL:https://www.cwclife.com/event/youth-group/2027-07-16/
LOCATION:Christian Worship Center\, 201 W 22nd St.\, Lombard\, IL\, IL\, 60148\, United States
ATTACH;FMTTYPE=image/png:https://www.cwclife.com/wp-content/uploads/2025/05/YTH-Slide-V2.png
END:VEVENT
BEGIN:VEVENT
DTSTART;TZID=America/Chicago:20270723T190000
DTEND;TZID=America/Chicago:20270723T200000
DTSTAMP:20260420T121336
CREATED:20250522T202905Z
LAST-MODIFIED:20260106T020459Z
UID:10001773-1816369200-1816372800@www.cwclife.com
SUMMARY:Youth Group
DESCRIPTION:
URL:https://www.cwclife.com/event/youth-group/2027-07-23/
LOCATION:Christian Worship Center\, 201 W 22nd St.\, Lombard\, IL\, IL\, 60148\, United States
ATTACH;FMTTYPE=image/png:https://www.cwclife.com/wp-content/uploads/2025/05/YTH-Slide-V2.png
END:VEVENT
BEGIN:VEVENT
DTSTART;TZID=America/Chicago:20270730T190000
DTEND;TZID=America/Chicago:20270730T200000
DTSTAMP:20260420T121336
CREATED:20250522T202905Z
LAST-MODIFIED:20260106T020459Z
UID:10001774-1816974000-1816977600@www.cwclife.com
SUMMARY:Youth Group
DESCRIPTION:
URL:https://www.cwclife.com/event/youth-group/2027-07-30/
LOCATION:Christian Worship Center\, 201 W 22nd St.\, Lombard\, IL\, IL\, 60148\, United States
ATTACH;FMTTYPE=image/png:https://www.cwclife.com/wp-content/uploads/2025/05/YTH-Slide-V2.png
END:VEVENT
BEGIN:VEVENT
DTSTART;TZID=America/Chicago:20270806T190000
DTEND;TZID=America/Chicago:20270806T200000
DTSTAMP:20260420T121336
CREATED:20250522T202905Z
LAST-MODIFIED:20260106T020459Z
UID:10001775-1817578800-1817582400@www.cwclife.com
SUMMARY:Youth Group
DESCRIPTION:
URL:https://www.cwclife.com/event/youth-group/2027-08-06/
LOCATION:Christian Worship Center\, 201 W 22nd St.\, Lombard\, IL\, IL\, 60148\, United States
ATTACH;FMTTYPE=image/png:https://www.cwclife.com/wp-content/uploads/2025/05/YTH-Slide-V2.png
END:VEVENT
BEGIN:VEVENT
DTSTART;TZID=America/Chicago:20270813T190000
DTEND;TZID=America/Chicago:20270813T200000
DTSTAMP:20260420T121336
CREATED:20250522T202905Z
LAST-MODIFIED:20260106T020459Z
UID:10001776-1818183600-1818187200@www.cwclife.com
SUMMARY:Youth Group
DESCRIPTION:
URL:https://www.cwclife.com/event/youth-group/2027-08-13/
LOCATION:Christian Worship Center\, 201 W 22nd St.\, Lombard\, IL\, IL\, 60148\, United States
ATTACH;FMTTYPE=image/png:https://www.cwclife.com/wp-content/uploads/2025/05/YTH-Slide-V2.png
END:VEVENT
BEGIN:VEVENT
DTSTART;TZID=America/Chicago:20270820T190000
DTEND;TZID=America/Chicago:20270820T200000
DTSTAMP:20260420T121336
CREATED:20250522T202905Z
LAST-MODIFIED:20260106T020459Z
UID:10001777-1818788400-1818792000@www.cwclife.com
SUMMARY:Youth Group
DESCRIPTION:
URL:https://www.cwclife.com/event/youth-group/2027-08-20/
LOCATION:Christian Worship Center\, 201 W 22nd St.\, Lombard\, IL\, IL\, 60148\, United States
ATTACH;FMTTYPE=image/png:https://www.cwclife.com/wp-content/uploads/2025/05/YTH-Slide-V2.png
END:VEVENT
BEGIN:VEVENT
DTSTART;TZID=America/Chicago:20270827T190000
DTEND;TZID=America/Chicago:20270827T200000
DTSTAMP:20260420T121336
CREATED:20250522T202905Z
LAST-MODIFIED:20260106T020459Z
UID:10001778-1819393200-1819396800@www.cwclife.com
SUMMARY:Youth Group
DESCRIPTION:
URL:https://www.cwclife.com/event/youth-group/2027-08-27/
LOCATION:Christian Worship Center\, 201 W 22nd St.\, Lombard\, IL\, IL\, 60148\, United States
ATTACH;FMTTYPE=image/png:https://www.cwclife.com/wp-content/uploads/2025/05/YTH-Slide-V2.png
END:VEVENT
BEGIN:VEVENT
DTSTART;TZID=America/Chicago:20270903T190000
DTEND;TZID=America/Chicago:20270903T200000
DTSTAMP:20260420T121336
CREATED:20250522T202905Z
LAST-MODIFIED:20260106T020459Z
UID:10001779-1819998000-1820001600@www.cwclife.com
SUMMARY:Youth Group
DESCRIPTION:
URL:https://www.cwclife.com/event/youth-group/2027-09-03/
LOCATION:Christian Worship Center\, 201 W 22nd St.\, Lombard\, IL\, IL\, 60148\, United States
ATTACH;FMTTYPE=image/png:https://www.cwclife.com/wp-content/uploads/2025/05/YTH-Slide-V2.png
END:VEVENT
BEGIN:VEVENT
DTSTART;TZID=America/Chicago:20270910T190000
DTEND;TZID=America/Chicago:20270910T200000
DTSTAMP:20260420T121336
CREATED:20250522T202905Z
LAST-MODIFIED:20260106T020459Z
UID:10001780-1820602800-1820606400@www.cwclife.com
SUMMARY:Youth Group
DESCRIPTION:
URL:https://www.cwclife.com/event/youth-group/2027-09-10/
LOCATION:Christian Worship Center\, 201 W 22nd St.\, Lombard\, IL\, IL\, 60148\, United States
ATTACH;FMTTYPE=image/png:https://www.cwclife.com/wp-content/uploads/2025/05/YTH-Slide-V2.png
END:VEVENT
BEGIN:VEVENT
DTSTART;TZID=America/Chicago:20270917T190000
DTEND;TZID=America/Chicago:20270917T200000
DTSTAMP:20260420T121336
CREATED:20250522T202905Z
LAST-MODIFIED:20260106T020459Z
UID:10001781-1821207600-1821211200@www.cwclife.com
SUMMARY:Youth Group
DESCRIPTION:
URL:https://www.cwclife.com/event/youth-group/2027-09-17/
LOCATION:Christian Worship Center\, 201 W 22nd St.\, Lombard\, IL\, IL\, 60148\, United States
ATTACH;FMTTYPE=image/png:https://www.cwclife.com/wp-content/uploads/2025/05/YTH-Slide-V2.png
END:VEVENT
BEGIN:VEVENT
DTSTART;TZID=America/Chicago:20270924T190000
DTEND;TZID=America/Chicago:20270924T200000
DTSTAMP:20260420T121336
CREATED:20250522T202905Z
LAST-MODIFIED:20260106T020459Z
UID:10001782-1821812400-1821816000@www.cwclife.com
SUMMARY:Youth Group
DESCRIPTION:
URL:https://www.cwclife.com/event/youth-group/2027-09-24/
LOCATION:Christian Worship Center\, 201 W 22nd St.\, Lombard\, IL\, IL\, 60148\, United States
ATTACH;FMTTYPE=image/png:https://www.cwclife.com/wp-content/uploads/2025/05/YTH-Slide-V2.png
END:VEVENT
BEGIN:VEVENT
DTSTART;TZID=America/Chicago:20271001T190000
DTEND;TZID=America/Chicago:20271001T200000
DTSTAMP:20260420T121336
CREATED:20250522T202905Z
LAST-MODIFIED:20260106T020459Z
UID:10001783-1822417200-1822420800@www.cwclife.com
SUMMARY:Youth Group
DESCRIPTION:
URL:https://www.cwclife.com/event/youth-group/2027-10-01/
LOCATION:Christian Worship Center\, 201 W 22nd St.\, Lombard\, IL\, IL\, 60148\, United States
ATTACH;FMTTYPE=image/png:https://www.cwclife.com/wp-content/uploads/2025/05/YTH-Slide-V2.png
END:VEVENT
BEGIN:VEVENT
DTSTART;TZID=America/Chicago:20271008T190000
DTEND;TZID=America/Chicago:20271008T200000
DTSTAMP:20260420T121336
CREATED:20250522T202905Z
LAST-MODIFIED:20260106T020459Z
UID:10001784-1823022000-1823025600@www.cwclife.com
SUMMARY:Youth Group
DESCRIPTION:
URL:https://www.cwclife.com/event/youth-group/2027-10-08/
LOCATION:Christian Worship Center\, 201 W 22nd St.\, Lombard\, IL\, IL\, 60148\, United States
ATTACH;FMTTYPE=image/png:https://www.cwclife.com/wp-content/uploads/2025/05/YTH-Slide-V2.png
END:VEVENT
BEGIN:VEVENT
DTSTART;TZID=America/Chicago:20271015T190000
DTEND;TZID=America/Chicago:20271015T200000
DTSTAMP:20260420T121336
CREATED:20250522T202905Z
LAST-MODIFIED:20260106T020459Z
UID:10001785-1823626800-1823630400@www.cwclife.com
SUMMARY:Youth Group
DESCRIPTION:
URL:https://www.cwclife.com/event/youth-group/2027-10-15/
LOCATION:Christian Worship Center\, 201 W 22nd St.\, Lombard\, IL\, IL\, 60148\, United States
ATTACH;FMTTYPE=image/png:https://www.cwclife.com/wp-content/uploads/2025/05/YTH-Slide-V2.png
END:VEVENT
BEGIN:VEVENT
DTSTART;TZID=America/Chicago:20271022T190000
DTEND;TZID=America/Chicago:20271022T200000
DTSTAMP:20260420T121336
CREATED:20250522T202905Z
LAST-MODIFIED:20260106T020459Z
UID:10001786-1824231600-1824235200@www.cwclife.com
SUMMARY:Youth Group
DESCRIPTION:
URL:https://www.cwclife.com/event/youth-group/2027-10-22/
LOCATION:Christian Worship Center\, 201 W 22nd St.\, Lombard\, IL\, IL\, 60148\, United States
ATTACH;FMTTYPE=image/png:https://www.cwclife.com/wp-content/uploads/2025/05/YTH-Slide-V2.png
END:VEVENT
BEGIN:VEVENT
DTSTART;TZID=America/Chicago:20271029T190000
DTEND;TZID=America/Chicago:20271029T200000
DTSTAMP:20260420T121336
CREATED:20250522T202905Z
LAST-MODIFIED:20260106T020459Z
UID:10001787-1824836400-1824840000@www.cwclife.com
SUMMARY:Youth Group
DESCRIPTION:
URL:https://www.cwclife.com/event/youth-group/2027-10-29/
LOCATION:Christian Worship Center\, 201 W 22nd St.\, Lombard\, IL\, IL\, 60148\, United States
ATTACH;FMTTYPE=image/png:https://www.cwclife.com/wp-content/uploads/2025/05/YTH-Slide-V2.png
END:VEVENT
BEGIN:VEVENT
DTSTART;TZID=America/Chicago:20271105T190000
DTEND;TZID=America/Chicago:20271105T200000
DTSTAMP:20260420T121336
CREATED:20250522T202905Z
LAST-MODIFIED:20260106T020459Z
UID:10001788-1825441200-1825444800@www.cwclife.com
SUMMARY:Youth Group
DESCRIPTION:
URL:https://www.cwclife.com/event/youth-group/2027-11-05/
LOCATION:Christian Worship Center\, 201 W 22nd St.\, Lombard\, IL\, IL\, 60148\, United States
ATTACH;FMTTYPE=image/png:https://www.cwclife.com/wp-content/uploads/2025/05/YTH-Slide-V2.png
END:VEVENT
BEGIN:VEVENT
DTSTART;TZID=America/Chicago:20271112T190000
DTEND;TZID=America/Chicago:20271112T200000
DTSTAMP:20260420T121336
CREATED:20250522T202905Z
LAST-MODIFIED:20260106T020459Z
UID:10001789-1826046000-1826049600@www.cwclife.com
SUMMARY:Youth Group
DESCRIPTION:
URL:https://www.cwclife.com/event/youth-group/2027-11-12/
LOCATION:Christian Worship Center\, 201 W 22nd St.\, Lombard\, IL\, IL\, 60148\, United States
ATTACH;FMTTYPE=image/png:https://www.cwclife.com/wp-content/uploads/2025/05/YTH-Slide-V2.png
END:VEVENT
BEGIN:VEVENT
DTSTART;TZID=America/Chicago:20271119T190000
DTEND;TZID=America/Chicago:20271119T200000
DTSTAMP:20260420T121336
CREATED:20250522T202905Z
LAST-MODIFIED:20260106T020459Z
UID:10001790-1826650800-1826654400@www.cwclife.com
SUMMARY:Youth Group
DESCRIPTION:
URL:https://www.cwclife.com/event/youth-group/2027-11-19/
LOCATION:Christian Worship Center\, 201 W 22nd St.\, Lombard\, IL\, IL\, 60148\, United States
ATTACH;FMTTYPE=image/png:https://www.cwclife.com/wp-content/uploads/2025/05/YTH-Slide-V2.png
END:VEVENT
BEGIN:VEVENT
DTSTART;TZID=America/Chicago:20271126T190000
DTEND;TZID=America/Chicago:20271126T200000
DTSTAMP:20260420T121336
CREATED:20250522T202905Z
LAST-MODIFIED:20260106T020459Z
UID:10001791-1827255600-1827259200@www.cwclife.com
SUMMARY:Youth Group
DESCRIPTION:
URL:https://www.cwclife.com/event/youth-group/2027-11-26/
LOCATION:Christian Worship Center\, 201 W 22nd St.\, Lombard\, IL\, IL\, 60148\, United States
ATTACH;FMTTYPE=image/png:https://www.cwclife.com/wp-content/uploads/2025/05/YTH-Slide-V2.png
END:VEVENT
BEGIN:VEVENT
DTSTART;TZID=America/Chicago:20271203T190000
DTEND;TZID=America/Chicago:20271203T200000
DTSTAMP:20260420T121336
CREATED:20250522T202905Z
LAST-MODIFIED:20260106T020459Z
UID:10001792-1827860400-1827864000@www.cwclife.com
SUMMARY:Youth Group
DESCRIPTION:
URL:https://www.cwclife.com/event/youth-group/2027-12-03/
LOCATION:Christian Worship Center\, 201 W 22nd St.\, Lombard\, IL\, IL\, 60148\, United States
ATTACH;FMTTYPE=image/png:https://www.cwclife.com/wp-content/uploads/2025/05/YTH-Slide-V2.png
END:VEVENT
BEGIN:VEVENT
DTSTART;TZID=America/Chicago:20271210T190000
DTEND;TZID=America/Chicago:20271210T200000
DTSTAMP:20260420T121336
CREATED:20250522T202905Z
LAST-MODIFIED:20260106T020459Z
UID:10001793-1828465200-1828468800@www.cwclife.com
SUMMARY:Youth Group
DESCRIPTION:
URL:https://www.cwclife.com/event/youth-group/2027-12-10/
LOCATION:Christian Worship Center\, 201 W 22nd St.\, Lombard\, IL\, IL\, 60148\, United States
ATTACH;FMTTYPE=image/png:https://www.cwclife.com/wp-content/uploads/2025/05/YTH-Slide-V2.png
END:VEVENT
BEGIN:VEVENT
DTSTART;TZID=America/Chicago:20271217T190000
DTEND;TZID=America/Chicago:20271217T200000
DTSTAMP:20260420T121336
CREATED:20250522T202905Z
LAST-MODIFIED:20260106T020459Z
UID:10001794-1829070000-1829073600@www.cwclife.com
SUMMARY:Youth Group
DESCRIPTION:
URL:https://www.cwclife.com/event/youth-group/2027-12-17/
LOCATION:Christian Worship Center\, 201 W 22nd St.\, Lombard\, IL\, IL\, 60148\, United States
ATTACH;FMTTYPE=image/png:https://www.cwclife.com/wp-content/uploads/2025/05/YTH-Slide-V2.png
END:VEVENT
BEGIN:VEVENT
DTSTART;TZID=America/Chicago:20271224T190000
DTEND;TZID=America/Chicago:20271224T200000
DTSTAMP:20260420T121336
CREATED:20250522T202905Z
LAST-MODIFIED:20260106T020459Z
UID:10001795-1829674800-1829678400@www.cwclife.com
SUMMARY:Youth Group
DESCRIPTION:
URL:https://www.cwclife.com/event/youth-group/2027-12-24/
LOCATION:Christian Worship Center\, 201 W 22nd St.\, Lombard\, IL\, IL\, 60148\, United States
ATTACH;FMTTYPE=image/png:https://www.cwclife.com/wp-content/uploads/2025/05/YTH-Slide-V2.png
END:VEVENT
BEGIN:VEVENT
DTSTART;TZID=America/Chicago:20271231T190000
DTEND;TZID=America/Chicago:20271231T200000
DTSTAMP:20260420T121336
CREATED:20250522T202905Z
LAST-MODIFIED:20260106T020459Z
UID:10001796-1830279600-1830283200@www.cwclife.com
SUMMARY:Youth Group
DESCRIPTION:
URL:https://www.cwclife.com/event/youth-group/2027-12-31/
LOCATION:Christian Worship Center\, 201 W 22nd St.\, Lombard\, IL\, IL\, 60148\, United States
ATTACH;FMTTYPE=image/png:https://www.cwclife.com/wp-content/uploads/2025/05/YTH-Slide-V2.png
END:VEVENT
BEGIN:VEVENT
DTSTART;TZID=America/Chicago:20280107T190000
DTEND;TZID=America/Chicago:20280107T200000
DTSTAMP:20260420T121336
CREATED:20250522T202905Z
LAST-MODIFIED:20260106T020459Z
UID:10001797-1830884400-1830888000@www.cwclife.com
SUMMARY:Youth Group
DESCRIPTION:
URL:https://www.cwclife.com/event/youth-group/2028-01-07/
LOCATION:Christian Worship Center\, 201 W 22nd St.\, Lombard\, IL\, IL\, 60148\, United States
ATTACH;FMTTYPE=image/png:https://www.cwclife.com/wp-content/uploads/2025/05/YTH-Slide-V2.png
END:VEVENT
END:VCALENDAR