BEGIN:VCALENDAR
VERSION:2.0
PRODID:-//Christian Worship Center Church - ECPv6.15.20//NONSGML v1.0//EN
CALSCALE:GREGORIAN
METHOD:PUBLISH
X-WR-CALNAME:Christian Worship Center Church
X-ORIGINAL-URL:https://www.cwclife.com
X-WR-CALDESC:Events for Christian Worship Center Church
REFRESH-INTERVAL;VALUE=DURATION:PT1H
X-Robots-Tag:noindex
X-PUBLISHED-TTL:PT1H
BEGIN:VTIMEZONE
TZID:America/Chicago
BEGIN:DAYLIGHT
TZOFFSETFROM:-0600
TZOFFSETTO:-0500
TZNAME:CDT
DTSTART:20270314T080000
END:DAYLIGHT
BEGIN:STANDARD
TZOFFSETFROM:-0500
TZOFFSETTO:-0600
TZNAME:CST
DTSTART:20271107T070000
END:STANDARD
BEGIN:DAYLIGHT
TZOFFSETFROM:-0600
TZOFFSETTO:-0500
TZNAME:CDT
DTSTART:20280312T080000
END:DAYLIGHT
BEGIN:STANDARD
TZOFFSETFROM:-0500
TZOFFSETTO:-0600
TZNAME:CST
DTSTART:20281105T070000
END:STANDARD
BEGIN:DAYLIGHT
TZOFFSETFROM:-0600
TZOFFSETTO:-0500
TZNAME:CDT
DTSTART:20290311T080000
END:DAYLIGHT
BEGIN:STANDARD
TZOFFSETFROM:-0500
TZOFFSETTO:-0600
TZNAME:CST
DTSTART:20291104T070000
END:STANDARD
END:VTIMEZONE
BEGIN:VEVENT
DTSTART;TZID=America/Chicago:20280225T190000
DTEND;TZID=America/Chicago:20280225T200000
DTSTAMP:20260420T172213
CREATED:20250522T202905Z
LAST-MODIFIED:20260106T020459Z
UID:10001804-1835118000-1835121600@www.cwclife.com
SUMMARY:Youth Group
DESCRIPTION:
URL:https://www.cwclife.com/event/youth-group/2028-02-25/
LOCATION:Christian Worship Center\, 201 W 22nd St.\, Lombard\, IL\, IL\, 60148\, United States
ATTACH;FMTTYPE=image/png:https://www.cwclife.com/wp-content/uploads/2025/05/YTH-Slide-V2.png
END:VEVENT
BEGIN:VEVENT
DTSTART;TZID=America/Chicago:20280303T190000
DTEND;TZID=America/Chicago:20280303T200000
DTSTAMP:20260420T172213
CREATED:20250522T202905Z
LAST-MODIFIED:20260106T020459Z
UID:10001805-1835722800-1835726400@www.cwclife.com
SUMMARY:Youth Group
DESCRIPTION:
URL:https://www.cwclife.com/event/youth-group/2028-03-03/
LOCATION:Christian Worship Center\, 201 W 22nd St.\, Lombard\, IL\, IL\, 60148\, United States
ATTACH;FMTTYPE=image/png:https://www.cwclife.com/wp-content/uploads/2025/05/YTH-Slide-V2.png
END:VEVENT
BEGIN:VEVENT
DTSTART;TZID=America/Chicago:20280310T190000
DTEND;TZID=America/Chicago:20280310T200000
DTSTAMP:20260420T172213
CREATED:20250522T202905Z
LAST-MODIFIED:20260106T020459Z
UID:10001806-1836327600-1836331200@www.cwclife.com
SUMMARY:Youth Group
DESCRIPTION:
URL:https://www.cwclife.com/event/youth-group/2028-03-10/
LOCATION:Christian Worship Center\, 201 W 22nd St.\, Lombard\, IL\, IL\, 60148\, United States
ATTACH;FMTTYPE=image/png:https://www.cwclife.com/wp-content/uploads/2025/05/YTH-Slide-V2.png
END:VEVENT
BEGIN:VEVENT
DTSTART;TZID=America/Chicago:20280317T190000
DTEND;TZID=America/Chicago:20280317T200000
DTSTAMP:20260420T172213
CREATED:20250522T202905Z
LAST-MODIFIED:20260106T020459Z
UID:10001807-1836932400-1836936000@www.cwclife.com
SUMMARY:Youth Group
DESCRIPTION:
URL:https://www.cwclife.com/event/youth-group/2028-03-17/
LOCATION:Christian Worship Center\, 201 W 22nd St.\, Lombard\, IL\, IL\, 60148\, United States
ATTACH;FMTTYPE=image/png:https://www.cwclife.com/wp-content/uploads/2025/05/YTH-Slide-V2.png
END:VEVENT
BEGIN:VEVENT
DTSTART;TZID=America/Chicago:20280324T190000
DTEND;TZID=America/Chicago:20280324T200000
DTSTAMP:20260420T172213
CREATED:20250522T202905Z
LAST-MODIFIED:20260106T020459Z
UID:10001808-1837537200-1837540800@www.cwclife.com
SUMMARY:Youth Group
DESCRIPTION:
URL:https://www.cwclife.com/event/youth-group/2028-03-24/
LOCATION:Christian Worship Center\, 201 W 22nd St.\, Lombard\, IL\, IL\, 60148\, United States
ATTACH;FMTTYPE=image/png:https://www.cwclife.com/wp-content/uploads/2025/05/YTH-Slide-V2.png
END:VEVENT
BEGIN:VEVENT
DTSTART;TZID=America/Chicago:20280331T190000
DTEND;TZID=America/Chicago:20280331T200000
DTSTAMP:20260420T172213
CREATED:20250522T202905Z
LAST-MODIFIED:20260106T020459Z
UID:10001809-1838142000-1838145600@www.cwclife.com
SUMMARY:Youth Group
DESCRIPTION:
URL:https://www.cwclife.com/event/youth-group/2028-03-31/
LOCATION:Christian Worship Center\, 201 W 22nd St.\, Lombard\, IL\, IL\, 60148\, United States
ATTACH;FMTTYPE=image/png:https://www.cwclife.com/wp-content/uploads/2025/05/YTH-Slide-V2.png
END:VEVENT
BEGIN:VEVENT
DTSTART;TZID=America/Chicago:20280407T190000
DTEND;TZID=America/Chicago:20280407T200000
DTSTAMP:20260420T172213
CREATED:20250522T202905Z
LAST-MODIFIED:20260106T020459Z
UID:10001810-1838746800-1838750400@www.cwclife.com
SUMMARY:Youth Group
DESCRIPTION:
URL:https://www.cwclife.com/event/youth-group/2028-04-07/
LOCATION:Christian Worship Center\, 201 W 22nd St.\, Lombard\, IL\, IL\, 60148\, United States
ATTACH;FMTTYPE=image/png:https://www.cwclife.com/wp-content/uploads/2025/05/YTH-Slide-V2.png
END:VEVENT
BEGIN:VEVENT
DTSTART;TZID=America/Chicago:20280414T190000
DTEND;TZID=America/Chicago:20280414T200000
DTSTAMP:20260420T172213
CREATED:20250522T202905Z
LAST-MODIFIED:20260106T020459Z
UID:10001811-1839351600-1839355200@www.cwclife.com
SUMMARY:Youth Group
DESCRIPTION:
URL:https://www.cwclife.com/event/youth-group/2028-04-14/
LOCATION:Christian Worship Center\, 201 W 22nd St.\, Lombard\, IL\, IL\, 60148\, United States
ATTACH;FMTTYPE=image/png:https://www.cwclife.com/wp-content/uploads/2025/05/YTH-Slide-V2.png
END:VEVENT
BEGIN:VEVENT
DTSTART;TZID=America/Chicago:20280421T190000
DTEND;TZID=America/Chicago:20280421T200000
DTSTAMP:20260420T172213
CREATED:20250522T202905Z
LAST-MODIFIED:20260106T020459Z
UID:10001812-1839956400-1839960000@www.cwclife.com
SUMMARY:Youth Group
DESCRIPTION:
URL:https://www.cwclife.com/event/youth-group/2028-04-21/
LOCATION:Christian Worship Center\, 201 W 22nd St.\, Lombard\, IL\, IL\, 60148\, United States
ATTACH;FMTTYPE=image/png:https://www.cwclife.com/wp-content/uploads/2025/05/YTH-Slide-V2.png
END:VEVENT
BEGIN:VEVENT
DTSTART;TZID=America/Chicago:20280428T190000
DTEND;TZID=America/Chicago:20280428T200000
DTSTAMP:20260420T172213
CREATED:20250522T202905Z
LAST-MODIFIED:20260106T020459Z
UID:10001813-1840561200-1840564800@www.cwclife.com
SUMMARY:Youth Group
DESCRIPTION:
URL:https://www.cwclife.com/event/youth-group/2028-04-28/
LOCATION:Christian Worship Center\, 201 W 22nd St.\, Lombard\, IL\, IL\, 60148\, United States
ATTACH;FMTTYPE=image/png:https://www.cwclife.com/wp-content/uploads/2025/05/YTH-Slide-V2.png
END:VEVENT
BEGIN:VEVENT
DTSTART;TZID=America/Chicago:20280505T190000
DTEND;TZID=America/Chicago:20280505T200000
DTSTAMP:20260420T172213
CREATED:20250522T202905Z
LAST-MODIFIED:20260106T020459Z
UID:10001814-1841166000-1841169600@www.cwclife.com
SUMMARY:Youth Group
DESCRIPTION:
URL:https://www.cwclife.com/event/youth-group/2028-05-05/
LOCATION:Christian Worship Center\, 201 W 22nd St.\, Lombard\, IL\, IL\, 60148\, United States
ATTACH;FMTTYPE=image/png:https://www.cwclife.com/wp-content/uploads/2025/05/YTH-Slide-V2.png
END:VEVENT
BEGIN:VEVENT
DTSTART;TZID=America/Chicago:20280512T190000
DTEND;TZID=America/Chicago:20280512T200000
DTSTAMP:20260420T172213
CREATED:20250522T202905Z
LAST-MODIFIED:20260106T020459Z
UID:10001815-1841770800-1841774400@www.cwclife.com
SUMMARY:Youth Group
DESCRIPTION:
URL:https://www.cwclife.com/event/youth-group/2028-05-12/
LOCATION:Christian Worship Center\, 201 W 22nd St.\, Lombard\, IL\, IL\, 60148\, United States
ATTACH;FMTTYPE=image/png:https://www.cwclife.com/wp-content/uploads/2025/05/YTH-Slide-V2.png
END:VEVENT
BEGIN:VEVENT
DTSTART;TZID=America/Chicago:20280519T190000
DTEND;TZID=America/Chicago:20280519T200000
DTSTAMP:20260420T172213
CREATED:20250522T202905Z
LAST-MODIFIED:20260106T020459Z
UID:10001816-1842375600-1842379200@www.cwclife.com
SUMMARY:Youth Group
DESCRIPTION:
URL:https://www.cwclife.com/event/youth-group/2028-05-19/
LOCATION:Christian Worship Center\, 201 W 22nd St.\, Lombard\, IL\, IL\, 60148\, United States
ATTACH;FMTTYPE=image/png:https://www.cwclife.com/wp-content/uploads/2025/05/YTH-Slide-V2.png
END:VEVENT
BEGIN:VEVENT
DTSTART;TZID=America/Chicago:20280526T190000
DTEND;TZID=America/Chicago:20280526T200000
DTSTAMP:20260420T172213
CREATED:20250522T202905Z
LAST-MODIFIED:20260106T020459Z
UID:10001817-1842980400-1842984000@www.cwclife.com
SUMMARY:Youth Group
DESCRIPTION:
URL:https://www.cwclife.com/event/youth-group/2028-05-26/
LOCATION:Christian Worship Center\, 201 W 22nd St.\, Lombard\, IL\, IL\, 60148\, United States
ATTACH;FMTTYPE=image/png:https://www.cwclife.com/wp-content/uploads/2025/05/YTH-Slide-V2.png
END:VEVENT
BEGIN:VEVENT
DTSTART;TZID=America/Chicago:20280602T190000
DTEND;TZID=America/Chicago:20280602T200000
DTSTAMP:20260420T172213
CREATED:20250522T202905Z
LAST-MODIFIED:20260106T020459Z
UID:10001818-1843585200-1843588800@www.cwclife.com
SUMMARY:Youth Group
DESCRIPTION:
URL:https://www.cwclife.com/event/youth-group/2028-06-02/
LOCATION:Christian Worship Center\, 201 W 22nd St.\, Lombard\, IL\, IL\, 60148\, United States
ATTACH;FMTTYPE=image/png:https://www.cwclife.com/wp-content/uploads/2025/05/YTH-Slide-V2.png
END:VEVENT
BEGIN:VEVENT
DTSTART;TZID=America/Chicago:20280609T190000
DTEND;TZID=America/Chicago:20280609T200000
DTSTAMP:20260420T172213
CREATED:20250522T202905Z
LAST-MODIFIED:20260106T020459Z
UID:10001819-1844190000-1844193600@www.cwclife.com
SUMMARY:Youth Group
DESCRIPTION:
URL:https://www.cwclife.com/event/youth-group/2028-06-09/
LOCATION:Christian Worship Center\, 201 W 22nd St.\, Lombard\, IL\, IL\, 60148\, United States
ATTACH;FMTTYPE=image/png:https://www.cwclife.com/wp-content/uploads/2025/05/YTH-Slide-V2.png
END:VEVENT
BEGIN:VEVENT
DTSTART;TZID=America/Chicago:20280616T190000
DTEND;TZID=America/Chicago:20280616T200000
DTSTAMP:20260420T172213
CREATED:20250522T202905Z
LAST-MODIFIED:20260106T020459Z
UID:10001820-1844794800-1844798400@www.cwclife.com
SUMMARY:Youth Group
DESCRIPTION:
URL:https://www.cwclife.com/event/youth-group/2028-06-16/
LOCATION:Christian Worship Center\, 201 W 22nd St.\, Lombard\, IL\, IL\, 60148\, United States
ATTACH;FMTTYPE=image/png:https://www.cwclife.com/wp-content/uploads/2025/05/YTH-Slide-V2.png
END:VEVENT
BEGIN:VEVENT
DTSTART;TZID=America/Chicago:20280623T190000
DTEND;TZID=America/Chicago:20280623T200000
DTSTAMP:20260420T172213
CREATED:20250522T202905Z
LAST-MODIFIED:20260106T020459Z
UID:10001821-1845399600-1845403200@www.cwclife.com
SUMMARY:Youth Group
DESCRIPTION:
URL:https://www.cwclife.com/event/youth-group/2028-06-23/
LOCATION:Christian Worship Center\, 201 W 22nd St.\, Lombard\, IL\, IL\, 60148\, United States
ATTACH;FMTTYPE=image/png:https://www.cwclife.com/wp-content/uploads/2025/05/YTH-Slide-V2.png
END:VEVENT
BEGIN:VEVENT
DTSTART;TZID=America/Chicago:20280630T190000
DTEND;TZID=America/Chicago:20280630T200000
DTSTAMP:20260420T172213
CREATED:20250522T202905Z
LAST-MODIFIED:20260106T020459Z
UID:10001822-1846004400-1846008000@www.cwclife.com
SUMMARY:Youth Group
DESCRIPTION:
URL:https://www.cwclife.com/event/youth-group/2028-06-30/
LOCATION:Christian Worship Center\, 201 W 22nd St.\, Lombard\, IL\, IL\, 60148\, United States
ATTACH;FMTTYPE=image/png:https://www.cwclife.com/wp-content/uploads/2025/05/YTH-Slide-V2.png
END:VEVENT
BEGIN:VEVENT
DTSTART;TZID=America/Chicago:20280707T190000
DTEND;TZID=America/Chicago:20280707T200000
DTSTAMP:20260420T172213
CREATED:20250522T202905Z
LAST-MODIFIED:20260106T020459Z
UID:10001823-1846609200-1846612800@www.cwclife.com
SUMMARY:Youth Group
DESCRIPTION:
URL:https://www.cwclife.com/event/youth-group/2028-07-07/
LOCATION:Christian Worship Center\, 201 W 22nd St.\, Lombard\, IL\, IL\, 60148\, United States
ATTACH;FMTTYPE=image/png:https://www.cwclife.com/wp-content/uploads/2025/05/YTH-Slide-V2.png
END:VEVENT
BEGIN:VEVENT
DTSTART;TZID=America/Chicago:20280714T190000
DTEND;TZID=America/Chicago:20280714T200000
DTSTAMP:20260420T172213
CREATED:20250522T202905Z
LAST-MODIFIED:20260106T020459Z
UID:10001824-1847214000-1847217600@www.cwclife.com
SUMMARY:Youth Group
DESCRIPTION:
URL:https://www.cwclife.com/event/youth-group/2028-07-14/
LOCATION:Christian Worship Center\, 201 W 22nd St.\, Lombard\, IL\, IL\, 60148\, United States
ATTACH;FMTTYPE=image/png:https://www.cwclife.com/wp-content/uploads/2025/05/YTH-Slide-V2.png
END:VEVENT
BEGIN:VEVENT
DTSTART;TZID=America/Chicago:20280721T190000
DTEND;TZID=America/Chicago:20280721T200000
DTSTAMP:20260420T172213
CREATED:20250522T202905Z
LAST-MODIFIED:20260106T020459Z
UID:10001825-1847818800-1847822400@www.cwclife.com
SUMMARY:Youth Group
DESCRIPTION:
URL:https://www.cwclife.com/event/youth-group/2028-07-21/
LOCATION:Christian Worship Center\, 201 W 22nd St.\, Lombard\, IL\, IL\, 60148\, United States
ATTACH;FMTTYPE=image/png:https://www.cwclife.com/wp-content/uploads/2025/05/YTH-Slide-V2.png
END:VEVENT
BEGIN:VEVENT
DTSTART;TZID=America/Chicago:20280728T190000
DTEND;TZID=America/Chicago:20280728T200000
DTSTAMP:20260420T172213
CREATED:20250522T202905Z
LAST-MODIFIED:20260106T020459Z
UID:10001826-1848423600-1848427200@www.cwclife.com
SUMMARY:Youth Group
DESCRIPTION:
URL:https://www.cwclife.com/event/youth-group/2028-07-28/
LOCATION:Christian Worship Center\, 201 W 22nd St.\, Lombard\, IL\, IL\, 60148\, United States
ATTACH;FMTTYPE=image/png:https://www.cwclife.com/wp-content/uploads/2025/05/YTH-Slide-V2.png
END:VEVENT
BEGIN:VEVENT
DTSTART;TZID=America/Chicago:20280804T190000
DTEND;TZID=America/Chicago:20280804T200000
DTSTAMP:20260420T172213
CREATED:20250522T202905Z
LAST-MODIFIED:20260106T020459Z
UID:10001827-1849028400-1849032000@www.cwclife.com
SUMMARY:Youth Group
DESCRIPTION:
URL:https://www.cwclife.com/event/youth-group/2028-08-04/
LOCATION:Christian Worship Center\, 201 W 22nd St.\, Lombard\, IL\, IL\, 60148\, United States
ATTACH;FMTTYPE=image/png:https://www.cwclife.com/wp-content/uploads/2025/05/YTH-Slide-V2.png
END:VEVENT
BEGIN:VEVENT
DTSTART;TZID=America/Chicago:20280811T190000
DTEND;TZID=America/Chicago:20280811T200000
DTSTAMP:20260420T172213
CREATED:20250522T202905Z
LAST-MODIFIED:20260106T020459Z
UID:10001828-1849633200-1849636800@www.cwclife.com
SUMMARY:Youth Group
DESCRIPTION:
URL:https://www.cwclife.com/event/youth-group/2028-08-11/
LOCATION:Christian Worship Center\, 201 W 22nd St.\, Lombard\, IL\, IL\, 60148\, United States
ATTACH;FMTTYPE=image/png:https://www.cwclife.com/wp-content/uploads/2025/05/YTH-Slide-V2.png
END:VEVENT
BEGIN:VEVENT
DTSTART;TZID=America/Chicago:20280818T190000
DTEND;TZID=America/Chicago:20280818T200000
DTSTAMP:20260420T172213
CREATED:20250522T202905Z
LAST-MODIFIED:20260106T020459Z
UID:10001829-1850238000-1850241600@www.cwclife.com
SUMMARY:Youth Group
DESCRIPTION:
URL:https://www.cwclife.com/event/youth-group/2028-08-18/
LOCATION:Christian Worship Center\, 201 W 22nd St.\, Lombard\, IL\, IL\, 60148\, United States
ATTACH;FMTTYPE=image/png:https://www.cwclife.com/wp-content/uploads/2025/05/YTH-Slide-V2.png
END:VEVENT
BEGIN:VEVENT
DTSTART;TZID=America/Chicago:20280825T190000
DTEND;TZID=America/Chicago:20280825T200000
DTSTAMP:20260420T172213
CREATED:20250522T202905Z
LAST-MODIFIED:20260106T020459Z
UID:10001830-1850842800-1850846400@www.cwclife.com
SUMMARY:Youth Group
DESCRIPTION:
URL:https://www.cwclife.com/event/youth-group/2028-08-25/
LOCATION:Christian Worship Center\, 201 W 22nd St.\, Lombard\, IL\, IL\, 60148\, United States
ATTACH;FMTTYPE=image/png:https://www.cwclife.com/wp-content/uploads/2025/05/YTH-Slide-V2.png
END:VEVENT
BEGIN:VEVENT
DTSTART;TZID=America/Chicago:20280901T190000
DTEND;TZID=America/Chicago:20280901T200000
DTSTAMP:20260420T172213
CREATED:20250522T202905Z
LAST-MODIFIED:20260106T020459Z
UID:10001831-1851447600-1851451200@www.cwclife.com
SUMMARY:Youth Group
DESCRIPTION:
URL:https://www.cwclife.com/event/youth-group/2028-09-01/
LOCATION:Christian Worship Center\, 201 W 22nd St.\, Lombard\, IL\, IL\, 60148\, United States
ATTACH;FMTTYPE=image/png:https://www.cwclife.com/wp-content/uploads/2025/05/YTH-Slide-V2.png
END:VEVENT
BEGIN:VEVENT
DTSTART;TZID=America/Chicago:20280908T190000
DTEND;TZID=America/Chicago:20280908T200000
DTSTAMP:20260420T172213
CREATED:20250522T202905Z
LAST-MODIFIED:20260106T020459Z
UID:10001832-1852052400-1852056000@www.cwclife.com
SUMMARY:Youth Group
DESCRIPTION:
URL:https://www.cwclife.com/event/youth-group/2028-09-08/
LOCATION:Christian Worship Center\, 201 W 22nd St.\, Lombard\, IL\, IL\, 60148\, United States
ATTACH;FMTTYPE=image/png:https://www.cwclife.com/wp-content/uploads/2025/05/YTH-Slide-V2.png
END:VEVENT
BEGIN:VEVENT
DTSTART;TZID=America/Chicago:20280915T190000
DTEND;TZID=America/Chicago:20280915T200000
DTSTAMP:20260420T172213
CREATED:20250522T202905Z
LAST-MODIFIED:20260106T020459Z
UID:10001833-1852657200-1852660800@www.cwclife.com
SUMMARY:Youth Group
DESCRIPTION:
URL:https://www.cwclife.com/event/youth-group/2028-09-15/
LOCATION:Christian Worship Center\, 201 W 22nd St.\, Lombard\, IL\, IL\, 60148\, United States
ATTACH;FMTTYPE=image/png:https://www.cwclife.com/wp-content/uploads/2025/05/YTH-Slide-V2.png
END:VEVENT
END:VCALENDAR