BEGIN:VCALENDAR
VERSION:2.0
PRODID:-//Christian Worship Center Church - ECPv6.15.20//NONSGML v1.0//EN
CALSCALE:GREGORIAN
METHOD:PUBLISH
X-WR-CALNAME:Christian Worship Center Church
X-ORIGINAL-URL:https://www.cwclife.com
X-WR-CALDESC:Events for Christian Worship Center Church
REFRESH-INTERVAL;VALUE=DURATION:PT1H
X-Robots-Tag:noindex
X-PUBLISHED-TTL:PT1H
BEGIN:VTIMEZONE
TZID:America/Chicago
BEGIN:DAYLIGHT
TZOFFSETFROM:-0600
TZOFFSETTO:-0500
TZNAME:CDT
DTSTART:20250309T080000
END:DAYLIGHT
BEGIN:STANDARD
TZOFFSETFROM:-0500
TZOFFSETTO:-0600
TZNAME:CST
DTSTART:20251102T070000
END:STANDARD
BEGIN:DAYLIGHT
TZOFFSETFROM:-0600
TZOFFSETTO:-0500
TZNAME:CDT
DTSTART:20260308T080000
END:DAYLIGHT
BEGIN:STANDARD
TZOFFSETFROM:-0500
TZOFFSETTO:-0600
TZNAME:CST
DTSTART:20261101T070000
END:STANDARD
BEGIN:DAYLIGHT
TZOFFSETFROM:-0600
TZOFFSETTO:-0500
TZNAME:CDT
DTSTART:20270314T080000
END:DAYLIGHT
BEGIN:STANDARD
TZOFFSETFROM:-0500
TZOFFSETTO:-0600
TZNAME:CST
DTSTART:20271107T070000
END:STANDARD
END:VTIMEZONE
BEGIN:VEVENT
DTSTART;TZID=America/Chicago:20260422T190000
DTEND;TZID=America/Chicago:20260422T200000
DTSTAMP:20260420T032359
CREATED:20250522T202627Z
LAST-MODIFIED:20260105T163708Z
UID:10000327-1776884400-1776888000@www.cwclife.com
SUMMARY:Mid-Week Service
DESCRIPTION:
URL:https://www.cwclife.com/event/mid-week-service/2026-04-22/
LOCATION:Christian Worship Center\, 201 W 22nd St.\, Lombard\, IL\, IL\, 60148\, United States
ATTACH;FMTTYPE=image/png:https://www.cwclife.com/wp-content/uploads/2025/05/New-MidWeek-Slide.png
END:VEVENT
BEGIN:VEVENT
DTSTART;TZID=America/Chicago:20260426T090000
DTEND;TZID=America/Chicago:20260426T120000
DTSTAMP:20260420T032359
CREATED:20260417T191650Z
LAST-MODIFIED:20260417T191650Z
UID:10001959-1777194000-1777204800@www.cwclife.com
SUMMARY:Water Baptism
DESCRIPTION:
URL:https://www.cwclife.com/event/water-baptism/
LOCATION:Christian Worship Center\, 201 W 22nd St.\, Lombard\, IL\, IL\, 60148\, United States
ATTACH;FMTTYPE=image/png:https://www.cwclife.com/wp-content/uploads/2026/04/WaterBaptism-042626.png
END:VEVENT
BEGIN:VEVENT
DTSTART;TZID=America/Chicago:20260429T190000
DTEND;TZID=America/Chicago:20260429T200000
DTSTAMP:20260420T032359
CREATED:20250522T202627Z
LAST-MODIFIED:20260105T163708Z
UID:10000328-1777489200-1777492800@www.cwclife.com
SUMMARY:Mid-Week Service
DESCRIPTION:
URL:https://www.cwclife.com/event/mid-week-service/2026-04-29/
LOCATION:Christian Worship Center\, 201 W 22nd St.\, Lombard\, IL\, IL\, 60148\, United States
ATTACH;FMTTYPE=image/png:https://www.cwclife.com/wp-content/uploads/2025/05/New-MidWeek-Slide.png
END:VEVENT
BEGIN:VEVENT
DTSTART;TZID=America/Chicago:20260503T090000
DTEND;TZID=America/Chicago:20260503T120000
DTSTAMP:20260420T032359
CREATED:20260417T191836Z
LAST-MODIFIED:20260419T013153Z
UID:10001960-1777798800-1777809600@www.cwclife.com
SUMMARY:Baby Dedication
DESCRIPTION:
URL:https://www.cwclife.com/event/baby-dedication/
LOCATION:Christian Worship Center\, 201 W 22nd St.\, Lombard\, IL\, IL\, 60148\, United States
ATTACH;FMTTYPE=image/png:https://www.cwclife.com/wp-content/uploads/2026/04/BabyDedication-05032026.png
END:VEVENT
BEGIN:VEVENT
DTSTART;TZID=America/Chicago:20260506T190000
DTEND;TZID=America/Chicago:20260506T200000
DTSTAMP:20260420T032359
CREATED:20250522T202627Z
LAST-MODIFIED:20260105T163708Z
UID:10000329-1778094000-1778097600@www.cwclife.com
SUMMARY:Mid-Week Service
DESCRIPTION:
URL:https://www.cwclife.com/event/mid-week-service/2026-05-06/
LOCATION:Christian Worship Center\, 201 W 22nd St.\, Lombard\, IL\, IL\, 60148\, United States
ATTACH;FMTTYPE=image/png:https://www.cwclife.com/wp-content/uploads/2025/05/New-MidWeek-Slide.png
END:VEVENT
BEGIN:VEVENT
DTSTART;TZID=America/Chicago:20260513T190000
DTEND;TZID=America/Chicago:20260513T200000
DTSTAMP:20260420T032359
CREATED:20250522T202627Z
LAST-MODIFIED:20260105T163708Z
UID:10000330-1778698800-1778702400@www.cwclife.com
SUMMARY:Mid-Week Service
DESCRIPTION:
URL:https://www.cwclife.com/event/mid-week-service/2026-05-13/
LOCATION:Christian Worship Center\, 201 W 22nd St.\, Lombard\, IL\, IL\, 60148\, United States
ATTACH;FMTTYPE=image/png:https://www.cwclife.com/wp-content/uploads/2025/05/New-MidWeek-Slide.png
END:VEVENT
BEGIN:VEVENT
DTSTART;TZID=America/Chicago:20260520T190000
DTEND;TZID=America/Chicago:20260520T200000
DTSTAMP:20260420T032359
CREATED:20250522T202627Z
LAST-MODIFIED:20260105T163708Z
UID:10000331-1779303600-1779307200@www.cwclife.com
SUMMARY:Mid-Week Service
DESCRIPTION:
URL:https://www.cwclife.com/event/mid-week-service/2026-05-20/
LOCATION:Christian Worship Center\, 201 W 22nd St.\, Lombard\, IL\, IL\, 60148\, United States
ATTACH;FMTTYPE=image/png:https://www.cwclife.com/wp-content/uploads/2025/05/New-MidWeek-Slide.png
END:VEVENT
BEGIN:VEVENT
DTSTART;TZID=America/Chicago:20260527T190000
DTEND;TZID=America/Chicago:20260527T200000
DTSTAMP:20260420T032359
CREATED:20250522T202627Z
LAST-MODIFIED:20260105T163708Z
UID:10000332-1779908400-1779912000@www.cwclife.com
SUMMARY:Mid-Week Service
DESCRIPTION:
URL:https://www.cwclife.com/event/mid-week-service/2026-05-27/
LOCATION:Christian Worship Center\, 201 W 22nd St.\, Lombard\, IL\, IL\, 60148\, United States
ATTACH;FMTTYPE=image/png:https://www.cwclife.com/wp-content/uploads/2025/05/New-MidWeek-Slide.png
END:VEVENT
BEGIN:VEVENT
DTSTART;TZID=America/Chicago:20260603T190000
DTEND;TZID=America/Chicago:20260603T200000
DTSTAMP:20260420T032359
CREATED:20250522T202627Z
LAST-MODIFIED:20260105T163708Z
UID:10000333-1780513200-1780516800@www.cwclife.com
SUMMARY:Mid-Week Service
DESCRIPTION:
URL:https://www.cwclife.com/event/mid-week-service/2026-06-03/
LOCATION:Christian Worship Center\, 201 W 22nd St.\, Lombard\, IL\, IL\, 60148\, United States
ATTACH;FMTTYPE=image/png:https://www.cwclife.com/wp-content/uploads/2025/05/New-MidWeek-Slide.png
END:VEVENT
BEGIN:VEVENT
DTSTART;TZID=America/Chicago:20260610T190000
DTEND;TZID=America/Chicago:20260610T200000
DTSTAMP:20260420T032359
CREATED:20250522T202627Z
LAST-MODIFIED:20260105T163708Z
UID:10000334-1781118000-1781121600@www.cwclife.com
SUMMARY:Mid-Week Service
DESCRIPTION:
URL:https://www.cwclife.com/event/mid-week-service/2026-06-10/
LOCATION:Christian Worship Center\, 201 W 22nd St.\, Lombard\, IL\, IL\, 60148\, United States
ATTACH;FMTTYPE=image/png:https://www.cwclife.com/wp-content/uploads/2025/05/New-MidWeek-Slide.png
END:VEVENT
BEGIN:VEVENT
DTSTART;TZID=America/Chicago:20260617T190000
DTEND;TZID=America/Chicago:20260617T200000
DTSTAMP:20260420T032359
CREATED:20250522T202627Z
LAST-MODIFIED:20260105T163708Z
UID:10000335-1781722800-1781726400@www.cwclife.com
SUMMARY:Mid-Week Service
DESCRIPTION:
URL:https://www.cwclife.com/event/mid-week-service/2026-06-17/
LOCATION:Christian Worship Center\, 201 W 22nd St.\, Lombard\, IL\, IL\, 60148\, United States
ATTACH;FMTTYPE=image/png:https://www.cwclife.com/wp-content/uploads/2025/05/New-MidWeek-Slide.png
END:VEVENT
BEGIN:VEVENT
DTSTART;TZID=America/Chicago:20260624T190000
DTEND;TZID=America/Chicago:20260624T200000
DTSTAMP:20260420T032359
CREATED:20250522T202627Z
LAST-MODIFIED:20260105T163708Z
UID:10000336-1782327600-1782331200@www.cwclife.com
SUMMARY:Mid-Week Service
DESCRIPTION:
URL:https://www.cwclife.com/event/mid-week-service/2026-06-24/
LOCATION:Christian Worship Center\, 201 W 22nd St.\, Lombard\, IL\, IL\, 60148\, United States
ATTACH;FMTTYPE=image/png:https://www.cwclife.com/wp-content/uploads/2025/05/New-MidWeek-Slide.png
END:VEVENT
BEGIN:VEVENT
DTSTART;TZID=America/Chicago:20260626T140000
DTEND;TZID=America/Chicago:20260704T180000
DTSTAMP:20260420T032359
CREATED:20260417T191437Z
LAST-MODIFIED:20260417T191437Z
UID:10001958-1782482400-1783188000@www.cwclife.com
SUMMARY:Mexico Missions Trip
DESCRIPTION:
URL:https://www.cwclife.com/event/mexico-missions-trip/
LOCATION:Christian Worship Center\, 201 W 22nd St.\, Lombard\, IL\, IL\, 60148\, United States
ATTACH;FMTTYPE=image/png:https://www.cwclife.com/wp-content/uploads/2026/04/Mexico-Missions-Trip-062626.png
END:VEVENT
BEGIN:VEVENT
DTSTART;TZID=America/Chicago:20260701T190000
DTEND;TZID=America/Chicago:20260701T200000
DTSTAMP:20260420T032359
CREATED:20250522T202627Z
LAST-MODIFIED:20260105T163708Z
UID:10000337-1782932400-1782936000@www.cwclife.com
SUMMARY:Mid-Week Service
DESCRIPTION:
URL:https://www.cwclife.com/event/mid-week-service/2026-07-01/
LOCATION:Christian Worship Center\, 201 W 22nd St.\, Lombard\, IL\, IL\, 60148\, United States
ATTACH;FMTTYPE=image/png:https://www.cwclife.com/wp-content/uploads/2025/05/New-MidWeek-Slide.png
END:VEVENT
BEGIN:VEVENT
DTSTART;TZID=America/Chicago:20260708T190000
DTEND;TZID=America/Chicago:20260708T200000
DTSTAMP:20260420T032359
CREATED:20250522T202627Z
LAST-MODIFIED:20260105T163708Z
UID:10000338-1783537200-1783540800@www.cwclife.com
SUMMARY:Mid-Week Service
DESCRIPTION:
URL:https://www.cwclife.com/event/mid-week-service/2026-07-08/
LOCATION:Christian Worship Center\, 201 W 22nd St.\, Lombard\, IL\, IL\, 60148\, United States
ATTACH;FMTTYPE=image/png:https://www.cwclife.com/wp-content/uploads/2025/05/New-MidWeek-Slide.png
END:VEVENT
BEGIN:VEVENT
DTSTART;TZID=America/Chicago:20260715T190000
DTEND;TZID=America/Chicago:20260715T200000
DTSTAMP:20260420T032359
CREATED:20250522T202627Z
LAST-MODIFIED:20260105T163708Z
UID:10000339-1784142000-1784145600@www.cwclife.com
SUMMARY:Mid-Week Service
DESCRIPTION:
URL:https://www.cwclife.com/event/mid-week-service/2026-07-15/
LOCATION:Christian Worship Center\, 201 W 22nd St.\, Lombard\, IL\, IL\, 60148\, United States
ATTACH;FMTTYPE=image/png:https://www.cwclife.com/wp-content/uploads/2025/05/New-MidWeek-Slide.png
END:VEVENT
BEGIN:VEVENT
DTSTART;TZID=America/Chicago:20260722T190000
DTEND;TZID=America/Chicago:20260722T200000
DTSTAMP:20260420T032359
CREATED:20250522T202627Z
LAST-MODIFIED:20260105T163708Z
UID:10000340-1784746800-1784750400@www.cwclife.com
SUMMARY:Mid-Week Service
DESCRIPTION:
URL:https://www.cwclife.com/event/mid-week-service/2026-07-22/
LOCATION:Christian Worship Center\, 201 W 22nd St.\, Lombard\, IL\, IL\, 60148\, United States
ATTACH;FMTTYPE=image/png:https://www.cwclife.com/wp-content/uploads/2025/05/New-MidWeek-Slide.png
END:VEVENT
BEGIN:VEVENT
DTSTART;TZID=America/Chicago:20260729T190000
DTEND;TZID=America/Chicago:20260729T200000
DTSTAMP:20260420T032359
CREATED:20250522T202627Z
LAST-MODIFIED:20260105T163708Z
UID:10000341-1785351600-1785355200@www.cwclife.com
SUMMARY:Mid-Week Service
DESCRIPTION:
URL:https://www.cwclife.com/event/mid-week-service/2026-07-29/
LOCATION:Christian Worship Center\, 201 W 22nd St.\, Lombard\, IL\, IL\, 60148\, United States
ATTACH;FMTTYPE=image/png:https://www.cwclife.com/wp-content/uploads/2025/05/New-MidWeek-Slide.png
END:VEVENT
BEGIN:VEVENT
DTSTART;TZID=America/Chicago:20260805T190000
DTEND;TZID=America/Chicago:20260805T200000
DTSTAMP:20260420T032359
CREATED:20250522T202627Z
LAST-MODIFIED:20260105T163708Z
UID:10000342-1785956400-1785960000@www.cwclife.com
SUMMARY:Mid-Week Service
DESCRIPTION:
URL:https://www.cwclife.com/event/mid-week-service/2026-08-05/
LOCATION:Christian Worship Center\, 201 W 22nd St.\, Lombard\, IL\, IL\, 60148\, United States
ATTACH;FMTTYPE=image/png:https://www.cwclife.com/wp-content/uploads/2025/05/New-MidWeek-Slide.png
END:VEVENT
BEGIN:VEVENT
DTSTART;TZID=America/Chicago:20260812T190000
DTEND;TZID=America/Chicago:20260812T200000
DTSTAMP:20260420T032359
CREATED:20250522T202627Z
LAST-MODIFIED:20260105T163708Z
UID:10000343-1786561200-1786564800@www.cwclife.com
SUMMARY:Mid-Week Service
DESCRIPTION:
URL:https://www.cwclife.com/event/mid-week-service/2026-08-12/
LOCATION:Christian Worship Center\, 201 W 22nd St.\, Lombard\, IL\, IL\, 60148\, United States
ATTACH;FMTTYPE=image/png:https://www.cwclife.com/wp-content/uploads/2025/05/New-MidWeek-Slide.png
END:VEVENT
BEGIN:VEVENT
DTSTART;TZID=America/Chicago:20260819T190000
DTEND;TZID=America/Chicago:20260819T200000
DTSTAMP:20260420T032359
CREATED:20250522T202627Z
LAST-MODIFIED:20260105T163708Z
UID:10000344-1787166000-1787169600@www.cwclife.com
SUMMARY:Mid-Week Service
DESCRIPTION:
URL:https://www.cwclife.com/event/mid-week-service/2026-08-19/
LOCATION:Christian Worship Center\, 201 W 22nd St.\, Lombard\, IL\, IL\, 60148\, United States
ATTACH;FMTTYPE=image/png:https://www.cwclife.com/wp-content/uploads/2025/05/New-MidWeek-Slide.png
END:VEVENT
BEGIN:VEVENT
DTSTART;TZID=America/Chicago:20260826T190000
DTEND;TZID=America/Chicago:20260826T200000
DTSTAMP:20260420T032359
CREATED:20250522T202627Z
LAST-MODIFIED:20260105T163708Z
UID:10000345-1787770800-1787774400@www.cwclife.com
SUMMARY:Mid-Week Service
DESCRIPTION:
URL:https://www.cwclife.com/event/mid-week-service/2026-08-26/
LOCATION:Christian Worship Center\, 201 W 22nd St.\, Lombard\, IL\, IL\, 60148\, United States
ATTACH;FMTTYPE=image/png:https://www.cwclife.com/wp-content/uploads/2025/05/New-MidWeek-Slide.png
END:VEVENT
BEGIN:VEVENT
DTSTART;TZID=America/Chicago:20260902T190000
DTEND;TZID=America/Chicago:20260902T200000
DTSTAMP:20260420T032359
CREATED:20250522T202627Z
LAST-MODIFIED:20260105T163708Z
UID:10000346-1788375600-1788379200@www.cwclife.com
SUMMARY:Mid-Week Service
DESCRIPTION:
URL:https://www.cwclife.com/event/mid-week-service/2026-09-02/
LOCATION:Christian Worship Center\, 201 W 22nd St.\, Lombard\, IL\, IL\, 60148\, United States
ATTACH;FMTTYPE=image/png:https://www.cwclife.com/wp-content/uploads/2025/05/New-MidWeek-Slide.png
END:VEVENT
BEGIN:VEVENT
DTSTART;TZID=America/Chicago:20260909T190000
DTEND;TZID=America/Chicago:20260909T200000
DTSTAMP:20260420T032359
CREATED:20250522T202627Z
LAST-MODIFIED:20260105T163708Z
UID:10000347-1788980400-1788984000@www.cwclife.com
SUMMARY:Mid-Week Service
DESCRIPTION:
URL:https://www.cwclife.com/event/mid-week-service/2026-09-09/
LOCATION:Christian Worship Center\, 201 W 22nd St.\, Lombard\, IL\, IL\, 60148\, United States
ATTACH;FMTTYPE=image/png:https://www.cwclife.com/wp-content/uploads/2025/05/New-MidWeek-Slide.png
END:VEVENT
BEGIN:VEVENT
DTSTART;TZID=America/Chicago:20260916T190000
DTEND;TZID=America/Chicago:20260916T200000
DTSTAMP:20260420T032359
CREATED:20250522T202627Z
LAST-MODIFIED:20260105T163708Z
UID:10000348-1789585200-1789588800@www.cwclife.com
SUMMARY:Mid-Week Service
DESCRIPTION:
URL:https://www.cwclife.com/event/mid-week-service/2026-09-16/
LOCATION:Christian Worship Center\, 201 W 22nd St.\, Lombard\, IL\, IL\, 60148\, United States
ATTACH;FMTTYPE=image/png:https://www.cwclife.com/wp-content/uploads/2025/05/New-MidWeek-Slide.png
END:VEVENT
BEGIN:VEVENT
DTSTART;TZID=America/Chicago:20260923T190000
DTEND;TZID=America/Chicago:20260923T200000
DTSTAMP:20260420T032359
CREATED:20250522T202627Z
LAST-MODIFIED:20260105T163708Z
UID:10000349-1790190000-1790193600@www.cwclife.com
SUMMARY:Mid-Week Service
DESCRIPTION:
URL:https://www.cwclife.com/event/mid-week-service/2026-09-23/
LOCATION:Christian Worship Center\, 201 W 22nd St.\, Lombard\, IL\, IL\, 60148\, United States
ATTACH;FMTTYPE=image/png:https://www.cwclife.com/wp-content/uploads/2025/05/New-MidWeek-Slide.png
END:VEVENT
BEGIN:VEVENT
DTSTART;TZID=America/Chicago:20260930T190000
DTEND;TZID=America/Chicago:20260930T200000
DTSTAMP:20260420T032359
CREATED:20250522T202627Z
LAST-MODIFIED:20260105T163708Z
UID:10000350-1790794800-1790798400@www.cwclife.com
SUMMARY:Mid-Week Service
DESCRIPTION:
URL:https://www.cwclife.com/event/mid-week-service/2026-09-30/
LOCATION:Christian Worship Center\, 201 W 22nd St.\, Lombard\, IL\, IL\, 60148\, United States
ATTACH;FMTTYPE=image/png:https://www.cwclife.com/wp-content/uploads/2025/05/New-MidWeek-Slide.png
END:VEVENT
BEGIN:VEVENT
DTSTART;TZID=America/Chicago:20261007T190000
DTEND;TZID=America/Chicago:20261007T200000
DTSTAMP:20260420T032359
CREATED:20250522T202627Z
LAST-MODIFIED:20260105T163708Z
UID:10000351-1791399600-1791403200@www.cwclife.com
SUMMARY:Mid-Week Service
DESCRIPTION:
URL:https://www.cwclife.com/event/mid-week-service/2026-10-07/
LOCATION:Christian Worship Center\, 201 W 22nd St.\, Lombard\, IL\, IL\, 60148\, United States
ATTACH;FMTTYPE=image/png:https://www.cwclife.com/wp-content/uploads/2025/05/New-MidWeek-Slide.png
END:VEVENT
BEGIN:VEVENT
DTSTART;TZID=America/Chicago:20261014T190000
DTEND;TZID=America/Chicago:20261014T200000
DTSTAMP:20260420T032359
CREATED:20250522T202627Z
LAST-MODIFIED:20260105T163708Z
UID:10000352-1792004400-1792008000@www.cwclife.com
SUMMARY:Mid-Week Service
DESCRIPTION:
URL:https://www.cwclife.com/event/mid-week-service/2026-10-14/
LOCATION:Christian Worship Center\, 201 W 22nd St.\, Lombard\, IL\, IL\, 60148\, United States
ATTACH;FMTTYPE=image/png:https://www.cwclife.com/wp-content/uploads/2025/05/New-MidWeek-Slide.png
END:VEVENT
BEGIN:VEVENT
DTSTART;TZID=America/Chicago:20261021T190000
DTEND;TZID=America/Chicago:20261021T200000
DTSTAMP:20260420T032359
CREATED:20250522T202627Z
LAST-MODIFIED:20260105T163708Z
UID:10000353-1792609200-1792612800@www.cwclife.com
SUMMARY:Mid-Week Service
DESCRIPTION:
URL:https://www.cwclife.com/event/mid-week-service/2026-10-21/
LOCATION:Christian Worship Center\, 201 W 22nd St.\, Lombard\, IL\, IL\, 60148\, United States
ATTACH;FMTTYPE=image/png:https://www.cwclife.com/wp-content/uploads/2025/05/New-MidWeek-Slide.png
END:VEVENT
END:VCALENDAR