BEGIN:VCALENDAR
VERSION:2.0
PRODID:-//Christian Worship Center Church - ECPv6.15.20//NONSGML v1.0//EN
CALSCALE:GREGORIAN
METHOD:PUBLISH
X-ORIGINAL-URL:https://www.cwclife.com
X-WR-CALDESC:Events for Christian Worship Center Church
REFRESH-INTERVAL;VALUE=DURATION:PT1H
X-Robots-Tag:noindex
X-PUBLISHED-TTL:PT1H
BEGIN:VTIMEZONE
TZID:America/Chicago
BEGIN:DAYLIGHT
TZOFFSETFROM:-0600
TZOFFSETTO:-0500
TZNAME:CDT
DTSTART:20240310T080000
END:DAYLIGHT
BEGIN:STANDARD
TZOFFSETFROM:-0500
TZOFFSETTO:-0600
TZNAME:CST
DTSTART:20241103T070000
END:STANDARD
BEGIN:DAYLIGHT
TZOFFSETFROM:-0600
TZOFFSETTO:-0500
TZNAME:CDT
DTSTART:20250309T080000
END:DAYLIGHT
BEGIN:STANDARD
TZOFFSETFROM:-0500
TZOFFSETTO:-0600
TZNAME:CST
DTSTART:20251102T070000
END:STANDARD
BEGIN:DAYLIGHT
TZOFFSETFROM:-0600
TZOFFSETTO:-0500
TZNAME:CDT
DTSTART:20260308T080000
END:DAYLIGHT
BEGIN:STANDARD
TZOFFSETFROM:-0500
TZOFFSETTO:-0600
TZNAME:CST
DTSTART:20261101T070000
END:STANDARD
BEGIN:DAYLIGHT
TZOFFSETFROM:-0600
TZOFFSETTO:-0500
TZNAME:CDT
DTSTART:20270314T080000
END:DAYLIGHT
BEGIN:STANDARD
TZOFFSETFROM:-0500
TZOFFSETTO:-0600
TZNAME:CST
DTSTART:20271107T070000
END:STANDARD
END:VTIMEZONE
BEGIN:VEVENT
DTSTART;TZID=America/Chicago:20260211T190000
DTEND;TZID=America/Chicago:20260211T200000
DTSTAMP:20260420T062012
CREATED:20250522T202627Z
LAST-MODIFIED:20260105T163708Z
UID:10000317-1770836400-1770840000@www.cwclife.com
SUMMARY:Mid-Week Service
DESCRIPTION:
URL:https://www.cwclife.com/event/mid-week-service/2026-02-11/
LOCATION:Christian Worship Center\, 201 W 22nd St.\, Lombard\, IL\, IL\, 60148\, United States
ATTACH;FMTTYPE=image/png:https://www.cwclife.com/wp-content/uploads/2025/05/New-MidWeek-Slide.png
END:VEVENT
BEGIN:VEVENT
DTSTART;TZID=America/Chicago:20260207T090000
DTEND;TZID=America/Chicago:20260207T123000
DTSTAMP:20260420T062012
CREATED:20260102T173042Z
LAST-MODIFIED:20260106T013635Z
UID:10001657-1770454800-1770467400@www.cwclife.com
SUMMARY:Journey To Us Conference
DESCRIPTION:Click HERE to register. \nNo matter where your marriage is today\, there is room for growth and healing. \nFocus on the Family and Christian Worship Center (CWC) invite you to Journey to Us\, a transformative two-day marriage conference with Greg & Erin Smalley. \nJoin us for five engaging sessions over two days as we explore what a healthy\, God-centered marriage can look like\, and practical ways to move toward it together. Through biblical wisdom and real-life insight\, couples will learn how to: \n\nBuild a marriage that feels emotionally and spiritually safe\nNavigate conflict in healthy\, life-giving ways\nReorient their marriage according to God’s perfect design\nCommunicate in ways that foster deeper connection and intimacy\nFunction as a unified team\, making decisions where both spouses win\n\nThis conference is for marriages in every season-whether your relationship is thriving\, facing ongoing challenges\, or in need of healing. Come discover how to reconnect and strengthen your marriage for years to come.
URL:https://www.cwclife.com/event/journey-to-us-conference/2026-02-07/
LOCATION:Christian Worship Center\, 201 W 22nd St.\, Lombard\, IL\, IL\, 60148\, United States
ATTACH;FMTTYPE=image/png:https://www.cwclife.com/wp-content/uploads/2026/01/Journey-To-Us-Graphic-V3.png
END:VEVENT
BEGIN:VEVENT
DTSTART;TZID=America/Chicago:20260206T190000
DTEND;TZID=America/Chicago:20260206T213000
DTSTAMP:20260420T062012
CREATED:20260102T173042Z
LAST-MODIFIED:20260106T013635Z
UID:10001656-1770404400-1770413400@www.cwclife.com
SUMMARY:Journey To Us Conference
DESCRIPTION:Click HERE to register. \nNo matter where your marriage is today\, there is room for growth and healing. \nFocus on the Family and Christian Worship Center (CWC) invite you to Journey to Us\, a transformative two-day marriage conference with Greg & Erin Smalley. \nJoin us for five engaging sessions over two days as we explore what a healthy\, God-centered marriage can look like\, and practical ways to move toward it together. Through biblical wisdom and real-life insight\, couples will learn how to: \n\nBuild a marriage that feels emotionally and spiritually safe\nNavigate conflict in healthy\, life-giving ways\nReorient their marriage according to God’s perfect design\nCommunicate in ways that foster deeper connection and intimacy\nFunction as a unified team\, making decisions where both spouses win\n\nThis conference is for marriages in every season-whether your relationship is thriving\, facing ongoing challenges\, or in need of healing. Come discover how to reconnect and strengthen your marriage for years to come.
URL:https://www.cwclife.com/event/journey-to-us-conference/2026-02-06/
LOCATION:Christian Worship Center\, 201 W 22nd St.\, Lombard\, IL\, IL\, 60148\, United States
ATTACH;FMTTYPE=image/png:https://www.cwclife.com/wp-content/uploads/2026/01/Journey-To-Us-Graphic-V3.png
END:VEVENT
BEGIN:VEVENT
DTSTART;TZID=America/Chicago:20260204T190000
DTEND;TZID=America/Chicago:20260204T200000
DTSTAMP:20260420T062012
CREATED:20250522T202627Z
LAST-MODIFIED:20260105T163708Z
UID:10000316-1770231600-1770235200@www.cwclife.com
SUMMARY:Mid-Week Service
DESCRIPTION:
URL:https://www.cwclife.com/event/mid-week-service/2026-02-04/
LOCATION:Christian Worship Center\, 201 W 22nd St.\, Lombard\, IL\, IL\, 60148\, United States
ATTACH;FMTTYPE=image/png:https://www.cwclife.com/wp-content/uploads/2025/05/New-MidWeek-Slide.png
END:VEVENT
BEGIN:VEVENT
DTSTART;TZID=America/Chicago:20260128T190000
DTEND;TZID=America/Chicago:20260128T200000
DTSTAMP:20260420T062012
CREATED:20250522T202627Z
LAST-MODIFIED:20260105T163708Z
UID:10000315-1769626800-1769630400@www.cwclife.com
SUMMARY:Mid-Week Service
DESCRIPTION:
URL:https://www.cwclife.com/event/mid-week-service/2026-01-28/
LOCATION:Christian Worship Center\, 201 W 22nd St.\, Lombard\, IL\, IL\, 60148\, United States
ATTACH;FMTTYPE=image/png:https://www.cwclife.com/wp-content/uploads/2025/05/New-MidWeek-Slide.png
END:VEVENT
BEGIN:VEVENT
DTSTART;TZID=America/Chicago:20260121T190000
DTEND;TZID=America/Chicago:20260121T200000
DTSTAMP:20260420T062012
CREATED:20250522T202627Z
LAST-MODIFIED:20260105T163708Z
UID:10000314-1769022000-1769025600@www.cwclife.com
SUMMARY:Mid-Week Service
DESCRIPTION:
URL:https://www.cwclife.com/event/mid-week-service/2026-01-21/
LOCATION:Christian Worship Center\, 201 W 22nd St.\, Lombard\, IL\, IL\, 60148\, United States
ATTACH;FMTTYPE=image/png:https://www.cwclife.com/wp-content/uploads/2025/05/New-MidWeek-Slide.png
END:VEVENT
BEGIN:VEVENT
DTSTART;TZID=America/Chicago:20260114T190000
DTEND;TZID=America/Chicago:20260114T200000
DTSTAMP:20260420T062012
CREATED:20250522T202627Z
LAST-MODIFIED:20260105T163708Z
UID:10000313-1768417200-1768420800@www.cwclife.com
SUMMARY:Mid-Week Service
DESCRIPTION:
URL:https://www.cwclife.com/event/mid-week-service/2026-01-14/
LOCATION:Christian Worship Center\, 201 W 22nd St.\, Lombard\, IL\, IL\, 60148\, United States
ATTACH;FMTTYPE=image/png:https://www.cwclife.com/wp-content/uploads/2025/05/New-MidWeek-Slide.png
END:VEVENT
BEGIN:VEVENT
DTSTART;TZID=America/Chicago:20260110T190000
DTEND;TZID=America/Chicago:20260110T200000
DTSTAMP:20260420T062012
CREATED:20251222T182820Z
LAST-MODIFIED:20260105T163525Z
UID:10001658-1768071600-1768075200@www.cwclife.com
SUMMARY:Faith Week
DESCRIPTION:Join us for a dedicated week of prayer as we seek God together and believe\, through faith\, for the good things He will do in 2026. Come expectant\, united\, and ready to lift our church\, our families\, and our future before the Lord.
URL:https://www.cwclife.com/event/faith-week-2/2026-01-10/
LOCATION:Christian Worship Center\, 201 W 22nd St.\, Lombard\, IL\, IL\, 60148\, United States
ATTACH;FMTTYPE=image/webp:https://www.cwclife.com/wp-content/uploads/2025/12/new-fw.webp
END:VEVENT
BEGIN:VEVENT
DTSTART;TZID=America/Chicago:20260109T190000
DTEND;TZID=America/Chicago:20260109T200000
DTSTAMP:20260420T062012
CREATED:20251222T182820Z
LAST-MODIFIED:20260105T163525Z
UID:10001290-1767985200-1767988800@www.cwclife.com
SUMMARY:Faith Week
DESCRIPTION:Join us for a dedicated week of prayer as we seek God together and believe\, through faith\, for the good things He will do in 2026. Come expectant\, united\, and ready to lift our church\, our families\, and our future before the Lord.
URL:https://www.cwclife.com/event/faith-week-2/2026-01-09/
LOCATION:Christian Worship Center\, 201 W 22nd St.\, Lombard\, IL\, IL\, 60148\, United States
ATTACH;FMTTYPE=image/webp:https://www.cwclife.com/wp-content/uploads/2025/12/new-fw.webp
END:VEVENT
BEGIN:VEVENT
DTSTART;TZID=America/Chicago:20260108T190000
DTEND;TZID=America/Chicago:20260108T200000
DTSTAMP:20260420T062012
CREATED:20251222T182820Z
LAST-MODIFIED:20260105T163525Z
UID:10001289-1767898800-1767902400@www.cwclife.com
SUMMARY:Faith Week
DESCRIPTION:Join us for a dedicated week of prayer as we seek God together and believe\, through faith\, for the good things He will do in 2026. Come expectant\, united\, and ready to lift our church\, our families\, and our future before the Lord.
URL:https://www.cwclife.com/event/faith-week-2/2026-01-08/
LOCATION:Christian Worship Center\, 201 W 22nd St.\, Lombard\, IL\, IL\, 60148\, United States
ATTACH;FMTTYPE=image/webp:https://www.cwclife.com/wp-content/uploads/2025/12/new-fw.webp
END:VEVENT
BEGIN:VEVENT
DTSTART;TZID=America/Chicago:20260107T190000
DTEND;TZID=America/Chicago:20260107T200000
DTSTAMP:20260420T062012
CREATED:20251222T182820Z
LAST-MODIFIED:20260105T163525Z
UID:10001288-1767812400-1767816000@www.cwclife.com
SUMMARY:Faith Week
DESCRIPTION:Join us for a dedicated week of prayer as we seek God together and believe\, through faith\, for the good things He will do in 2026. Come expectant\, united\, and ready to lift our church\, our families\, and our future before the Lord.
URL:https://www.cwclife.com/event/faith-week-2/2026-01-07/
LOCATION:Christian Worship Center\, 201 W 22nd St.\, Lombard\, IL\, IL\, 60148\, United States
ATTACH;FMTTYPE=image/webp:https://www.cwclife.com/wp-content/uploads/2025/12/new-fw.webp
END:VEVENT
BEGIN:VEVENT
DTSTART;TZID=America/Chicago:20260106T190000
DTEND;TZID=America/Chicago:20260106T200000
DTSTAMP:20260420T062012
CREATED:20251222T182820Z
LAST-MODIFIED:20260105T163525Z
UID:10001287-1767726000-1767729600@www.cwclife.com
SUMMARY:Faith Week
DESCRIPTION:Join us for a dedicated week of prayer as we seek God together and believe\, through faith\, for the good things He will do in 2026. Come expectant\, united\, and ready to lift our church\, our families\, and our future before the Lord.
URL:https://www.cwclife.com/event/faith-week-2/2026-01-06/
LOCATION:Christian Worship Center\, 201 W 22nd St.\, Lombard\, IL\, IL\, 60148\, United States
ATTACH;FMTTYPE=image/webp:https://www.cwclife.com/wp-content/uploads/2025/12/new-fw.webp
END:VEVENT
BEGIN:VEVENT
DTSTART;TZID=America/Chicago:20260105T190000
DTEND;TZID=America/Chicago:20260105T200000
DTSTAMP:20260420T062012
CREATED:20251222T182820Z
LAST-MODIFIED:20260105T163525Z
UID:10001286-1767639600-1767643200@www.cwclife.com
SUMMARY:Faith Week
DESCRIPTION:Join us for a dedicated week of prayer as we seek God together and believe\, through faith\, for the good things He will do in 2026. Come expectant\, united\, and ready to lift our church\, our families\, and our future before the Lord.
URL:https://www.cwclife.com/event/faith-week-2/2026-01-05/
LOCATION:Christian Worship Center\, 201 W 22nd St.\, Lombard\, IL\, IL\, 60148\, United States
ATTACH;FMTTYPE=image/webp:https://www.cwclife.com/wp-content/uploads/2025/12/new-fw.webp
END:VEVENT
BEGIN:VEVENT
DTSTART;TZID=America/Chicago:20251231T190000
DTEND;TZID=America/Chicago:20251231T200000
DTSTAMP:20260420T062012
CREATED:20250522T202627Z
LAST-MODIFIED:20260105T163708Z
UID:10000311-1767207600-1767211200@www.cwclife.com
SUMMARY:Mid-Week Service
DESCRIPTION:
URL:https://www.cwclife.com/event/mid-week-service/2025-12-31/
LOCATION:Christian Worship Center\, 201 W 22nd St.\, Lombard\, IL\, IL\, 60148\, United States
ATTACH;FMTTYPE=image/png:https://www.cwclife.com/wp-content/uploads/2025/05/New-MidWeek-Slide.png
END:VEVENT
BEGIN:VEVENT
DTSTART;TZID=America/Chicago:20251229T123000
DTEND;TZID=America/Chicago:20260101T190000
DTSTAMP:20260420T062012
CREATED:20251123T135839Z
LAST-MODIFIED:20251123T140653Z
UID:10001252-1767011400-1767294000@www.cwclife.com
SUMMARY:Youth Winter Camp 2025
DESCRIPTION:CWC Youth Winter Camp is a powerful 4-day retreat designed for middle and high school students to grow in faith\, fun\, and community. Winter Camp is a time to step away from everyday distractions and experience God in a fresh way through Bible teaching\, worship\, small groups\, and intentional fellowship. Students will also enjoy a variety of winter activities such as snow tubing\, games\, late-night hangs\, and more. This year we will be headed to Expeditions Unlimited in Wisconsin\, an amazing camp facility built for adventure and spiritual growth. Our goal is for every student to draw closer to God and build meaningful\, godly friendships that last long after camp ends. \n  \nTrip Details \nDeparture: December 29 at 12:30 PM\, leaving from Christian Worship Center. \nReturn: January 1 in the evening\, returning to Christian Worship Center. \nCost: $200 per student \nDeadline: Payment and all forms are due December 12 \n  \nPayment Options \nPayment can be made using: \nCash \nCheck (written to Christian Worship Center) \nPushpay — When giving through Pushpay\, please include CWC Youth Winter Camp – [Student Name]” in the memo line. \n  \nForms \nAll required forms will be available as downloadable PDFs on this page. Please print\, complete\, and return them with your student’s payment by the deadline. \n\nWinter Camp Release Form\nYTH Camp Forms\n\n \n  \nQuestions? \nFor further questions\, comments\, or concerns\, please contact our Youth Leader\, Miriam Kucher\, at youth@cwclife.com.
URL:https://www.cwclife.com/event/youth-winter-camp-2025/
LOCATION:Expeditions Unlimited\, E11844 County Rd DL\, Baraboo\, WI\, 53913\, United States
ATTACH;FMTTYPE=image/png:https://www.cwclife.com/wp-content/uploads/2025/11/YTHWinterCamp122925.png
END:VEVENT
BEGIN:VEVENT
DTSTART;TZID=America/Chicago:20251224T190000
DTEND;TZID=America/Chicago:20251224T200000
DTSTAMP:20260420T062012
CREATED:20250522T202627Z
LAST-MODIFIED:20260105T163708Z
UID:10000310-1766602800-1766606400@www.cwclife.com
SUMMARY:Mid-Week Service
DESCRIPTION:
URL:https://www.cwclife.com/event/mid-week-service/2025-12-24/
LOCATION:Christian Worship Center\, 201 W 22nd St.\, Lombard\, IL\, IL\, 60148\, United States
ATTACH;FMTTYPE=image/png:https://www.cwclife.com/wp-content/uploads/2025/05/New-MidWeek-Slide.png
END:VEVENT
BEGIN:VEVENT
DTSTART;TZID=America/Chicago:20251224T180000
DTEND;TZID=America/Chicago:20251224T190000
DTSTAMP:20260420T062012
CREATED:20251206T010758Z
LAST-MODIFIED:20251206T010758Z
UID:10001254-1766599200-1766602800@www.cwclife.com
SUMMARY:Christmas Eve Service
DESCRIPTION:Join us for a special evening of candlelit worship as we reflect on the hope\, peace\, and joy brought through the birth of Christ. Experience a warm and meaningful time of remembrance\, music\, and Scripture as we celebrate the true reason for the season.
URL:https://www.cwclife.com/event/christmas-eve-service/
LOCATION:Christian Worship Center\, 201 W 22nd St.\, Lombard\, IL\, IL\, 60148\, United States
ATTACH;FMTTYPE=image/png:https://www.cwclife.com/wp-content/uploads/2025/12/Christmas-Eve-12_24_25.png
END:VEVENT
BEGIN:VEVENT
DTSTART;TZID=America/Chicago:20251221T100000
DTEND;TZID=America/Chicago:20251221T233000
DTSTAMP:20260420T062012
CREATED:20251123T140225Z
LAST-MODIFIED:20251123T140758Z
UID:10001253-1766311200-1766359800@www.cwclife.com
SUMMARY:All-ages Christmas Choir
DESCRIPTION:O come all Ye Faithful and join us for our Christmas Choir! \nWe will sing on Sunday\, December 21st\, at our morning worship service! \n  \nHere are the dates and times you should be available for practice: \n\nSaturday\, November 29th\nSaturday\, December 6th\nSaturday\, December 13th\nSaturday\, December 20th At 10:30 am\nSunday\, December 21st\, at 8:00 am\n\n  \nNo prior experience pre-choir-ed haha. Click HERE to register. \n  \nEmail worship@cwclife.com with any questions.
URL:https://www.cwclife.com/event/all-ages-christmas-choir/
LOCATION:Christian Worship Center\, 201 W 22nd St.\, Lombard\, IL\, IL\, 60148\, United States
ATTACH;FMTTYPE=image/png:https://www.cwclife.com/wp-content/uploads/2025/11/ChristmasChoir122025.png
END:VEVENT
BEGIN:VEVENT
DTSTART;TZID=America/Chicago:20251217T190000
DTEND;TZID=America/Chicago:20251217T200000
DTSTAMP:20260420T062012
CREATED:20250522T202627Z
LAST-MODIFIED:20260105T163708Z
UID:10000309-1765998000-1766001600@www.cwclife.com
SUMMARY:Mid-Week Service
DESCRIPTION:
URL:https://www.cwclife.com/event/mid-week-service/2025-12-17/
LOCATION:Christian Worship Center\, 201 W 22nd St.\, Lombard\, IL\, IL\, 60148\, United States
ATTACH;FMTTYPE=image/png:https://www.cwclife.com/wp-content/uploads/2025/05/New-MidWeek-Slide.png
END:VEVENT
BEGIN:VEVENT
DTSTART;TZID=America/Chicago:20251210T190000
DTEND;TZID=America/Chicago:20251210T200000
DTSTAMP:20260420T062012
CREATED:20250522T202627Z
LAST-MODIFIED:20260105T163708Z
UID:10000308-1765393200-1765396800@www.cwclife.com
SUMMARY:Mid-Week Service
DESCRIPTION:
URL:https://www.cwclife.com/event/mid-week-service/2025-12-10/
LOCATION:Christian Worship Center\, 201 W 22nd St.\, Lombard\, IL\, IL\, 60148\, United States
ATTACH;FMTTYPE=image/png:https://www.cwclife.com/wp-content/uploads/2025/05/New-MidWeek-Slide.png
END:VEVENT
BEGIN:VEVENT
DTSTART;TZID=America/Chicago:20251203T190000
DTEND;TZID=America/Chicago:20251203T200000
DTSTAMP:20260420T062012
CREATED:20250522T202627Z
LAST-MODIFIED:20260105T163708Z
UID:10000307-1764788400-1764792000@www.cwclife.com
SUMMARY:Mid-Week Service
DESCRIPTION:
URL:https://www.cwclife.com/event/mid-week-service/2025-12-03/
LOCATION:Christian Worship Center\, 201 W 22nd St.\, Lombard\, IL\, IL\, 60148\, United States
ATTACH;FMTTYPE=image/png:https://www.cwclife.com/wp-content/uploads/2025/05/New-MidWeek-Slide.png
END:VEVENT
BEGIN:VEVENT
DTSTART;TZID=America/Chicago:20251126T190000
DTEND;TZID=America/Chicago:20251126T200000
DTSTAMP:20260420T062012
CREATED:20250522T202627Z
LAST-MODIFIED:20260105T163708Z
UID:10000306-1764183600-1764187200@www.cwclife.com
SUMMARY:Mid-Week Service
DESCRIPTION:
URL:https://www.cwclife.com/event/mid-week-service/2025-11-26/
LOCATION:Christian Worship Center\, 201 W 22nd St.\, Lombard\, IL\, IL\, 60148\, United States
ATTACH;FMTTYPE=image/png:https://www.cwclife.com/wp-content/uploads/2025/05/New-MidWeek-Slide.png
END:VEVENT
BEGIN:VEVENT
DTSTART;TZID=America/Chicago:20251123T170000
DTEND;TZID=America/Chicago:20251123T210000
DTSTAMP:20260420T062012
CREATED:20251109T195957Z
LAST-MODIFIED:20251109T195957Z
UID:10001250-1763917200-1763931600@www.cwclife.com
SUMMARY:Thanksgiving Banquet
DESCRIPTION:Join us for our Thanksgiving Banquet on November 23rd at 5 PM! \nIt’s a special evening to come together as a church family to share a delicious meal\, celebrate God’s goodness\, and enjoy great fellowship. Everyone is welcome—bring your family\, invite a friend\, and get ready for a night filled with gratitude\, laughter\, and community. \nBe sure to register you and each one of your household members so we can prepare enough food and seating for everyone! \nClick HERE to register.
URL:https://www.cwclife.com/event/thanksgiving-banquet/
LOCATION:Christian Worship Center\, 201 W 22nd St.\, Lombard\, IL\, IL\, 60148\, United States
ATTACH;FMTTYPE=image/png:https://www.cwclife.com/wp-content/uploads/2025/11/ThanksgivingBanquet112325.png
END:VEVENT
BEGIN:VEVENT
DTSTART;TZID=America/Chicago:20251119T190000
DTEND;TZID=America/Chicago:20251119T200000
DTSTAMP:20260420T062012
CREATED:20250522T202627Z
LAST-MODIFIED:20260105T163708Z
UID:10000305-1763578800-1763582400@www.cwclife.com
SUMMARY:Mid-Week Service
DESCRIPTION:
URL:https://www.cwclife.com/event/mid-week-service/2025-11-19/
LOCATION:Christian Worship Center\, 201 W 22nd St.\, Lombard\, IL\, IL\, 60148\, United States
ATTACH;FMTTYPE=image/png:https://www.cwclife.com/wp-content/uploads/2025/05/New-MidWeek-Slide.png
END:VEVENT
BEGIN:VEVENT
DTSTART;TZID=America/Chicago:20251116T180000
DTEND;TZID=America/Chicago:20251116T210000
DTSTAMP:20260420T062012
CREATED:20251109T200111Z
LAST-MODIFIED:20251109T200111Z
UID:10001251-1763316000-1763326800@www.cwclife.com
SUMMARY:YA Coffee House
DESCRIPTION:Join us for our YA Coffee House — a relaxed night of coffee\, conversation\, and community! Come hang out\, connect with friends\, and enjoy a cozy atmosphere made for young adults. \nNo registration required.
URL:https://www.cwclife.com/event/ya-coffee-house/
LOCATION:Christian Worship Center\, 201 W 22nd St.\, Lombard\, IL\, IL\, 60148\, United States
ATTACH;FMTTYPE=image/png:https://www.cwclife.com/wp-content/uploads/2025/11/YoungAdultsCoffeeHouse111625.png
END:VEVENT
BEGIN:VEVENT
DTSTART;TZID=America/Chicago:20251112T190000
DTEND;TZID=America/Chicago:20251112T200000
DTSTAMP:20260420T062012
CREATED:20250522T202627Z
LAST-MODIFIED:20260105T163708Z
UID:10000304-1762974000-1762977600@www.cwclife.com
SUMMARY:Mid-Week Service
DESCRIPTION:
URL:https://www.cwclife.com/event/mid-week-service/2025-11-12/
LOCATION:Christian Worship Center\, 201 W 22nd St.\, Lombard\, IL\, IL\, 60148\, United States
ATTACH;FMTTYPE=image/png:https://www.cwclife.com/wp-content/uploads/2025/05/New-MidWeek-Slide.png
END:VEVENT
BEGIN:VEVENT
DTSTART;TZID=America/Chicago:20251105T190000
DTEND;TZID=America/Chicago:20251105T200000
DTSTAMP:20260420T062012
CREATED:20250522T202627Z
LAST-MODIFIED:20260105T163708Z
UID:10000303-1762369200-1762372800@www.cwclife.com
SUMMARY:Mid-Week Service
DESCRIPTION:
URL:https://www.cwclife.com/event/mid-week-service/2025-11-05/
LOCATION:Christian Worship Center\, 201 W 22nd St.\, Lombard\, IL\, IL\, 60148\, United States
ATTACH;FMTTYPE=image/png:https://www.cwclife.com/wp-content/uploads/2025/05/New-MidWeek-Slide.png
END:VEVENT
BEGIN:VEVENT
DTSTART;TZID=America/Chicago:20251029T190000
DTEND;TZID=America/Chicago:20251029T200000
DTSTAMP:20260420T062012
CREATED:20250522T202627Z
LAST-MODIFIED:20260105T163708Z
UID:10000302-1761764400-1761768000@www.cwclife.com
SUMMARY:Mid-Week Service
DESCRIPTION:
URL:https://www.cwclife.com/event/mid-week-service/2025-10-29/
LOCATION:Christian Worship Center\, 201 W 22nd St.\, Lombard\, IL\, IL\, 60148\, United States
ATTACH;FMTTYPE=image/png:https://www.cwclife.com/wp-content/uploads/2025/05/New-MidWeek-Slide.png
END:VEVENT
BEGIN:VEVENT
DTSTART;TZID=America/Chicago:20251022T190000
DTEND;TZID=America/Chicago:20251022T200000
DTSTAMP:20260420T062012
CREATED:20250522T202627Z
LAST-MODIFIED:20260105T163708Z
UID:10000301-1761159600-1761163200@www.cwclife.com
SUMMARY:Mid-Week Service
DESCRIPTION:
URL:https://www.cwclife.com/event/mid-week-service/2025-10-22/
LOCATION:Christian Worship Center\, 201 W 22nd St.\, Lombard\, IL\, IL\, 60148\, United States
ATTACH;FMTTYPE=image/png:https://www.cwclife.com/wp-content/uploads/2025/05/New-MidWeek-Slide.png
END:VEVENT
BEGIN:VEVENT
DTSTART;TZID=America/Chicago:20251015T190000
DTEND;TZID=America/Chicago:20251015T200000
DTSTAMP:20260420T062012
CREATED:20250522T202627Z
LAST-MODIFIED:20260105T163708Z
UID:10000300-1760554800-1760558400@www.cwclife.com
SUMMARY:Mid-Week Service
DESCRIPTION:
URL:https://www.cwclife.com/event/mid-week-service/2025-10-15/
LOCATION:Christian Worship Center\, 201 W 22nd St.\, Lombard\, IL\, IL\, 60148\, United States
ATTACH;FMTTYPE=image/png:https://www.cwclife.com/wp-content/uploads/2025/05/New-MidWeek-Slide.png
END:VEVENT
END:VCALENDAR