BEGIN:VCALENDAR
VERSION:2.0
PRODID:-//Christian Worship Center Church - ECPv6.15.20//NONSGML v1.0//EN
CALSCALE:GREGORIAN
METHOD:PUBLISH
X-WR-CALNAME:Christian Worship Center Church
X-ORIGINAL-URL:https://www.cwclife.com
X-WR-CALDESC:Events for Christian Worship Center Church
REFRESH-INTERVAL;VALUE=DURATION:PT1H
X-Robots-Tag:noindex
X-PUBLISHED-TTL:PT1H
BEGIN:VTIMEZONE
TZID:America/Chicago
BEGIN:DAYLIGHT
TZOFFSETFROM:-0600
TZOFFSETTO:-0500
TZNAME:CDT
DTSTART:20250309T080000
END:DAYLIGHT
BEGIN:STANDARD
TZOFFSETFROM:-0500
TZOFFSETTO:-0600
TZNAME:CST
DTSTART:20251102T070000
END:STANDARD
BEGIN:DAYLIGHT
TZOFFSETFROM:-0600
TZOFFSETTO:-0500
TZNAME:CDT
DTSTART:20260308T080000
END:DAYLIGHT
BEGIN:STANDARD
TZOFFSETFROM:-0500
TZOFFSETTO:-0600
TZNAME:CST
DTSTART:20261101T070000
END:STANDARD
BEGIN:DAYLIGHT
TZOFFSETFROM:-0600
TZOFFSETTO:-0500
TZNAME:CDT
DTSTART:20270314T080000
END:DAYLIGHT
BEGIN:STANDARD
TZOFFSETFROM:-0500
TZOFFSETTO:-0600
TZNAME:CST
DTSTART:20271107T070000
END:STANDARD
BEGIN:DAYLIGHT
TZOFFSETFROM:-0600
TZOFFSETTO:-0500
TZNAME:CDT
DTSTART:20280312T080000
END:DAYLIGHT
BEGIN:STANDARD
TZOFFSETFROM:-0500
TZOFFSETTO:-0600
TZNAME:CST
DTSTART:20281105T070000
END:STANDARD
END:VTIMEZONE
BEGIN:VEVENT
DTSTART;TZID=America/Chicago:20260916T190000
DTEND;TZID=America/Chicago:20260916T200000
DTSTAMP:20260420T061541
CREATED:20250522T202627Z
LAST-MODIFIED:20260105T163708Z
UID:10000348-1789585200-1789588800@www.cwclife.com
SUMMARY:Mid-Week Service
DESCRIPTION:
URL:https://www.cwclife.com/event/mid-week-service/2026-09-16/
LOCATION:Christian Worship Center\, 201 W 22nd St.\, Lombard\, IL\, IL\, 60148\, United States
ATTACH;FMTTYPE=image/png:https://www.cwclife.com/wp-content/uploads/2025/05/New-MidWeek-Slide.png
END:VEVENT
BEGIN:VEVENT
DTSTART;TZID=America/Chicago:20260923T190000
DTEND;TZID=America/Chicago:20260923T200000
DTSTAMP:20260420T061541
CREATED:20250522T202627Z
LAST-MODIFIED:20260105T163708Z
UID:10000349-1790190000-1790193600@www.cwclife.com
SUMMARY:Mid-Week Service
DESCRIPTION:
URL:https://www.cwclife.com/event/mid-week-service/2026-09-23/
LOCATION:Christian Worship Center\, 201 W 22nd St.\, Lombard\, IL\, IL\, 60148\, United States
ATTACH;FMTTYPE=image/png:https://www.cwclife.com/wp-content/uploads/2025/05/New-MidWeek-Slide.png
END:VEVENT
BEGIN:VEVENT
DTSTART;TZID=America/Chicago:20260930T190000
DTEND;TZID=America/Chicago:20260930T200000
DTSTAMP:20260420T061541
CREATED:20250522T202627Z
LAST-MODIFIED:20260105T163708Z
UID:10000350-1790794800-1790798400@www.cwclife.com
SUMMARY:Mid-Week Service
DESCRIPTION:
URL:https://www.cwclife.com/event/mid-week-service/2026-09-30/
LOCATION:Christian Worship Center\, 201 W 22nd St.\, Lombard\, IL\, IL\, 60148\, United States
ATTACH;FMTTYPE=image/png:https://www.cwclife.com/wp-content/uploads/2025/05/New-MidWeek-Slide.png
END:VEVENT
BEGIN:VEVENT
DTSTART;TZID=America/Chicago:20261007T190000
DTEND;TZID=America/Chicago:20261007T200000
DTSTAMP:20260420T061541
CREATED:20250522T202627Z
LAST-MODIFIED:20260105T163708Z
UID:10000351-1791399600-1791403200@www.cwclife.com
SUMMARY:Mid-Week Service
DESCRIPTION:
URL:https://www.cwclife.com/event/mid-week-service/2026-10-07/
LOCATION:Christian Worship Center\, 201 W 22nd St.\, Lombard\, IL\, IL\, 60148\, United States
ATTACH;FMTTYPE=image/png:https://www.cwclife.com/wp-content/uploads/2025/05/New-MidWeek-Slide.png
END:VEVENT
BEGIN:VEVENT
DTSTART;TZID=America/Chicago:20261014T190000
DTEND;TZID=America/Chicago:20261014T200000
DTSTAMP:20260420T061541
CREATED:20250522T202627Z
LAST-MODIFIED:20260105T163708Z
UID:10000352-1792004400-1792008000@www.cwclife.com
SUMMARY:Mid-Week Service
DESCRIPTION:
URL:https://www.cwclife.com/event/mid-week-service/2026-10-14/
LOCATION:Christian Worship Center\, 201 W 22nd St.\, Lombard\, IL\, IL\, 60148\, United States
ATTACH;FMTTYPE=image/png:https://www.cwclife.com/wp-content/uploads/2025/05/New-MidWeek-Slide.png
END:VEVENT
BEGIN:VEVENT
DTSTART;TZID=America/Chicago:20261021T190000
DTEND;TZID=America/Chicago:20261021T200000
DTSTAMP:20260420T061541
CREATED:20250522T202627Z
LAST-MODIFIED:20260105T163708Z
UID:10000353-1792609200-1792612800@www.cwclife.com
SUMMARY:Mid-Week Service
DESCRIPTION:
URL:https://www.cwclife.com/event/mid-week-service/2026-10-21/
LOCATION:Christian Worship Center\, 201 W 22nd St.\, Lombard\, IL\, IL\, 60148\, United States
ATTACH;FMTTYPE=image/png:https://www.cwclife.com/wp-content/uploads/2025/05/New-MidWeek-Slide.png
END:VEVENT
BEGIN:VEVENT
DTSTART;TZID=America/Chicago:20261028T190000
DTEND;TZID=America/Chicago:20261028T200000
DTSTAMP:20260420T061541
CREATED:20250522T202627Z
LAST-MODIFIED:20260105T163708Z
UID:10000354-1793214000-1793217600@www.cwclife.com
SUMMARY:Mid-Week Service
DESCRIPTION:
URL:https://www.cwclife.com/event/mid-week-service/2026-10-28/
LOCATION:Christian Worship Center\, 201 W 22nd St.\, Lombard\, IL\, IL\, 60148\, United States
ATTACH;FMTTYPE=image/png:https://www.cwclife.com/wp-content/uploads/2025/05/New-MidWeek-Slide.png
END:VEVENT
BEGIN:VEVENT
DTSTART;TZID=America/Chicago:20261104T190000
DTEND;TZID=America/Chicago:20261104T200000
DTSTAMP:20260420T061541
CREATED:20250522T202627Z
LAST-MODIFIED:20260105T163708Z
UID:10000355-1793818800-1793822400@www.cwclife.com
SUMMARY:Mid-Week Service
DESCRIPTION:
URL:https://www.cwclife.com/event/mid-week-service/2026-11-04/
LOCATION:Christian Worship Center\, 201 W 22nd St.\, Lombard\, IL\, IL\, 60148\, United States
ATTACH;FMTTYPE=image/png:https://www.cwclife.com/wp-content/uploads/2025/05/New-MidWeek-Slide.png
END:VEVENT
BEGIN:VEVENT
DTSTART;TZID=America/Chicago:20261111T190000
DTEND;TZID=America/Chicago:20261111T200000
DTSTAMP:20260420T061541
CREATED:20250522T202627Z
LAST-MODIFIED:20260105T163708Z
UID:10000356-1794423600-1794427200@www.cwclife.com
SUMMARY:Mid-Week Service
DESCRIPTION:
URL:https://www.cwclife.com/event/mid-week-service/2026-11-11/
LOCATION:Christian Worship Center\, 201 W 22nd St.\, Lombard\, IL\, IL\, 60148\, United States
ATTACH;FMTTYPE=image/png:https://www.cwclife.com/wp-content/uploads/2025/05/New-MidWeek-Slide.png
END:VEVENT
BEGIN:VEVENT
DTSTART;TZID=America/Chicago:20261118T190000
DTEND;TZID=America/Chicago:20261118T200000
DTSTAMP:20260420T061541
CREATED:20250522T202627Z
LAST-MODIFIED:20260105T163708Z
UID:10000357-1795028400-1795032000@www.cwclife.com
SUMMARY:Mid-Week Service
DESCRIPTION:
URL:https://www.cwclife.com/event/mid-week-service/2026-11-18/
LOCATION:Christian Worship Center\, 201 W 22nd St.\, Lombard\, IL\, IL\, 60148\, United States
ATTACH;FMTTYPE=image/png:https://www.cwclife.com/wp-content/uploads/2025/05/New-MidWeek-Slide.png
END:VEVENT
BEGIN:VEVENT
DTSTART;TZID=America/Chicago:20261125T190000
DTEND;TZID=America/Chicago:20261125T200000
DTSTAMP:20260420T061541
CREATED:20250522T202627Z
LAST-MODIFIED:20260105T163708Z
UID:10000358-1795633200-1795636800@www.cwclife.com
SUMMARY:Mid-Week Service
DESCRIPTION:
URL:https://www.cwclife.com/event/mid-week-service/2026-11-25/
LOCATION:Christian Worship Center\, 201 W 22nd St.\, Lombard\, IL\, IL\, 60148\, United States
ATTACH;FMTTYPE=image/png:https://www.cwclife.com/wp-content/uploads/2025/05/New-MidWeek-Slide.png
END:VEVENT
BEGIN:VEVENT
DTSTART;TZID=America/Chicago:20261202T190000
DTEND;TZID=America/Chicago:20261202T200000
DTSTAMP:20260420T061541
CREATED:20250522T202627Z
LAST-MODIFIED:20260105T163708Z
UID:10000359-1796238000-1796241600@www.cwclife.com
SUMMARY:Mid-Week Service
DESCRIPTION:
URL:https://www.cwclife.com/event/mid-week-service/2026-12-02/
LOCATION:Christian Worship Center\, 201 W 22nd St.\, Lombard\, IL\, IL\, 60148\, United States
ATTACH;FMTTYPE=image/png:https://www.cwclife.com/wp-content/uploads/2025/05/New-MidWeek-Slide.png
END:VEVENT
BEGIN:VEVENT
DTSTART;TZID=America/Chicago:20261209T190000
DTEND;TZID=America/Chicago:20261209T200000
DTSTAMP:20260420T061541
CREATED:20250522T202627Z
LAST-MODIFIED:20260105T163708Z
UID:10000360-1796842800-1796846400@www.cwclife.com
SUMMARY:Mid-Week Service
DESCRIPTION:
URL:https://www.cwclife.com/event/mid-week-service/2026-12-09/
LOCATION:Christian Worship Center\, 201 W 22nd St.\, Lombard\, IL\, IL\, 60148\, United States
ATTACH;FMTTYPE=image/png:https://www.cwclife.com/wp-content/uploads/2025/05/New-MidWeek-Slide.png
END:VEVENT
BEGIN:VEVENT
DTSTART;TZID=America/Chicago:20261216T190000
DTEND;TZID=America/Chicago:20261216T200000
DTSTAMP:20260420T061541
CREATED:20250522T202627Z
LAST-MODIFIED:20260105T163708Z
UID:10000361-1797447600-1797451200@www.cwclife.com
SUMMARY:Mid-Week Service
DESCRIPTION:
URL:https://www.cwclife.com/event/mid-week-service/2026-12-16/
LOCATION:Christian Worship Center\, 201 W 22nd St.\, Lombard\, IL\, IL\, 60148\, United States
ATTACH;FMTTYPE=image/png:https://www.cwclife.com/wp-content/uploads/2025/05/New-MidWeek-Slide.png
END:VEVENT
BEGIN:VEVENT
DTSTART;TZID=America/Chicago:20261223T190000
DTEND;TZID=America/Chicago:20261223T200000
DTSTAMP:20260420T061541
CREATED:20250522T202627Z
LAST-MODIFIED:20260105T163708Z
UID:10000362-1798052400-1798056000@www.cwclife.com
SUMMARY:Mid-Week Service
DESCRIPTION:
URL:https://www.cwclife.com/event/mid-week-service/2026-12-23/
LOCATION:Christian Worship Center\, 201 W 22nd St.\, Lombard\, IL\, IL\, 60148\, United States
ATTACH;FMTTYPE=image/png:https://www.cwclife.com/wp-content/uploads/2025/05/New-MidWeek-Slide.png
END:VEVENT
BEGIN:VEVENT
DTSTART;TZID=America/Chicago:20261230T190000
DTEND;TZID=America/Chicago:20261230T200000
DTSTAMP:20260420T061541
CREATED:20250522T202627Z
LAST-MODIFIED:20260105T163708Z
UID:10000363-1798657200-1798660800@www.cwclife.com
SUMMARY:Mid-Week Service
DESCRIPTION:
URL:https://www.cwclife.com/event/mid-week-service/2026-12-30/
LOCATION:Christian Worship Center\, 201 W 22nd St.\, Lombard\, IL\, IL\, 60148\, United States
ATTACH;FMTTYPE=image/png:https://www.cwclife.com/wp-content/uploads/2025/05/New-MidWeek-Slide.png
END:VEVENT
BEGIN:VEVENT
DTSTART;TZID=America/Chicago:20270106T190000
DTEND;TZID=America/Chicago:20270106T200000
DTSTAMP:20260420T061541
CREATED:20250522T202627Z
LAST-MODIFIED:20260105T163708Z
UID:10000364-1799262000-1799265600@www.cwclife.com
SUMMARY:Mid-Week Service
DESCRIPTION:
URL:https://www.cwclife.com/event/mid-week-service/2027-01-06/
LOCATION:Christian Worship Center\, 201 W 22nd St.\, Lombard\, IL\, IL\, 60148\, United States
ATTACH;FMTTYPE=image/png:https://www.cwclife.com/wp-content/uploads/2025/05/New-MidWeek-Slide.png
END:VEVENT
BEGIN:VEVENT
DTSTART;TZID=America/Chicago:20270113T190000
DTEND;TZID=America/Chicago:20270113T200000
DTSTAMP:20260420T061541
CREATED:20250522T202627Z
LAST-MODIFIED:20260105T163708Z
UID:10000365-1799866800-1799870400@www.cwclife.com
SUMMARY:Mid-Week Service
DESCRIPTION:
URL:https://www.cwclife.com/event/mid-week-service/2027-01-13/
LOCATION:Christian Worship Center\, 201 W 22nd St.\, Lombard\, IL\, IL\, 60148\, United States
ATTACH;FMTTYPE=image/png:https://www.cwclife.com/wp-content/uploads/2025/05/New-MidWeek-Slide.png
END:VEVENT
BEGIN:VEVENT
DTSTART;TZID=America/Chicago:20270120T190000
DTEND;TZID=America/Chicago:20270120T200000
DTSTAMP:20260420T061541
CREATED:20250522T202627Z
LAST-MODIFIED:20260105T163708Z
UID:10000366-1800471600-1800475200@www.cwclife.com
SUMMARY:Mid-Week Service
DESCRIPTION:
URL:https://www.cwclife.com/event/mid-week-service/2027-01-20/
LOCATION:Christian Worship Center\, 201 W 22nd St.\, Lombard\, IL\, IL\, 60148\, United States
ATTACH;FMTTYPE=image/png:https://www.cwclife.com/wp-content/uploads/2025/05/New-MidWeek-Slide.png
END:VEVENT
BEGIN:VEVENT
DTSTART;TZID=America/Chicago:20270127T190000
DTEND;TZID=America/Chicago:20270127T200000
DTSTAMP:20260420T061541
CREATED:20250522T202627Z
LAST-MODIFIED:20260105T163708Z
UID:10000367-1801076400-1801080000@www.cwclife.com
SUMMARY:Mid-Week Service
DESCRIPTION:
URL:https://www.cwclife.com/event/mid-week-service/2027-01-27/
LOCATION:Christian Worship Center\, 201 W 22nd St.\, Lombard\, IL\, IL\, 60148\, United States
ATTACH;FMTTYPE=image/png:https://www.cwclife.com/wp-content/uploads/2025/05/New-MidWeek-Slide.png
END:VEVENT
BEGIN:VEVENT
DTSTART;TZID=America/Chicago:20270203T190000
DTEND;TZID=America/Chicago:20270203T200000
DTSTAMP:20260420T061541
CREATED:20250522T202627Z
LAST-MODIFIED:20260105T163708Z
UID:10000368-1801681200-1801684800@www.cwclife.com
SUMMARY:Mid-Week Service
DESCRIPTION:
URL:https://www.cwclife.com/event/mid-week-service/2027-02-03/
LOCATION:Christian Worship Center\, 201 W 22nd St.\, Lombard\, IL\, IL\, 60148\, United States
ATTACH;FMTTYPE=image/png:https://www.cwclife.com/wp-content/uploads/2025/05/New-MidWeek-Slide.png
END:VEVENT
BEGIN:VEVENT
DTSTART;TZID=America/Chicago:20270210T190000
DTEND;TZID=America/Chicago:20270210T200000
DTSTAMP:20260420T061541
CREATED:20250522T202627Z
LAST-MODIFIED:20260105T163708Z
UID:10000369-1802286000-1802289600@www.cwclife.com
SUMMARY:Mid-Week Service
DESCRIPTION:
URL:https://www.cwclife.com/event/mid-week-service/2027-02-10/
LOCATION:Christian Worship Center\, 201 W 22nd St.\, Lombard\, IL\, IL\, 60148\, United States
ATTACH;FMTTYPE=image/png:https://www.cwclife.com/wp-content/uploads/2025/05/New-MidWeek-Slide.png
END:VEVENT
BEGIN:VEVENT
DTSTART;TZID=America/Chicago:20270217T190000
DTEND;TZID=America/Chicago:20270217T200000
DTSTAMP:20260420T061541
CREATED:20250522T202627Z
LAST-MODIFIED:20260105T163708Z
UID:10000370-1802890800-1802894400@www.cwclife.com
SUMMARY:Mid-Week Service
DESCRIPTION:
URL:https://www.cwclife.com/event/mid-week-service/2027-02-17/
LOCATION:Christian Worship Center\, 201 W 22nd St.\, Lombard\, IL\, IL\, 60148\, United States
ATTACH;FMTTYPE=image/png:https://www.cwclife.com/wp-content/uploads/2025/05/New-MidWeek-Slide.png
END:VEVENT
BEGIN:VEVENT
DTSTART;TZID=America/Chicago:20270224T190000
DTEND;TZID=America/Chicago:20270224T200000
DTSTAMP:20260420T061541
CREATED:20250522T202627Z
LAST-MODIFIED:20260105T163708Z
UID:10000371-1803495600-1803499200@www.cwclife.com
SUMMARY:Mid-Week Service
DESCRIPTION:
URL:https://www.cwclife.com/event/mid-week-service/2027-02-24/
LOCATION:Christian Worship Center\, 201 W 22nd St.\, Lombard\, IL\, IL\, 60148\, United States
ATTACH;FMTTYPE=image/png:https://www.cwclife.com/wp-content/uploads/2025/05/New-MidWeek-Slide.png
END:VEVENT
BEGIN:VEVENT
DTSTART;TZID=America/Chicago:20270303T190000
DTEND;TZID=America/Chicago:20270303T200000
DTSTAMP:20260420T061541
CREATED:20250522T202627Z
LAST-MODIFIED:20260105T163708Z
UID:10000372-1804100400-1804104000@www.cwclife.com
SUMMARY:Mid-Week Service
DESCRIPTION:
URL:https://www.cwclife.com/event/mid-week-service/2027-03-03/
LOCATION:Christian Worship Center\, 201 W 22nd St.\, Lombard\, IL\, IL\, 60148\, United States
ATTACH;FMTTYPE=image/png:https://www.cwclife.com/wp-content/uploads/2025/05/New-MidWeek-Slide.png
END:VEVENT
BEGIN:VEVENT
DTSTART;TZID=America/Chicago:20270310T190000
DTEND;TZID=America/Chicago:20270310T200000
DTSTAMP:20260420T061541
CREATED:20250522T202627Z
LAST-MODIFIED:20260105T163708Z
UID:10000373-1804705200-1804708800@www.cwclife.com
SUMMARY:Mid-Week Service
DESCRIPTION:
URL:https://www.cwclife.com/event/mid-week-service/2027-03-10/
LOCATION:Christian Worship Center\, 201 W 22nd St.\, Lombard\, IL\, IL\, 60148\, United States
ATTACH;FMTTYPE=image/png:https://www.cwclife.com/wp-content/uploads/2025/05/New-MidWeek-Slide.png
END:VEVENT
BEGIN:VEVENT
DTSTART;TZID=America/Chicago:20270317T190000
DTEND;TZID=America/Chicago:20270317T200000
DTSTAMP:20260420T061541
CREATED:20250522T202627Z
LAST-MODIFIED:20260105T163708Z
UID:10000374-1805310000-1805313600@www.cwclife.com
SUMMARY:Mid-Week Service
DESCRIPTION:
URL:https://www.cwclife.com/event/mid-week-service/2027-03-17/
LOCATION:Christian Worship Center\, 201 W 22nd St.\, Lombard\, IL\, IL\, 60148\, United States
ATTACH;FMTTYPE=image/png:https://www.cwclife.com/wp-content/uploads/2025/05/New-MidWeek-Slide.png
END:VEVENT
BEGIN:VEVENT
DTSTART;TZID=America/Chicago:20270324T190000
DTEND;TZID=America/Chicago:20270324T200000
DTSTAMP:20260420T061541
CREATED:20250522T202627Z
LAST-MODIFIED:20260105T163708Z
UID:10000375-1805914800-1805918400@www.cwclife.com
SUMMARY:Mid-Week Service
DESCRIPTION:
URL:https://www.cwclife.com/event/mid-week-service/2027-03-24/
LOCATION:Christian Worship Center\, 201 W 22nd St.\, Lombard\, IL\, IL\, 60148\, United States
ATTACH;FMTTYPE=image/png:https://www.cwclife.com/wp-content/uploads/2025/05/New-MidWeek-Slide.png
END:VEVENT
BEGIN:VEVENT
DTSTART;TZID=America/Chicago:20270331T190000
DTEND;TZID=America/Chicago:20270331T200000
DTSTAMP:20260420T061541
CREATED:20250522T202627Z
LAST-MODIFIED:20260105T163708Z
UID:10000376-1806519600-1806523200@www.cwclife.com
SUMMARY:Mid-Week Service
DESCRIPTION:
URL:https://www.cwclife.com/event/mid-week-service/2027-03-31/
LOCATION:Christian Worship Center\, 201 W 22nd St.\, Lombard\, IL\, IL\, 60148\, United States
ATTACH;FMTTYPE=image/png:https://www.cwclife.com/wp-content/uploads/2025/05/New-MidWeek-Slide.png
END:VEVENT
BEGIN:VEVENT
DTSTART;TZID=America/Chicago:20270407T190000
DTEND;TZID=America/Chicago:20270407T200000
DTSTAMP:20260420T061541
CREATED:20250522T202627Z
LAST-MODIFIED:20260105T163708Z
UID:10000377-1807124400-1807128000@www.cwclife.com
SUMMARY:Mid-Week Service
DESCRIPTION:
URL:https://www.cwclife.com/event/mid-week-service/2027-04-07/
LOCATION:Christian Worship Center\, 201 W 22nd St.\, Lombard\, IL\, IL\, 60148\, United States
ATTACH;FMTTYPE=image/png:https://www.cwclife.com/wp-content/uploads/2025/05/New-MidWeek-Slide.png
END:VEVENT
END:VCALENDAR