BEGIN:VCALENDAR
VERSION:2.0
PRODID:-//Christian Worship Center Church - ECPv6.15.20//NONSGML v1.0//EN
CALSCALE:GREGORIAN
METHOD:PUBLISH
X-ORIGINAL-URL:https://www.cwclife.com
X-WR-CALDESC:Events for Christian Worship Center Church
REFRESH-INTERVAL;VALUE=DURATION:PT1H
X-Robots-Tag:noindex
X-PUBLISHED-TTL:PT1H
BEGIN:VTIMEZONE
TZID:America/Chicago
BEGIN:DAYLIGHT
TZOFFSETFROM:-0600
TZOFFSETTO:-0500
TZNAME:CDT
DTSTART:20240310T080000
END:DAYLIGHT
BEGIN:STANDARD
TZOFFSETFROM:-0500
TZOFFSETTO:-0600
TZNAME:CST
DTSTART:20241103T070000
END:STANDARD
BEGIN:DAYLIGHT
TZOFFSETFROM:-0600
TZOFFSETTO:-0500
TZNAME:CDT
DTSTART:20250309T080000
END:DAYLIGHT
BEGIN:STANDARD
TZOFFSETFROM:-0500
TZOFFSETTO:-0600
TZNAME:CST
DTSTART:20251102T070000
END:STANDARD
BEGIN:DAYLIGHT
TZOFFSETFROM:-0600
TZOFFSETTO:-0500
TZNAME:CDT
DTSTART:20260308T080000
END:DAYLIGHT
BEGIN:STANDARD
TZOFFSETFROM:-0500
TZOFFSETTO:-0600
TZNAME:CST
DTSTART:20261101T070000
END:STANDARD
END:VTIMEZONE
BEGIN:VEVENT
DTSTART;TZID=America/Chicago:20250907T100000
DTEND;TZID=America/Chicago:20250907T120000
DTSTAMP:20260420T111059
CREATED:20250825T154815Z
LAST-MODIFIED:20260106T015831Z
UID:10001247-1757239200-1757246400@www.cwclife.com
SUMMARY:All In Sunday
DESCRIPTION:Join us this September 7th for an All In Sunday with baptisms\, cookout and a Serving fair! Looking to get baptized? Sign up HERE.
URL:https://www.cwclife.com/event/all-in-sunday/
LOCATION:Christian Worship Center\, 201 W 22nd St.\, Lombard\, IL\, IL\, 60148\, United States
ATTACH;FMTTYPE=image/png:https://www.cwclife.com/wp-content/uploads/2025/08/All-In-Sunday-082525.png
END:VEVENT
BEGIN:VEVENT
DTSTART;TZID=America/Chicago:20250903T190000
DTEND;TZID=America/Chicago:20250903T200000
DTSTAMP:20260420T111059
CREATED:20250522T202627Z
LAST-MODIFIED:20260105T163708Z
UID:10000294-1756926000-1756929600@www.cwclife.com
SUMMARY:Mid-Week Service
DESCRIPTION:
URL:https://www.cwclife.com/event/mid-week-service/2025-09-03/
LOCATION:Christian Worship Center\, 201 W 22nd St.\, Lombard\, IL\, IL\, 60148\, United States
ATTACH;FMTTYPE=image/png:https://www.cwclife.com/wp-content/uploads/2025/05/New-MidWeek-Slide.png
END:VEVENT
BEGIN:VEVENT
DTSTART;TZID=America/Chicago:20250827T190000
DTEND;TZID=America/Chicago:20250827T200000
DTSTAMP:20260420T111059
CREATED:20250522T202627Z
LAST-MODIFIED:20260105T163708Z
UID:10000293-1756321200-1756324800@www.cwclife.com
SUMMARY:Mid-Week Service
DESCRIPTION:
URL:https://www.cwclife.com/event/mid-week-service/2025-08-27/
LOCATION:Christian Worship Center\, 201 W 22nd St.\, Lombard\, IL\, IL\, 60148\, United States
ATTACH;FMTTYPE=image/png:https://www.cwclife.com/wp-content/uploads/2025/05/New-MidWeek-Slide.png
END:VEVENT
BEGIN:VEVENT
DTSTART;TZID=America/Chicago:20250820T190000
DTEND;TZID=America/Chicago:20250820T200000
DTSTAMP:20260420T111059
CREATED:20250522T202627Z
LAST-MODIFIED:20260105T163708Z
UID:10000292-1755716400-1755720000@www.cwclife.com
SUMMARY:Mid-Week Service
DESCRIPTION:
URL:https://www.cwclife.com/event/mid-week-service/2025-08-20/
LOCATION:Christian Worship Center\, 201 W 22nd St.\, Lombard\, IL\, IL\, 60148\, United States
ATTACH;FMTTYPE=image/png:https://www.cwclife.com/wp-content/uploads/2025/05/New-MidWeek-Slide.png
END:VEVENT
BEGIN:VEVENT
DTSTART;TZID=America/Chicago:20250813T190000
DTEND;TZID=America/Chicago:20250813T200000
DTSTAMP:20260420T111059
CREATED:20250522T202627Z
LAST-MODIFIED:20260105T163708Z
UID:10000291-1755111600-1755115200@www.cwclife.com
SUMMARY:Mid-Week Service
DESCRIPTION:
URL:https://www.cwclife.com/event/mid-week-service/2025-08-13/
LOCATION:Christian Worship Center\, 201 W 22nd St.\, Lombard\, IL\, IL\, 60148\, United States
ATTACH;FMTTYPE=image/png:https://www.cwclife.com/wp-content/uploads/2025/05/New-MidWeek-Slide.png
END:VEVENT
BEGIN:VEVENT
DTSTART;TZID=America/Chicago:20250809T080000
DTEND;TZID=America/Chicago:20250809T090000
DTSTAMP:20260420T111059
CREATED:20250727T135131Z
LAST-MODIFIED:20250727T135356Z
UID:10001243-1754726400-1754730000@www.cwclife.com
SUMMARY:Men’s Breakfast
DESCRIPTION:No sign up required
URL:https://www.cwclife.com/event/mens-breakfast/
LOCATION:Christian Worship Center\, 201 W 22nd St.\, Lombard\, IL\, IL\, 60148\, United States
ATTACH;FMTTYPE=image/png:https://www.cwclife.com/wp-content/uploads/2025/07/Mens-Breakfast-Aug-9th.png
END:VEVENT
BEGIN:VEVENT
DTSTART;TZID=America/Chicago:20250806T190000
DTEND;TZID=America/Chicago:20250806T200000
DTSTAMP:20260420T111059
CREATED:20250522T202627Z
LAST-MODIFIED:20260105T163708Z
UID:10000290-1754506800-1754510400@www.cwclife.com
SUMMARY:Mid-Week Service
DESCRIPTION:
URL:https://www.cwclife.com/event/mid-week-service/2025-08-06/
LOCATION:Christian Worship Center\, 201 W 22nd St.\, Lombard\, IL\, IL\, 60148\, United States
ATTACH;FMTTYPE=image/png:https://www.cwclife.com/wp-content/uploads/2025/05/New-MidWeek-Slide.png
END:VEVENT
BEGIN:VEVENT
DTSTART;TZID=America/Chicago:20250730T190000
DTEND;TZID=America/Chicago:20250730T200000
DTSTAMP:20260420T111059
CREATED:20250522T202627Z
LAST-MODIFIED:20260105T163708Z
UID:10000289-1753902000-1753905600@www.cwclife.com
SUMMARY:Mid-Week Service
DESCRIPTION:
URL:https://www.cwclife.com/event/mid-week-service/2025-07-30/
LOCATION:Christian Worship Center\, 201 W 22nd St.\, Lombard\, IL\, IL\, 60148\, United States
ATTACH;FMTTYPE=image/png:https://www.cwclife.com/wp-content/uploads/2025/05/New-MidWeek-Slide.png
END:VEVENT
BEGIN:VEVENT
DTSTART;TZID=America/Chicago:20250723T190000
DTEND;TZID=America/Chicago:20250723T200000
DTSTAMP:20260420T111059
CREATED:20250522T202627Z
LAST-MODIFIED:20260105T163708Z
UID:10000288-1753297200-1753300800@www.cwclife.com
SUMMARY:Mid-Week Service
DESCRIPTION:
URL:https://www.cwclife.com/event/mid-week-service/2025-07-23/
LOCATION:Christian Worship Center\, 201 W 22nd St.\, Lombard\, IL\, IL\, 60148\, United States
ATTACH;FMTTYPE=image/png:https://www.cwclife.com/wp-content/uploads/2025/05/New-MidWeek-Slide.png
END:VEVENT
BEGIN:VEVENT
DTSTART;TZID=America/Chicago:20250718T190000
DTEND;TZID=America/Chicago:20250718T220000
DTSTAMP:20260420T111059
CREATED:20250703T231041Z
LAST-MODIFIED:20250703T231041Z
UID:10000862-1752865200-1752876000@www.cwclife.com
SUMMARY:Men's Meat Extravaganza
DESCRIPTION:Click HERE to sign up
URL:https://www.cwclife.com/event/mens-meat-extravaganza/
LOCATION:Christian Worship Center\, 201 W 22nd St.\, Lombard\, IL\, IL\, 60148\, United States
ATTACH;FMTTYPE=image/png:https://www.cwclife.com/wp-content/uploads/2025/07/Mens-Meat-Extravaganza-Slide.png
END:VEVENT
BEGIN:VEVENT
DTSTART;TZID=America/Chicago:20250716T190000
DTEND;TZID=America/Chicago:20250716T200000
DTSTAMP:20260420T111059
CREATED:20250522T202627Z
LAST-MODIFIED:20260105T163708Z
UID:10000287-1752692400-1752696000@www.cwclife.com
SUMMARY:Mid-Week Service
DESCRIPTION:
URL:https://www.cwclife.com/event/mid-week-service/2025-07-16/
LOCATION:Christian Worship Center\, 201 W 22nd St.\, Lombard\, IL\, IL\, 60148\, United States
ATTACH;FMTTYPE=image/png:https://www.cwclife.com/wp-content/uploads/2025/05/New-MidWeek-Slide.png
END:VEVENT
BEGIN:VEVENT
DTSTART;TZID=America/Chicago:20250713T100000
DTEND;TZID=America/Chicago:20250713T120000
DTSTAMP:20260420T111059
CREATED:20250703T231240Z
LAST-MODIFIED:20250703T231240Z
UID:10000863-1752400800-1752408000@www.cwclife.com
SUMMARY:Missions Sunday
DESCRIPTION:
URL:https://www.cwclife.com/event/missions-sunday/
LOCATION:Christian Worship Center\, 201 W 22nd St.\, Lombard\, IL\, IL\, 60148\, United States
ATTACH;FMTTYPE=image/png:https://www.cwclife.com/wp-content/uploads/2025/07/Missions-Sunday-Slide.png
END:VEVENT
BEGIN:VEVENT
DTSTART;TZID=America/Chicago:20250711T190000
DTEND;TZID=America/Chicago:20250711T200000
DTSTAMP:20260420T111059
CREATED:20250713T213601Z
LAST-MODIFIED:20250713T213602Z
UID:10001241-1752260400-1752264000@www.cwclife.com
SUMMARY:Mexico Missions Zoom
DESCRIPTION:One Tap Mobile number : +13126266799\,\,3856755847#\,\,\,\,*370131#
URL:https://www.cwclife.com/event/mexico-missions-zoom-2/2025-07-11/
LOCATION:Online Zoom Call
ATTACH;FMTTYPE=image/png:https://www.cwclife.com/wp-content/uploads/2025/07/Mexico-Missions-Zoom-Prayer-Slide.png
END:VEVENT
BEGIN:VEVENT
DTSTART;TZID=America/Chicago:20250710T190000
DTEND;TZID=America/Chicago:20250710T200000
DTSTAMP:20260420T111059
CREATED:20250713T213601Z
LAST-MODIFIED:20250713T213602Z
UID:10001240-1752174000-1752177600@www.cwclife.com
SUMMARY:Mexico Missions Zoom
DESCRIPTION:One Tap Mobile number : +13126266799\,\,3856755847#\,\,\,\,*370131#
URL:https://www.cwclife.com/event/mexico-missions-zoom-2/2025-07-10/
LOCATION:Online Zoom Call
ATTACH;FMTTYPE=image/png:https://www.cwclife.com/wp-content/uploads/2025/07/Mexico-Missions-Zoom-Prayer-Slide.png
END:VEVENT
BEGIN:VEVENT
DTSTART;TZID=America/Chicago:20250709T190000
DTEND;TZID=America/Chicago:20250709T200000
DTSTAMP:20260420T111059
CREATED:20250522T202627Z
LAST-MODIFIED:20260105T163708Z
UID:10000286-1752087600-1752091200@www.cwclife.com
SUMMARY:Mid-Week Service
DESCRIPTION:
URL:https://www.cwclife.com/event/mid-week-service/2025-07-09/
LOCATION:Christian Worship Center\, 201 W 22nd St.\, Lombard\, IL\, IL\, 60148\, United States
ATTACH;FMTTYPE=image/png:https://www.cwclife.com/wp-content/uploads/2025/05/New-MidWeek-Slide.png
END:VEVENT
BEGIN:VEVENT
DTSTART;TZID=America/Chicago:20250708T190000
DTEND;TZID=America/Chicago:20250708T200000
DTSTAMP:20260420T111059
CREATED:20250713T213601Z
LAST-MODIFIED:20250713T213602Z
UID:10001239-1752001200-1752004800@www.cwclife.com
SUMMARY:Mexico Missions Zoom
DESCRIPTION:One Tap Mobile number : +13126266799\,\,3856755847#\,\,\,\,*370131#
URL:https://www.cwclife.com/event/mexico-missions-zoom-2/2025-07-08/
LOCATION:Online Zoom Call
ATTACH;FMTTYPE=image/png:https://www.cwclife.com/wp-content/uploads/2025/07/Mexico-Missions-Zoom-Prayer-Slide.png
END:VEVENT
BEGIN:VEVENT
DTSTART;TZID=America/Chicago:20250707T190000
DTEND;TZID=America/Chicago:20250707T200000
DTSTAMP:20260420T111059
CREATED:20250713T213601Z
LAST-MODIFIED:20250713T213602Z
UID:10001238-1751914800-1751918400@www.cwclife.com
SUMMARY:Mexico Missions Zoom
DESCRIPTION:One Tap Mobile number : +13126266799\,\,3856755847#\,\,\,\,*370131#
URL:https://www.cwclife.com/event/mexico-missions-zoom-2/2025-07-07/
LOCATION:Online Zoom Call
ATTACH;FMTTYPE=image/png:https://www.cwclife.com/wp-content/uploads/2025/07/Mexico-Missions-Zoom-Prayer-Slide.png
END:VEVENT
BEGIN:VEVENT
DTSTART;TZID=America/Chicago:20250706T190000
DTEND;TZID=America/Chicago:20250706T200000
DTSTAMP:20260420T111059
CREATED:20250713T213601Z
LAST-MODIFIED:20250713T213602Z
UID:10001237-1751828400-1751832000@www.cwclife.com
SUMMARY:Mexico Missions Zoom
DESCRIPTION:One Tap Mobile number : +13126266799\,\,3856755847#\,\,\,\,*370131#
URL:https://www.cwclife.com/event/mexico-missions-zoom-2/2025-07-06/
LOCATION:Online Zoom Call
ATTACH;FMTTYPE=image/png:https://www.cwclife.com/wp-content/uploads/2025/07/Mexico-Missions-Zoom-Prayer-Slide.png
END:VEVENT
BEGIN:VEVENT
DTSTART;TZID=America/Chicago:20250705T190000
DTEND;TZID=America/Chicago:20250705T200000
DTSTAMP:20260420T111059
CREATED:20250713T213601Z
LAST-MODIFIED:20250713T213602Z
UID:10001236-1751742000-1751745600@www.cwclife.com
SUMMARY:Mexico Missions Zoom
DESCRIPTION:One Tap Mobile number : +13126266799\,\,3856755847#\,\,\,\,*370131#
URL:https://www.cwclife.com/event/mexico-missions-zoom-2/2025-07-05/
LOCATION:Online Zoom Call
ATTACH;FMTTYPE=image/png:https://www.cwclife.com/wp-content/uploads/2025/07/Mexico-Missions-Zoom-Prayer-Slide.png
END:VEVENT
BEGIN:VEVENT
DTSTART;TZID=America/Chicago:20250704T190000
DTEND;TZID=America/Chicago:20250704T200000
DTSTAMP:20260420T111059
CREATED:20250713T213601Z
LAST-MODIFIED:20250713T213602Z
UID:10000872-1751655600-1751659200@www.cwclife.com
SUMMARY:Mexico Missions Zoom
DESCRIPTION:One Tap Mobile number : +13126266799\,\,3856755847#\,\,\,\,*370131#
URL:https://www.cwclife.com/event/mexico-missions-zoom-2/2025-07-04/
LOCATION:Online Zoom Call
ATTACH;FMTTYPE=image/png:https://www.cwclife.com/wp-content/uploads/2025/07/Mexico-Missions-Zoom-Prayer-Slide.png
END:VEVENT
BEGIN:VEVENT
DTSTART;TZID=America/Chicago:20250702T190000
DTEND;TZID=America/Chicago:20250702T200000
DTSTAMP:20260420T111059
CREATED:20250522T202627Z
LAST-MODIFIED:20260105T163708Z
UID:10000285-1751482800-1751486400@www.cwclife.com
SUMMARY:Mid-Week Service
DESCRIPTION:
URL:https://www.cwclife.com/event/mid-week-service/2025-07-02/
LOCATION:Christian Worship Center\, 201 W 22nd St.\, Lombard\, IL\, IL\, 60148\, United States
ATTACH;FMTTYPE=image/png:https://www.cwclife.com/wp-content/uploads/2025/05/New-MidWeek-Slide.png
END:VEVENT
BEGIN:VEVENT
DTSTART;TZID=America/Chicago:20250625T190000
DTEND;TZID=America/Chicago:20250625T200000
DTSTAMP:20260420T111059
CREATED:20250522T202627Z
LAST-MODIFIED:20260105T163708Z
UID:10000284-1750878000-1750881600@www.cwclife.com
SUMMARY:Mid-Week Service
DESCRIPTION:
URL:https://www.cwclife.com/event/mid-week-service/2025-06-25/
LOCATION:Christian Worship Center\, 201 W 22nd St.\, Lombard\, IL\, IL\, 60148\, United States
ATTACH;FMTTYPE=image/png:https://www.cwclife.com/wp-content/uploads/2025/05/New-MidWeek-Slide.png
END:VEVENT
BEGIN:VEVENT
DTSTART;TZID=America/Chicago:20250618T190000
DTEND;TZID=America/Chicago:20250618T200000
DTSTAMP:20260420T111059
CREATED:20250522T202627Z
LAST-MODIFIED:20260105T163708Z
UID:10000283-1750273200-1750276800@www.cwclife.com
SUMMARY:Mid-Week Service
DESCRIPTION:
URL:https://www.cwclife.com/event/mid-week-service/2025-06-18/
LOCATION:Christian Worship Center\, 201 W 22nd St.\, Lombard\, IL\, IL\, 60148\, United States
ATTACH;FMTTYPE=image/png:https://www.cwclife.com/wp-content/uploads/2025/05/New-MidWeek-Slide.png
END:VEVENT
BEGIN:VEVENT
DTSTART;TZID=America/Chicago:20250611T190000
DTEND;TZID=America/Chicago:20250611T200000
DTSTAMP:20260420T111059
CREATED:20250522T202627Z
LAST-MODIFIED:20260105T163708Z
UID:10000282-1749668400-1749672000@www.cwclife.com
SUMMARY:Mid-Week Service
DESCRIPTION:
URL:https://www.cwclife.com/event/mid-week-service/2025-06-11/
LOCATION:Christian Worship Center\, 201 W 22nd St.\, Lombard\, IL\, IL\, 60148\, United States
ATTACH;FMTTYPE=image/png:https://www.cwclife.com/wp-content/uploads/2025/05/New-MidWeek-Slide.png
END:VEVENT
BEGIN:VEVENT
DTSTART;TZID=America/Chicago:20250604T190000
DTEND;TZID=America/Chicago:20250604T200000
DTSTAMP:20260420T111059
CREATED:20250522T202627Z
LAST-MODIFIED:20260105T163708Z
UID:10000281-1749063600-1749067200@www.cwclife.com
SUMMARY:Mid-Week Service
DESCRIPTION:
URL:https://www.cwclife.com/event/mid-week-service/2025-06-04/
LOCATION:Christian Worship Center\, 201 W 22nd St.\, Lombard\, IL\, IL\, 60148\, United States
ATTACH;FMTTYPE=image/png:https://www.cwclife.com/wp-content/uploads/2025/05/New-MidWeek-Slide.png
END:VEVENT
BEGIN:VEVENT
DTSTART;TZID=America/Chicago:20250528T190000
DTEND;TZID=America/Chicago:20250528T200000
DTSTAMP:20260420T111059
CREATED:20250522T202627Z
LAST-MODIFIED:20260105T163708Z
UID:10000280-1748458800-1748462400@www.cwclife.com
SUMMARY:Mid-Week Service
DESCRIPTION:
URL:https://www.cwclife.com/event/mid-week-service/2025-05-28/
LOCATION:Christian Worship Center\, 201 W 22nd St.\, Lombard\, IL\, IL\, 60148\, United States
ATTACH;FMTTYPE=image/png:https://www.cwclife.com/wp-content/uploads/2025/05/New-MidWeek-Slide.png
END:VEVENT
END:VCALENDAR