BEGIN:VCALENDAR
VERSION:2.0
PRODID:-//Christian Worship Center Church - ECPv6.15.20//NONSGML v1.0//EN
CALSCALE:GREGORIAN
METHOD:PUBLISH
X-WR-CALNAME:Christian Worship Center Church
X-ORIGINAL-URL:https://www.cwclife.com
X-WR-CALDESC:Events for Christian Worship Center Church
REFRESH-INTERVAL;VALUE=DURATION:PT1H
X-Robots-Tag:noindex
X-PUBLISHED-TTL:PT1H
BEGIN:VTIMEZONE
TZID:America/Chicago
BEGIN:DAYLIGHT
TZOFFSETFROM:-0600
TZOFFSETTO:-0500
TZNAME:CDT
DTSTART:20260308T080000
END:DAYLIGHT
BEGIN:STANDARD
TZOFFSETFROM:-0500
TZOFFSETTO:-0600
TZNAME:CST
DTSTART:20261101T070000
END:STANDARD
BEGIN:DAYLIGHT
TZOFFSETFROM:-0600
TZOFFSETTO:-0500
TZNAME:CDT
DTSTART:20270314T080000
END:DAYLIGHT
BEGIN:STANDARD
TZOFFSETFROM:-0500
TZOFFSETTO:-0600
TZNAME:CST
DTSTART:20271107T070000
END:STANDARD
BEGIN:DAYLIGHT
TZOFFSETFROM:-0600
TZOFFSETTO:-0500
TZNAME:CDT
DTSTART:20280312T080000
END:DAYLIGHT
BEGIN:STANDARD
TZOFFSETFROM:-0500
TZOFFSETTO:-0600
TZNAME:CST
DTSTART:20281105T070000
END:STANDARD
END:VTIMEZONE
BEGIN:VEVENT
DTSTART;TZID=America/Chicago:20270303T190000
DTEND;TZID=America/Chicago:20270303T200000
DTSTAMP:20260420T091136
CREATED:20250522T202627Z
LAST-MODIFIED:20260105T163708Z
UID:10000372-1804100400-1804104000@www.cwclife.com
SUMMARY:Mid-Week Service
DESCRIPTION:
URL:https://www.cwclife.com/event/mid-week-service/2027-03-03/
LOCATION:Christian Worship Center\, 201 W 22nd St.\, Lombard\, IL\, IL\, 60148\, United States
ATTACH;FMTTYPE=image/png:https://www.cwclife.com/wp-content/uploads/2025/05/New-MidWeek-Slide.png
END:VEVENT
BEGIN:VEVENT
DTSTART;TZID=America/Chicago:20270310T190000
DTEND;TZID=America/Chicago:20270310T200000
DTSTAMP:20260420T091136
CREATED:20250522T202627Z
LAST-MODIFIED:20260105T163708Z
UID:10000373-1804705200-1804708800@www.cwclife.com
SUMMARY:Mid-Week Service
DESCRIPTION:
URL:https://www.cwclife.com/event/mid-week-service/2027-03-10/
LOCATION:Christian Worship Center\, 201 W 22nd St.\, Lombard\, IL\, IL\, 60148\, United States
ATTACH;FMTTYPE=image/png:https://www.cwclife.com/wp-content/uploads/2025/05/New-MidWeek-Slide.png
END:VEVENT
BEGIN:VEVENT
DTSTART;TZID=America/Chicago:20270317T190000
DTEND;TZID=America/Chicago:20270317T200000
DTSTAMP:20260420T091136
CREATED:20250522T202627Z
LAST-MODIFIED:20260105T163708Z
UID:10000374-1805310000-1805313600@www.cwclife.com
SUMMARY:Mid-Week Service
DESCRIPTION:
URL:https://www.cwclife.com/event/mid-week-service/2027-03-17/
LOCATION:Christian Worship Center\, 201 W 22nd St.\, Lombard\, IL\, IL\, 60148\, United States
ATTACH;FMTTYPE=image/png:https://www.cwclife.com/wp-content/uploads/2025/05/New-MidWeek-Slide.png
END:VEVENT
BEGIN:VEVENT
DTSTART;TZID=America/Chicago:20270324T190000
DTEND;TZID=America/Chicago:20270324T200000
DTSTAMP:20260420T091136
CREATED:20250522T202627Z
LAST-MODIFIED:20260105T163708Z
UID:10000375-1805914800-1805918400@www.cwclife.com
SUMMARY:Mid-Week Service
DESCRIPTION:
URL:https://www.cwclife.com/event/mid-week-service/2027-03-24/
LOCATION:Christian Worship Center\, 201 W 22nd St.\, Lombard\, IL\, IL\, 60148\, United States
ATTACH;FMTTYPE=image/png:https://www.cwclife.com/wp-content/uploads/2025/05/New-MidWeek-Slide.png
END:VEVENT
BEGIN:VEVENT
DTSTART;TZID=America/Chicago:20270331T190000
DTEND;TZID=America/Chicago:20270331T200000
DTSTAMP:20260420T091136
CREATED:20250522T202627Z
LAST-MODIFIED:20260105T163708Z
UID:10000376-1806519600-1806523200@www.cwclife.com
SUMMARY:Mid-Week Service
DESCRIPTION:
URL:https://www.cwclife.com/event/mid-week-service/2027-03-31/
LOCATION:Christian Worship Center\, 201 W 22nd St.\, Lombard\, IL\, IL\, 60148\, United States
ATTACH;FMTTYPE=image/png:https://www.cwclife.com/wp-content/uploads/2025/05/New-MidWeek-Slide.png
END:VEVENT
BEGIN:VEVENT
DTSTART;TZID=America/Chicago:20270407T190000
DTEND;TZID=America/Chicago:20270407T200000
DTSTAMP:20260420T091136
CREATED:20250522T202627Z
LAST-MODIFIED:20260105T163708Z
UID:10000377-1807124400-1807128000@www.cwclife.com
SUMMARY:Mid-Week Service
DESCRIPTION:
URL:https://www.cwclife.com/event/mid-week-service/2027-04-07/
LOCATION:Christian Worship Center\, 201 W 22nd St.\, Lombard\, IL\, IL\, 60148\, United States
ATTACH;FMTTYPE=image/png:https://www.cwclife.com/wp-content/uploads/2025/05/New-MidWeek-Slide.png
END:VEVENT
BEGIN:VEVENT
DTSTART;TZID=America/Chicago:20270414T190000
DTEND;TZID=America/Chicago:20270414T200000
DTSTAMP:20260420T091137
CREATED:20250522T202627Z
LAST-MODIFIED:20260105T163708Z
UID:10000378-1807729200-1807732800@www.cwclife.com
SUMMARY:Mid-Week Service
DESCRIPTION:
URL:https://www.cwclife.com/event/mid-week-service/2027-04-14/
LOCATION:Christian Worship Center\, 201 W 22nd St.\, Lombard\, IL\, IL\, 60148\, United States
ATTACH;FMTTYPE=image/png:https://www.cwclife.com/wp-content/uploads/2025/05/New-MidWeek-Slide.png
END:VEVENT
BEGIN:VEVENT
DTSTART;TZID=America/Chicago:20270421T190000
DTEND;TZID=America/Chicago:20270421T200000
DTSTAMP:20260420T091137
CREATED:20250522T202627Z
LAST-MODIFIED:20260105T163708Z
UID:10000379-1808334000-1808337600@www.cwclife.com
SUMMARY:Mid-Week Service
DESCRIPTION:
URL:https://www.cwclife.com/event/mid-week-service/2027-04-21/
LOCATION:Christian Worship Center\, 201 W 22nd St.\, Lombard\, IL\, IL\, 60148\, United States
ATTACH;FMTTYPE=image/png:https://www.cwclife.com/wp-content/uploads/2025/05/New-MidWeek-Slide.png
END:VEVENT
BEGIN:VEVENT
DTSTART;TZID=America/Chicago:20270428T190000
DTEND;TZID=America/Chicago:20270428T200000
DTSTAMP:20260420T091137
CREATED:20250522T202627Z
LAST-MODIFIED:20260105T163708Z
UID:10000380-1808938800-1808942400@www.cwclife.com
SUMMARY:Mid-Week Service
DESCRIPTION:
URL:https://www.cwclife.com/event/mid-week-service/2027-04-28/
LOCATION:Christian Worship Center\, 201 W 22nd St.\, Lombard\, IL\, IL\, 60148\, United States
ATTACH;FMTTYPE=image/png:https://www.cwclife.com/wp-content/uploads/2025/05/New-MidWeek-Slide.png
END:VEVENT
BEGIN:VEVENT
DTSTART;TZID=America/Chicago:20270505T190000
DTEND;TZID=America/Chicago:20270505T200000
DTSTAMP:20260420T091137
CREATED:20250522T202627Z
LAST-MODIFIED:20260105T163708Z
UID:10000381-1809543600-1809547200@www.cwclife.com
SUMMARY:Mid-Week Service
DESCRIPTION:
URL:https://www.cwclife.com/event/mid-week-service/2027-05-05/
LOCATION:Christian Worship Center\, 201 W 22nd St.\, Lombard\, IL\, IL\, 60148\, United States
ATTACH;FMTTYPE=image/png:https://www.cwclife.com/wp-content/uploads/2025/05/New-MidWeek-Slide.png
END:VEVENT
BEGIN:VEVENT
DTSTART;TZID=America/Chicago:20270512T190000
DTEND;TZID=America/Chicago:20270512T200000
DTSTAMP:20260420T091137
CREATED:20250522T202627Z
LAST-MODIFIED:20260105T163708Z
UID:10000382-1810148400-1810152000@www.cwclife.com
SUMMARY:Mid-Week Service
DESCRIPTION:
URL:https://www.cwclife.com/event/mid-week-service/2027-05-12/
LOCATION:Christian Worship Center\, 201 W 22nd St.\, Lombard\, IL\, IL\, 60148\, United States
ATTACH;FMTTYPE=image/png:https://www.cwclife.com/wp-content/uploads/2025/05/New-MidWeek-Slide.png
END:VEVENT
BEGIN:VEVENT
DTSTART;TZID=America/Chicago:20270519T190000
DTEND;TZID=America/Chicago:20270519T200000
DTSTAMP:20260420T091137
CREATED:20250522T202627Z
LAST-MODIFIED:20260105T163708Z
UID:10000383-1810753200-1810756800@www.cwclife.com
SUMMARY:Mid-Week Service
DESCRIPTION:
URL:https://www.cwclife.com/event/mid-week-service/2027-05-19/
LOCATION:Christian Worship Center\, 201 W 22nd St.\, Lombard\, IL\, IL\, 60148\, United States
ATTACH;FMTTYPE=image/png:https://www.cwclife.com/wp-content/uploads/2025/05/New-MidWeek-Slide.png
END:VEVENT
BEGIN:VEVENT
DTSTART;TZID=America/Chicago:20270526T190000
DTEND;TZID=America/Chicago:20270526T200000
DTSTAMP:20260420T091137
CREATED:20250522T202627Z
LAST-MODIFIED:20260105T163708Z
UID:10000384-1811358000-1811361600@www.cwclife.com
SUMMARY:Mid-Week Service
DESCRIPTION:
URL:https://www.cwclife.com/event/mid-week-service/2027-05-26/
LOCATION:Christian Worship Center\, 201 W 22nd St.\, Lombard\, IL\, IL\, 60148\, United States
ATTACH;FMTTYPE=image/png:https://www.cwclife.com/wp-content/uploads/2025/05/New-MidWeek-Slide.png
END:VEVENT
BEGIN:VEVENT
DTSTART;TZID=America/Chicago:20270602T190000
DTEND;TZID=America/Chicago:20270602T200000
DTSTAMP:20260420T091137
CREATED:20250522T202627Z
LAST-MODIFIED:20260105T163708Z
UID:10000385-1811962800-1811966400@www.cwclife.com
SUMMARY:Mid-Week Service
DESCRIPTION:
URL:https://www.cwclife.com/event/mid-week-service/2027-06-02/
LOCATION:Christian Worship Center\, 201 W 22nd St.\, Lombard\, IL\, IL\, 60148\, United States
ATTACH;FMTTYPE=image/png:https://www.cwclife.com/wp-content/uploads/2025/05/New-MidWeek-Slide.png
END:VEVENT
BEGIN:VEVENT
DTSTART;TZID=America/Chicago:20270609T190000
DTEND;TZID=America/Chicago:20270609T200000
DTSTAMP:20260420T091137
CREATED:20250522T202627Z
LAST-MODIFIED:20260105T163708Z
UID:10000386-1812567600-1812571200@www.cwclife.com
SUMMARY:Mid-Week Service
DESCRIPTION:
URL:https://www.cwclife.com/event/mid-week-service/2027-06-09/
LOCATION:Christian Worship Center\, 201 W 22nd St.\, Lombard\, IL\, IL\, 60148\, United States
ATTACH;FMTTYPE=image/png:https://www.cwclife.com/wp-content/uploads/2025/05/New-MidWeek-Slide.png
END:VEVENT
BEGIN:VEVENT
DTSTART;TZID=America/Chicago:20270616T190000
DTEND;TZID=America/Chicago:20270616T200000
DTSTAMP:20260420T091137
CREATED:20250522T202627Z
LAST-MODIFIED:20260105T163708Z
UID:10000387-1813172400-1813176000@www.cwclife.com
SUMMARY:Mid-Week Service
DESCRIPTION:
URL:https://www.cwclife.com/event/mid-week-service/2027-06-16/
LOCATION:Christian Worship Center\, 201 W 22nd St.\, Lombard\, IL\, IL\, 60148\, United States
ATTACH;FMTTYPE=image/png:https://www.cwclife.com/wp-content/uploads/2025/05/New-MidWeek-Slide.png
END:VEVENT
BEGIN:VEVENT
DTSTART;TZID=America/Chicago:20270623T190000
DTEND;TZID=America/Chicago:20270623T200000
DTSTAMP:20260420T091137
CREATED:20250522T202627Z
LAST-MODIFIED:20260105T163708Z
UID:10000388-1813777200-1813780800@www.cwclife.com
SUMMARY:Mid-Week Service
DESCRIPTION:
URL:https://www.cwclife.com/event/mid-week-service/2027-06-23/
LOCATION:Christian Worship Center\, 201 W 22nd St.\, Lombard\, IL\, IL\, 60148\, United States
ATTACH;FMTTYPE=image/png:https://www.cwclife.com/wp-content/uploads/2025/05/New-MidWeek-Slide.png
END:VEVENT
BEGIN:VEVENT
DTSTART;TZID=America/Chicago:20270630T190000
DTEND;TZID=America/Chicago:20270630T200000
DTSTAMP:20260420T091137
CREATED:20250522T202627Z
LAST-MODIFIED:20260105T163708Z
UID:10000389-1814382000-1814385600@www.cwclife.com
SUMMARY:Mid-Week Service
DESCRIPTION:
URL:https://www.cwclife.com/event/mid-week-service/2027-06-30/
LOCATION:Christian Worship Center\, 201 W 22nd St.\, Lombard\, IL\, IL\, 60148\, United States
ATTACH;FMTTYPE=image/png:https://www.cwclife.com/wp-content/uploads/2025/05/New-MidWeek-Slide.png
END:VEVENT
BEGIN:VEVENT
DTSTART;TZID=America/Chicago:20270707T190000
DTEND;TZID=America/Chicago:20270707T200000
DTSTAMP:20260420T091137
CREATED:20250522T202627Z
LAST-MODIFIED:20260105T163708Z
UID:10000390-1814986800-1814990400@www.cwclife.com
SUMMARY:Mid-Week Service
DESCRIPTION:
URL:https://www.cwclife.com/event/mid-week-service/2027-07-07/
LOCATION:Christian Worship Center\, 201 W 22nd St.\, Lombard\, IL\, IL\, 60148\, United States
ATTACH;FMTTYPE=image/png:https://www.cwclife.com/wp-content/uploads/2025/05/New-MidWeek-Slide.png
END:VEVENT
BEGIN:VEVENT
DTSTART;TZID=America/Chicago:20270714T190000
DTEND;TZID=America/Chicago:20270714T200000
DTSTAMP:20260420T091137
CREATED:20250522T202627Z
LAST-MODIFIED:20260105T163708Z
UID:10000391-1815591600-1815595200@www.cwclife.com
SUMMARY:Mid-Week Service
DESCRIPTION:
URL:https://www.cwclife.com/event/mid-week-service/2027-07-14/
LOCATION:Christian Worship Center\, 201 W 22nd St.\, Lombard\, IL\, IL\, 60148\, United States
ATTACH;FMTTYPE=image/png:https://www.cwclife.com/wp-content/uploads/2025/05/New-MidWeek-Slide.png
END:VEVENT
BEGIN:VEVENT
DTSTART;TZID=America/Chicago:20270721T190000
DTEND;TZID=America/Chicago:20270721T200000
DTSTAMP:20260420T091137
CREATED:20250522T202627Z
LAST-MODIFIED:20260105T163708Z
UID:10000392-1816196400-1816200000@www.cwclife.com
SUMMARY:Mid-Week Service
DESCRIPTION:
URL:https://www.cwclife.com/event/mid-week-service/2027-07-21/
LOCATION:Christian Worship Center\, 201 W 22nd St.\, Lombard\, IL\, IL\, 60148\, United States
ATTACH;FMTTYPE=image/png:https://www.cwclife.com/wp-content/uploads/2025/05/New-MidWeek-Slide.png
END:VEVENT
BEGIN:VEVENT
DTSTART;TZID=America/Chicago:20270728T190000
DTEND;TZID=America/Chicago:20270728T200000
DTSTAMP:20260420T091137
CREATED:20250522T202627Z
LAST-MODIFIED:20260105T163708Z
UID:10000393-1816801200-1816804800@www.cwclife.com
SUMMARY:Mid-Week Service
DESCRIPTION:
URL:https://www.cwclife.com/event/mid-week-service/2027-07-28/
LOCATION:Christian Worship Center\, 201 W 22nd St.\, Lombard\, IL\, IL\, 60148\, United States
ATTACH;FMTTYPE=image/png:https://www.cwclife.com/wp-content/uploads/2025/05/New-MidWeek-Slide.png
END:VEVENT
BEGIN:VEVENT
DTSTART;TZID=America/Chicago:20270804T190000
DTEND;TZID=America/Chicago:20270804T200000
DTSTAMP:20260420T091137
CREATED:20250522T202627Z
LAST-MODIFIED:20260105T163708Z
UID:10000394-1817406000-1817409600@www.cwclife.com
SUMMARY:Mid-Week Service
DESCRIPTION:
URL:https://www.cwclife.com/event/mid-week-service/2027-08-04/
LOCATION:Christian Worship Center\, 201 W 22nd St.\, Lombard\, IL\, IL\, 60148\, United States
ATTACH;FMTTYPE=image/png:https://www.cwclife.com/wp-content/uploads/2025/05/New-MidWeek-Slide.png
END:VEVENT
BEGIN:VEVENT
DTSTART;TZID=America/Chicago:20270811T190000
DTEND;TZID=America/Chicago:20270811T200000
DTSTAMP:20260420T091137
CREATED:20250522T202627Z
LAST-MODIFIED:20260105T163708Z
UID:10000395-1818010800-1818014400@www.cwclife.com
SUMMARY:Mid-Week Service
DESCRIPTION:
URL:https://www.cwclife.com/event/mid-week-service/2027-08-11/
LOCATION:Christian Worship Center\, 201 W 22nd St.\, Lombard\, IL\, IL\, 60148\, United States
ATTACH;FMTTYPE=image/png:https://www.cwclife.com/wp-content/uploads/2025/05/New-MidWeek-Slide.png
END:VEVENT
BEGIN:VEVENT
DTSTART;TZID=America/Chicago:20270818T190000
DTEND;TZID=America/Chicago:20270818T200000
DTSTAMP:20260420T091137
CREATED:20250522T202627Z
LAST-MODIFIED:20260105T163708Z
UID:10000396-1818615600-1818619200@www.cwclife.com
SUMMARY:Mid-Week Service
DESCRIPTION:
URL:https://www.cwclife.com/event/mid-week-service/2027-08-18/
LOCATION:Christian Worship Center\, 201 W 22nd St.\, Lombard\, IL\, IL\, 60148\, United States
ATTACH;FMTTYPE=image/png:https://www.cwclife.com/wp-content/uploads/2025/05/New-MidWeek-Slide.png
END:VEVENT
BEGIN:VEVENT
DTSTART;TZID=America/Chicago:20270825T190000
DTEND;TZID=America/Chicago:20270825T200000
DTSTAMP:20260420T091137
CREATED:20250522T202627Z
LAST-MODIFIED:20260105T163708Z
UID:10000397-1819220400-1819224000@www.cwclife.com
SUMMARY:Mid-Week Service
DESCRIPTION:
URL:https://www.cwclife.com/event/mid-week-service/2027-08-25/
LOCATION:Christian Worship Center\, 201 W 22nd St.\, Lombard\, IL\, IL\, 60148\, United States
ATTACH;FMTTYPE=image/png:https://www.cwclife.com/wp-content/uploads/2025/05/New-MidWeek-Slide.png
END:VEVENT
BEGIN:VEVENT
DTSTART;TZID=America/Chicago:20270901T190000
DTEND;TZID=America/Chicago:20270901T200000
DTSTAMP:20260420T091137
CREATED:20250522T202627Z
LAST-MODIFIED:20260105T163708Z
UID:10000398-1819825200-1819828800@www.cwclife.com
SUMMARY:Mid-Week Service
DESCRIPTION:
URL:https://www.cwclife.com/event/mid-week-service/2027-09-01/
LOCATION:Christian Worship Center\, 201 W 22nd St.\, Lombard\, IL\, IL\, 60148\, United States
ATTACH;FMTTYPE=image/png:https://www.cwclife.com/wp-content/uploads/2025/05/New-MidWeek-Slide.png
END:VEVENT
BEGIN:VEVENT
DTSTART;TZID=America/Chicago:20270908T190000
DTEND;TZID=America/Chicago:20270908T200000
DTSTAMP:20260420T091137
CREATED:20250522T202627Z
LAST-MODIFIED:20260105T163708Z
UID:10000399-1820430000-1820433600@www.cwclife.com
SUMMARY:Mid-Week Service
DESCRIPTION:
URL:https://www.cwclife.com/event/mid-week-service/2027-09-08/
LOCATION:Christian Worship Center\, 201 W 22nd St.\, Lombard\, IL\, IL\, 60148\, United States
ATTACH;FMTTYPE=image/png:https://www.cwclife.com/wp-content/uploads/2025/05/New-MidWeek-Slide.png
END:VEVENT
BEGIN:VEVENT
DTSTART;TZID=America/Chicago:20270915T190000
DTEND;TZID=America/Chicago:20270915T200000
DTSTAMP:20260420T091137
CREATED:20250522T202627Z
LAST-MODIFIED:20260105T163708Z
UID:10000400-1821034800-1821038400@www.cwclife.com
SUMMARY:Mid-Week Service
DESCRIPTION:
URL:https://www.cwclife.com/event/mid-week-service/2027-09-15/
LOCATION:Christian Worship Center\, 201 W 22nd St.\, Lombard\, IL\, IL\, 60148\, United States
ATTACH;FMTTYPE=image/png:https://www.cwclife.com/wp-content/uploads/2025/05/New-MidWeek-Slide.png
END:VEVENT
BEGIN:VEVENT
DTSTART;TZID=America/Chicago:20270922T190000
DTEND;TZID=America/Chicago:20270922T200000
DTSTAMP:20260420T091137
CREATED:20250522T202627Z
LAST-MODIFIED:20260105T163708Z
UID:10000401-1821639600-1821643200@www.cwclife.com
SUMMARY:Mid-Week Service
DESCRIPTION:
URL:https://www.cwclife.com/event/mid-week-service/2027-09-22/
LOCATION:Christian Worship Center\, 201 W 22nd St.\, Lombard\, IL\, IL\, 60148\, United States
ATTACH;FMTTYPE=image/png:https://www.cwclife.com/wp-content/uploads/2025/05/New-MidWeek-Slide.png
END:VEVENT
END:VCALENDAR